Index of /checkResults/release/bioc-LATEST/RNAinteract/raw-results
Name
Last modified
Size
Description
Parent Directory
-
info.dcf
12-Dec-2023 01:38
275
kunpeng2/
03-Nov-2023 00:41
-
lconway/
12-Dec-2023 01:38
-
nebbiolo2/
12-Dec-2023 01:36
-
palomino4/
12-Dec-2023 01:37
-