Back to Multiple platform build/check report for BioC 3.18:   simplified   long
ABCDEFGHIJKLMNOPQ[R]STUVWXYZ

This page was generated on 2024-02-28 11:37:10 -0500 (Wed, 28 Feb 2024).

HostnameOSArch (*)R versionInstalled pkgs
nebbiolo2Linux (Ubuntu 22.04.3 LTS)x86_644.3.2 Patched (2023-11-13 r85521) -- "Eye Holes" 4692
palomino4Windows Server 2022 Datacenterx644.3.2 (2023-10-31 ucrt) -- "Eye Holes" 4445
lconwaymacOS 12.7.1 Montereyx86_644.3.2 Patched (2023-11-01 r85457) -- "Eye Holes" 4466
Click on any hostname to see more info about the system (e.g. compilers)      (*) as reported by 'uname -p', except on Windows and Mac OS X

Package 1646/2266HostnameOS / ArchINSTALLBUILDCHECKBUILD BIN
R453Plus1Toolbox 1.52.0  (landing page)
Hans-Ulrich Klein
Snapshot Date: 2024-02-27 14:05:07 -0500 (Tue, 27 Feb 2024)
git_url: https://git.bioconductor.org/packages/R453Plus1Toolbox
git_branch: RELEASE_3_18
git_last_commit: f72252b
git_last_commit_date: 2023-10-24 09:45:08 -0500 (Tue, 24 Oct 2023)
nebbiolo2Linux (Ubuntu 22.04.3 LTS) / x86_64  OK    OK    OK  UNNEEDED, same version is already published
palomino4Windows Server 2022 Datacenter / x64  OK    OK    OK    OK  UNNEEDED, same version is already published
lconwaymacOS 12.7.1 Monterey / x86_64  OK    OK    OK    OK  UNNEEDED, same version is already published
kjohnson1macOS 13.6.1 Ventura / arm64see weekly results here

BUILD results for R453Plus1Toolbox on palomino4


To the developers/maintainers of the R453Plus1Toolbox package:
- Allow up to 24 hours (and sometimes 48 hours) for your latest push to git@git.bioconductor.org:packages/R453Plus1Toolbox.git to reflect on this report. See Troubleshooting Build Report for more information.
- Use the following Renviron settings to reproduce errors and warnings.
- If 'R CMD check' started to fail recently on the Linux builder(s) over a missing dependency, add the missing dependency to 'Suggests:' in your DESCRIPTION file. See Renviron.bioc for more information.

raw results


Summary

Package: R453Plus1Toolbox
Version: 1.52.0
Command: chmod a+r R453Plus1Toolbox -R && F:\biocbuild\bbs-3.18-bioc\R\bin\R.exe CMD build --keep-empty-dirs --no-resave-data R453Plus1Toolbox
StartedAt: 2024-02-27 21:04:12 -0500 (Tue, 27 Feb 2024)
EndedAt: 2024-02-27 21:07:17 -0500 (Tue, 27 Feb 2024)
EllapsedTime: 184.6 seconds
RetCode: 0
Status:   OK  
PackageFile: R453Plus1Toolbox_1.52.0.tar.gz
PackageFileSize: 838.3 KiB

Command output

##############################################################################
##############################################################################
###
### Running command:
###
###   chmod a+r R453Plus1Toolbox -R && F:\biocbuild\bbs-3.18-bioc\R\bin\R.exe CMD build --keep-empty-dirs --no-resave-data R453Plus1Toolbox
###
##############################################################################
##############################################################################


* checking for file 'R453Plus1Toolbox/DESCRIPTION' ... OK
* preparing 'R453Plus1Toolbox':
* checking DESCRIPTION meta-information ... OK
* cleaning src
* installing the package to build vignettes
* creating vignettes ... OK
* cleaning src
* checking for LF line-endings in source and make files and shell scripts
* checking for empty or unneeded directories
* looking to see if a 'data/datalist' file should be added
* building 'R453Plus1Toolbox_1.52.0.tar.gz'