Back to Multiple platform build/check report for BioC 3.18:   simplified   long
ABCDEFGHIJKLMNOPQ[R]STUVWXYZ

This page was generated on 2024-02-22 11:37:09 -0500 (Thu, 22 Feb 2024).

HostnameOSArch (*)R versionInstalled pkgs
nebbiolo2Linux (Ubuntu 22.04.3 LTS)x86_644.3.2 Patched (2023-11-13 r85521) -- "Eye Holes" 4691
palomino4Windows Server 2022 Datacenterx644.3.2 (2023-10-31 ucrt) -- "Eye Holes" 4444
lconwaymacOS 12.7.1 Montereyx86_644.3.2 Patched (2023-11-01 r85457) -- "Eye Holes" 4465
Click on any hostname to see more info about the system (e.g. compilers)      (*) as reported by 'uname -p', except on Windows and Mac OS X

Package 1646/2266HostnameOS / ArchINSTALLBUILDCHECKBUILD BIN
R453Plus1Toolbox 1.52.0  (landing page)
Hans-Ulrich Klein
Snapshot Date: 2024-02-21 14:05:05 -0500 (Wed, 21 Feb 2024)
git_url: https://git.bioconductor.org/packages/R453Plus1Toolbox
git_branch: RELEASE_3_18
git_last_commit: f72252b
git_last_commit_date: 2023-10-24 09:45:08 -0500 (Tue, 24 Oct 2023)
nebbiolo2Linux (Ubuntu 22.04.3 LTS) / x86_64  OK    OK    OK  UNNEEDED, same version is already published
palomino4Windows Server 2022 Datacenter / x64  OK    OK    OK    OK  UNNEEDED, same version is already published
lconwaymacOS 12.7.1 Monterey / x86_64  OK    OK    OK    OK  UNNEEDED, same version is already published
kjohnson1macOS 13.6.1 Ventura / arm64see weekly results here

CHECK results for R453Plus1Toolbox on palomino4


To the developers/maintainers of the R453Plus1Toolbox package:
- Allow up to 24 hours (and sometimes 48 hours) for your latest push to git@git.bioconductor.org:packages/R453Plus1Toolbox.git to reflect on this report. See Troubleshooting Build Report for more information.
- Use the following Renviron settings to reproduce errors and warnings.
- If 'R CMD check' started to fail recently on the Linux builder(s) over a missing dependency, add the missing dependency to 'Suggests:' in your DESCRIPTION file. See Renviron.bioc for more information.

raw results


Summary

Package: R453Plus1Toolbox
Version: 1.52.0
Command: F:\biocbuild\bbs-3.18-bioc\R\bin\R.exe CMD check --no-multiarch --install=check:R453Plus1Toolbox.install-out.txt --library=F:\biocbuild\bbs-3.18-bioc\R\library --no-vignettes --timings R453Plus1Toolbox_1.52.0.tar.gz
StartedAt: 2024-02-22 05:22:40 -0500 (Thu, 22 Feb 2024)
EndedAt: 2024-02-22 05:29:01 -0500 (Thu, 22 Feb 2024)
EllapsedTime: 380.2 seconds
RetCode: 0
Status:   OK  
CheckDir: R453Plus1Toolbox.Rcheck
Warnings: 0

Command output

##############################################################################
##############################################################################
###
### Running command:
###
###   F:\biocbuild\bbs-3.18-bioc\R\bin\R.exe CMD check --no-multiarch --install=check:R453Plus1Toolbox.install-out.txt --library=F:\biocbuild\bbs-3.18-bioc\R\library --no-vignettes --timings R453Plus1Toolbox_1.52.0.tar.gz
###
##############################################################################
##############################################################################


* using log directory 'F:/biocbuild/bbs-3.18-bioc/meat/R453Plus1Toolbox.Rcheck'
* using R version 4.3.2 (2023-10-31 ucrt)
* using platform: x86_64-w64-mingw32 (64-bit)
* R was compiled by
    gcc.exe (GCC) 12.3.0
    GNU Fortran (GCC) 12.3.0
* running under: Windows Server 2022 x64 (build 20348)
* using session charset: UTF-8
* using option '--no-vignettes'
* checking for file 'R453Plus1Toolbox/DESCRIPTION' ... OK
* checking extension type ... Package
* this is package 'R453Plus1Toolbox' version '1.52.0'
* checking package namespace information ... OK
* checking package dependencies ... OK
* checking if this is a source package ... OK
* checking if there is a namespace ... OK
* checking for hidden files and directories ... OK
* checking for portable file names ... OK
* checking whether package 'R453Plus1Toolbox' can be installed ... OK
* used C compiler: 'gcc.exe (GCC) 12.3.0'
* checking installed package size ... OK
* checking package directory ... OK
* checking 'build' directory ... OK
* checking DESCRIPTION meta-information ... OK
* checking top-level files ... OK
* checking for left-over files ... OK
* checking index information ... OK
* checking package subdirectories ... OK
* checking R files for non-ASCII characters ... OK
* checking R files for syntax errors ... OK
* checking whether the package can be loaded ... OK
* checking whether the package can be loaded with stated dependencies ... OK
* checking whether the package can be unloaded cleanly ... OK
* checking whether the namespace can be loaded with stated dependencies ... OK
* checking whether the namespace can be unloaded cleanly ... OK
* checking dependencies in R code ... NOTE
'library' or 'require' call to 'BSgenome.Hsapiens.UCSC.hg19' in package code.
  Please use :: or requireNamespace() instead.
  See section 'Suggested packages' in the 'Writing R Extensions' manual.
* checking S3 generic/method consistency ... OK
* checking replacement functions ... OK
* checking foreign function calls ... OK
* checking R code for possible problems ... NOTE
.annotateVariants_MapperSet: no visible binding for global variable
  'Hsapiens'
.ava2vcf: no visible binding for global variable 'Hsapiens'
.detectBreakpoints: no visible binding for global variable 'Hsapiens'
.getEnsemblInfo: no visible binding for global variable 'cds_length'
.getEnsemblInfo: no visible binding for global variable
  'ensembl_transcript_id'
.getMutations: no visible binding for global variable 'PatternStart'
.getMutations: no visible binding for global variable 'PatternEnd'
.htmlReport: no visible binding for global variable 'VarFreqForward'
.htmlReport: no visible binding for global variable 'VarFreqReverse'
.plotVariants: no visible binding for global variable 'mutation'
qualityReportSFF: no visible binding for '<<-' assignment to 'tmp'
annotateVariants,MapperSet-BSgenome: no visible binding for global
  variable 'Hsapiens'
annotateVariants,MapperSet-missing: no visible binding for global
  variable 'Hsapiens'
ava2vcf,AVASet: no visible binding for global variable 'Hsapiens'
detectBreakpoints,list: no visible binding for global variable
  'Hsapiens'
subset,AVASet: no visible binding for global variable 'referenceSeqID'
Undefined global functions or variables:
  Hsapiens PatternEnd PatternStart VarFreqForward VarFreqReverse
  cds_length ensembl_transcript_id mutation referenceSeqID
* checking Rd files ... OK
* checking Rd metadata ... OK
* checking Rd cross-references ... OK
* checking for missing documentation entries ... OK
* checking for code/documentation mismatches ... OK
* checking Rd \usage sections ... OK
* checking Rd contents ... OK
* checking for unstated dependencies in examples ... OK
* checking contents of 'data' directory ... OK
* checking data for non-ASCII characters ... OK
* checking data for ASCII and uncompressed saves ... OK
* checking line endings in C/C++/Fortran sources/headers ... OK
* checking compiled code ... NOTE
Note: information on .o files for x64 is not available
File 'F:/biocbuild/bbs-3.18-bioc/R/library/R453Plus1Toolbox/libs/x64/R453Plus1Toolbox.dll':
  Found 'abort', possibly from 'abort' (C), 'runtime' (Fortran)

Compiled code should not call entry points which might terminate R nor
write to stdout/stderr instead of to the console, nor use Fortran I/O
nor system RNGs nor [v]sprintf. The detected symbols are linked into
the code but might come from libraries and not actually be called.

See 'Writing portable packages' in the 'Writing R Extensions' manual.
* checking sizes of PDF files under 'inst/doc' ... OK
* checking files in 'vignettes' ... OK
* checking examples ... OK
Examples with CPU (user + system) or elapsed time > 5s
                 user system elapsed
mergeBreakpoints 8.88   0.11       9
* checking for unstated dependencies in vignettes ... OK
* checking package vignettes in 'inst/doc' ... OK
* checking running R code from vignettes ... SKIPPED
* checking re-building of vignette outputs ... SKIPPED
* checking PDF version of manual ... OK
* DONE

Status: 3 NOTEs
See
  'F:/biocbuild/bbs-3.18-bioc/meat/R453Plus1Toolbox.Rcheck/00check.log'
for details.



Installation output

R453Plus1Toolbox.Rcheck/00install.out

##############################################################################
##############################################################################
###
### Running command:
###
###   F:\biocbuild\bbs-3.18-bioc\R\bin\R.exe CMD INSTALL R453Plus1Toolbox
###
##############################################################################
##############################################################################


* installing to library 'F:/biocbuild/bbs-3.18-bioc/R/library'
* installing *source* package 'R453Plus1Toolbox' ...
** using staged installation
** libs
using C compiler: 'gcc.exe (GCC) 12.3.0'
gcc  -I"F:/biocbuild/bbs-3.18-bioc/R/include" -DNDEBUG     -I"C:/rtools43/x86_64-w64-mingw32.static.posix/include"     -O2 -Wall  -mfpmath=sse -msse2 -mstackrealign  -c readSFF.c -o readSFF.o
readSFF.c: In function 'readSFF':
readSFF.c:27:7: warning: variable 'block_count' set but not used [-Wunused-but-set-variable]
   27 |   int block_count;
      |       ^~~~~~~~~~~
gcc  -I"F:/biocbuild/bbs-3.18-bioc/R/include" -DNDEBUG     -I"C:/rtools43/x86_64-w64-mingw32.static.posix/include"     -O2 -Wall  -mfpmath=sse -msse2 -mstackrealign  -c writeSFF.c -o writeSFF.o
gcc -shared -s -static-libgcc -o R453Plus1Toolbox.dll tmp.def readSFF.o writeSFF.o -LC:/rtools43/x86_64-w64-mingw32.static.posix/lib/x64 -LC:/rtools43/x86_64-w64-mingw32.static.posix/lib -LF:/biocbuild/bbs-3.18-bioc/R/bin/x64 -lR
installing to F:/biocbuild/bbs-3.18-bioc/R/library/00LOCK-R453Plus1Toolbox/00new/R453Plus1Toolbox/libs/x64
** R
** data
** inst
** byte-compile and prepare package for lazy loading
** help
*** installing help indices
** building package indices
** installing vignettes
** testing if installed package can be loaded from temporary location
** testing if installed package can be loaded from final location
** testing if installed package keeps a record of temporary installation path
* DONE (R453Plus1Toolbox)

Tests output


Example timings

R453Plus1Toolbox.Rcheck/R453Plus1Toolbox-Ex.timings

nameusersystemelapsed
AVASet-class0.200.050.28
AVASet0.190.000.19
AnnotatedVariants-class000
MapperSet-class0.030.020.05
MapperSet0.000.010.01
SFFContainer-class000
SFFRead-class000
alignShortReads2.170.022.25
annotateVariants000
assayDataAmp0.020.000.02
ava2vcf0.200.010.22
avaSetExample0.020.020.03
avaSetFiltered0.010.000.01
avaSetFiltered_annot0.020.000.02
breakpoints0.010.000.01
calculateTiTv0.020.000.02
captureArray000
coverageOnTarget0.170.010.19
demultiplexReads0.060.000.06
detectBreakpoints0.710.020.72
fDataAmp0.010.010.03
featureDataAmp0.020.000.02
filterChimericReads3.230.083.31
genomeSequencerMIDs0.030.000.03
getAlignedReads0.080.020.09
getVariantPercentages0.030.000.03
htmlReport2.470.513.33
mapperSetExample0.010.000.01
mergeBreakpoints8.880.119.00
mutationInfo000
plotAmpliconCoverage000
plotChimericReads3.300.023.31
plotVariants000
plotVariationFrequency000
qualityReportSFF000
readSFF0.080.010.10
readsOnTarget0.040.000.04
referenceSequences0.020.000.02
regions0.000.020.01
removeLinker0.020.000.02
sequenceCaptureLinkers0.010.000.01
setVariantFilter0.050.000.05
variants0.000.020.02
writeSFF0.030.000.03