Back to Multiple platform build/check report for BioC 3.18:   simplified   long
ABCDEFGHIJKLMNOPQ[R]STUVWXYZ

This page was generated on 2024-02-21 11:38:10 -0500 (Wed, 21 Feb 2024).

HostnameOSArch (*)R versionInstalled pkgs
nebbiolo2Linux (Ubuntu 22.04.3 LTS)x86_644.3.2 Patched (2023-11-13 r85521) -- "Eye Holes" 4691
palomino4Windows Server 2022 Datacenterx644.3.2 (2023-10-31 ucrt) -- "Eye Holes" 4444
lconwaymacOS 12.7.1 Montereyx86_644.3.2 Patched (2023-11-01 r85457) -- "Eye Holes" 4465
Click on any hostname to see more info about the system (e.g. compilers)      (*) as reported by 'uname -p', except on Windows and Mac OS X

Package 1646/2266HostnameOS / ArchINSTALLBUILDCHECKBUILD BIN
R453Plus1Toolbox 1.52.0  (landing page)
Hans-Ulrich Klein
Snapshot Date: 2024-02-20 14:05:06 -0500 (Tue, 20 Feb 2024)
git_url: https://git.bioconductor.org/packages/R453Plus1Toolbox
git_branch: RELEASE_3_18
git_last_commit: f72252b
git_last_commit_date: 2023-10-24 09:45:08 -0500 (Tue, 24 Oct 2023)
nebbiolo2Linux (Ubuntu 22.04.3 LTS) / x86_64  OK    OK    OK  UNNEEDED, same version is already published
palomino4Windows Server 2022 Datacenter / x64  OK    OK    OK    OK  UNNEEDED, same version is already published
lconwaymacOS 12.7.1 Monterey / x86_64  OK    OK    OK    OK  UNNEEDED, same version is already published
kjohnson1macOS 13.6.1 Ventura / arm64see weekly results here

CHECK results for R453Plus1Toolbox on lconway


To the developers/maintainers of the R453Plus1Toolbox package:
- Allow up to 24 hours (and sometimes 48 hours) for your latest push to git@git.bioconductor.org:packages/R453Plus1Toolbox.git to reflect on this report. See Troubleshooting Build Report for more information.
- Use the following Renviron settings to reproduce errors and warnings.
- If 'R CMD check' started to fail recently on the Linux builder(s) over a missing dependency, add the missing dependency to 'Suggests:' in your DESCRIPTION file. See Renviron.bioc for more information.

raw results


Summary

Package: R453Plus1Toolbox
Version: 1.52.0
Command: /Library/Frameworks/R.framework/Resources/bin/R CMD check --install=check:R453Plus1Toolbox.install-out.txt --library=/Library/Frameworks/R.framework/Resources/library --no-vignettes --timings R453Plus1Toolbox_1.52.0.tar.gz
StartedAt: 2024-02-20 22:30:12 -0500 (Tue, 20 Feb 2024)
EndedAt: 2024-02-20 22:37:11 -0500 (Tue, 20 Feb 2024)
EllapsedTime: 419.6 seconds
RetCode: 0
Status:   OK  
CheckDir: R453Plus1Toolbox.Rcheck
Warnings: 0

Command output

##############################################################################
##############################################################################
###
### Running command:
###
###   /Library/Frameworks/R.framework/Resources/bin/R CMD check --install=check:R453Plus1Toolbox.install-out.txt --library=/Library/Frameworks/R.framework/Resources/library --no-vignettes --timings R453Plus1Toolbox_1.52.0.tar.gz
###
##############################################################################
##############################################################################


* using log directory ‘/Users/biocbuild/bbs-3.18-bioc/meat/R453Plus1Toolbox.Rcheck’
* using R version 4.3.2 Patched (2023-11-01 r85457)
* using platform: x86_64-apple-darwin20 (64-bit)
* R was compiled by
    Apple clang version 14.0.3 (clang-1403.0.22.14.1)
    GNU Fortran (GCC) 12.2.0
* running under: macOS Monterey 12.7.1
* using session charset: UTF-8
* using option ‘--no-vignettes’
* checking for file ‘R453Plus1Toolbox/DESCRIPTION’ ... OK
* checking extension type ... Package
* this is package ‘R453Plus1Toolbox’ version ‘1.52.0’
* checking package namespace information ... OK
* checking package dependencies ... OK
* checking if this is a source package ... OK
* checking if there is a namespace ... OK
* checking for hidden files and directories ... OK
* checking for portable file names ... OK
* checking for sufficient/correct file permissions ... OK
* checking whether package ‘R453Plus1Toolbox’ can be installed ... OK
* used C compiler: ‘Apple clang version 14.0.0 (clang-1400.0.29.202)’
* used SDK: ‘MacOSX11.3.sdk’
* checking installed package size ... OK
* checking package directory ... OK
* checking ‘build’ directory ... OK
* checking DESCRIPTION meta-information ... OK
* checking top-level files ... OK
* checking for left-over files ... OK
* checking index information ... OK
* checking package subdirectories ... OK
* checking R files for non-ASCII characters ... OK
* checking R files for syntax errors ... OK
* checking whether the package can be loaded ... OK
* checking whether the package can be loaded with stated dependencies ... OK
* checking whether the package can be unloaded cleanly ... OK
* checking whether the namespace can be loaded with stated dependencies ... OK
* checking whether the namespace can be unloaded cleanly ... OK
* checking dependencies in R code ... NOTE
'library' or 'require' call to ‘BSgenome.Hsapiens.UCSC.hg19’ in package code.
  Please use :: or requireNamespace() instead.
  See section 'Suggested packages' in the 'Writing R Extensions' manual.
* checking S3 generic/method consistency ... OK
* checking replacement functions ... OK
* checking foreign function calls ... OK
* checking R code for possible problems ... NOTE
.annotateVariants_MapperSet: no visible binding for global variable
  ‘Hsapiens’
.ava2vcf: no visible binding for global variable ‘Hsapiens’
.detectBreakpoints: no visible binding for global variable ‘Hsapiens’
.getEnsemblInfo: no visible binding for global variable ‘cds_length’
.getEnsemblInfo: no visible binding for global variable
  ‘ensembl_transcript_id’
.getMutations: no visible binding for global variable ‘PatternStart’
.getMutations: no visible binding for global variable ‘PatternEnd’
.htmlReport: no visible binding for global variable ‘VarFreqForward’
.htmlReport: no visible binding for global variable ‘VarFreqReverse’
.plotVariants: no visible binding for global variable ‘mutation’
qualityReportSFF: no visible binding for '<<-' assignment to ‘tmp’
annotateVariants,MapperSet-BSgenome: no visible binding for global
  variable ‘Hsapiens’
annotateVariants,MapperSet-missing: no visible binding for global
  variable ‘Hsapiens’
ava2vcf,AVASet: no visible binding for global variable ‘Hsapiens’
detectBreakpoints,list: no visible binding for global variable
  ‘Hsapiens’
subset,AVASet: no visible binding for global variable ‘referenceSeqID’
Undefined global functions or variables:
  Hsapiens PatternEnd PatternStart VarFreqForward VarFreqReverse
  cds_length ensembl_transcript_id mutation referenceSeqID
* checking Rd files ... OK
* checking Rd metadata ... OK
* checking Rd cross-references ... OK
* checking for missing documentation entries ... OK
* checking for code/documentation mismatches ... OK
* checking Rd \usage sections ... OK
* checking Rd contents ... OK
* checking for unstated dependencies in examples ... OK
* checking contents of ‘data’ directory ... OK
* checking data for non-ASCII characters ... OK
* checking data for ASCII and uncompressed saves ... OK
* checking line endings in C/C++/Fortran sources/headers ... OK
* checking compiled code ... NOTE
Note: information on .o files is not available
* checking sizes of PDF files under ‘inst/doc’ ... OK
* checking files in ‘vignettes’ ... OK
* checking examples ... OK
Examples with CPU (user + system) or elapsed time > 5s
                  user system elapsed
mergeBreakpoints 6.372   0.16   6.561
* checking for unstated dependencies in vignettes ... OK
* checking package vignettes in ‘inst/doc’ ... OK
* checking running R code from vignettes ... SKIPPED
* checking re-building of vignette outputs ... SKIPPED
* checking PDF version of manual ... OK
* DONE

Status: 3 NOTEs
See
  ‘/Users/biocbuild/bbs-3.18-bioc/meat/R453Plus1Toolbox.Rcheck/00check.log’
for details.



Installation output

R453Plus1Toolbox.Rcheck/00install.out

##############################################################################
##############################################################################
###
### Running command:
###
###   /Library/Frameworks/R.framework/Resources/bin/R CMD INSTALL R453Plus1Toolbox
###
##############################################################################
##############################################################################


* installing to library ‘/Library/Frameworks/R.framework/Versions/4.3-x86_64/Resources/library’
* installing *source* package ‘R453Plus1Toolbox’ ...
** using staged installation
** libs
using C compiler: ‘Apple clang version 14.0.0 (clang-1400.0.29.202)’
using SDK: ‘MacOSX11.3.sdk’
clang -arch x86_64 -I"/Library/Frameworks/R.framework/Resources/include" -DNDEBUG   -I/opt/R/x86_64/include    -fPIC  -falign-functions=64 -Wall -g -O2  -c readSFF.c -o readSFF.o
readSFF.c:27:7: warning: variable 'block_count' set but not used [-Wunused-but-set-variable]
  int block_count;
      ^
1 warning generated.
clang -arch x86_64 -I"/Library/Frameworks/R.framework/Resources/include" -DNDEBUG   -I/opt/R/x86_64/include    -fPIC  -falign-functions=64 -Wall -g -O2  -c writeSFF.c -o writeSFF.o
clang -arch x86_64 -dynamiclib -Wl,-headerpad_max_install_names -undefined dynamic_lookup -L/Library/Frameworks/R.framework/Resources/lib -L/opt/R/x86_64/lib -o R453Plus1Toolbox.so readSFF.o writeSFF.o -F/Library/Frameworks/R.framework/.. -framework R -Wl,-framework -Wl,CoreFoundation
installing to /Library/Frameworks/R.framework/Versions/4.3-x86_64/Resources/library/00LOCK-R453Plus1Toolbox/00new/R453Plus1Toolbox/libs
** R
** data
** inst
** byte-compile and prepare package for lazy loading
** help
*** installing help indices
** building package indices
** installing vignettes
** testing if installed package can be loaded from temporary location
** checking absolute paths in shared objects and dynamic libraries
** testing if installed package can be loaded from final location
** testing if installed package keeps a record of temporary installation path
* DONE (R453Plus1Toolbox)

Tests output


Example timings

R453Plus1Toolbox.Rcheck/R453Plus1Toolbox-Ex.timings

nameusersystemelapsed
AVASet-class0.2200.0300.253
AVASet0.1880.0150.204
AnnotatedVariants-class0.0020.0010.001
MapperSet-class0.0230.0180.041
MapperSet0.0050.0020.006
SFFContainer-class0.0010.0010.001
SFFRead-class0.0000.0010.001
alignShortReads2.5340.0302.584
annotateVariants0.0010.0000.002
assayDataAmp0.0040.0020.006
ava2vcf0.2810.0070.288
avaSetExample0.0130.0030.017
avaSetFiltered0.0190.0030.021
avaSetFiltered_annot0.0020.0020.003
breakpoints0.0030.0010.005
calculateTiTv0.0080.0020.011
captureArray0.0010.0010.002
coverageOnTarget0.1960.0060.204
demultiplexReads0.0810.0030.085
detectBreakpoints0.7880.0560.852
fDataAmp0.0170.0050.022
featureDataAmp0.0160.0040.020
filterChimericReads3.9220.0423.986
genomeSequencerMIDs0.0260.0010.027
getAlignedReads0.0760.0050.084
getVariantPercentages0.0300.0040.035
htmlReport2.7030.2732.996
mapperSetExample0.0070.0040.010
mergeBreakpoints6.3720.1606.561
mutationInfo0.0020.0020.003
plotAmpliconCoverage000
plotChimericReads3.2520.0243.289
plotVariants0.0040.0010.004
plotVariationFrequency000
qualityReportSFF000
readSFF0.0970.0030.102
readsOnTarget0.0560.0030.059
referenceSequences0.0060.0030.008
regions0.0010.0010.003
removeLinker0.0230.0010.025
sequenceCaptureLinkers0.0050.0010.006
setVariantFilter0.0440.0060.051
variants0.0020.0020.004
writeSFF0.0310.0000.033