Back to Multiple platform build/check report for BioC 3.18:   simplified   long
ABCDEFGHIJKLMNO[P]QRSTUVWXYZ

This page was generated on 2024-02-21 11:38:08 -0500 (Wed, 21 Feb 2024).

HostnameOSArch (*)R versionInstalled pkgs
nebbiolo2Linux (Ubuntu 22.04.3 LTS)x86_644.3.2 Patched (2023-11-13 r85521) -- "Eye Holes" 4691
palomino4Windows Server 2022 Datacenterx644.3.2 (2023-10-31 ucrt) -- "Eye Holes" 4444
lconwaymacOS 12.7.1 Montereyx86_644.3.2 Patched (2023-11-01 r85457) -- "Eye Holes" 4465
Click on any hostname to see more info about the system (e.g. compilers)      (*) as reported by 'uname -p', except on Windows and Mac OS X

Package 1552/2266HostnameOS / ArchINSTALLBUILDCHECKBUILD BIN
PING 2.46.0  (landing page)
Renan Sauteraud
Snapshot Date: 2024-02-20 14:05:06 -0500 (Tue, 20 Feb 2024)
git_url: https://git.bioconductor.org/packages/PING
git_branch: RELEASE_3_18
git_last_commit: 49706e2
git_last_commit_date: 2023-10-24 09:49:31 -0500 (Tue, 24 Oct 2023)
nebbiolo2Linux (Ubuntu 22.04.3 LTS) / x86_64  OK    OK    WARNINGS  UNNEEDED, same version is already published
palomino4Windows Server 2022 Datacenter / x64  OK    OK    WARNINGS    OK  UNNEEDED, same version is already published
lconwaymacOS 12.7.1 Monterey / x86_64  OK    OK    WARNINGS    OK  UNNEEDED, same version is already published
kjohnson1macOS 13.6.1 Ventura / arm64see weekly results here

INSTALL results for PING on lconway


To the developers/maintainers of the PING package:
- Allow up to 24 hours (and sometimes 48 hours) for your latest push to git@git.bioconductor.org:packages/PING.git to reflect on this report. See Troubleshooting Build Report for more information.
- Use the following Renviron settings to reproduce errors and warnings.
- If 'R CMD check' started to fail recently on the Linux builder(s) over a missing dependency, add the missing dependency to 'Suggests:' in your DESCRIPTION file. See Renviron.bioc for more information.

raw results


Summary

Package: PING
Version: 2.46.0
Command: /Library/Frameworks/R.framework/Resources/bin/R CMD INSTALL PING
StartedAt: 2024-02-20 15:42:39 -0500 (Tue, 20 Feb 2024)
EndedAt: 2024-02-20 15:44:00 -0500 (Tue, 20 Feb 2024)
EllapsedTime: 80.6 seconds
RetCode: 0
Status:   OK  

Command output

##############################################################################
##############################################################################
###
### Running command:
###
###   /Library/Frameworks/R.framework/Resources/bin/R CMD INSTALL PING
###
##############################################################################
##############################################################################


* installing to library ‘/Library/Frameworks/R.framework/Versions/4.3-x86_64/Resources/library’
* installing *source* package ‘PING’ ...
** using staged installation
checking for pkg-config... /opt/R/x86_64/bin/pkg-config
checking pkg-config is at least version 0.9.0... yes
checking for GSL... yes
configure: creating ./config.status
config.status: creating src/Makevars
** libs
using C compiler: ‘Apple clang version 14.0.0 (clang-1400.0.29.202)’
using SDK: ‘MacOSX11.3.sdk’
clang -arch x86_64 -I"/Library/Frameworks/R.framework/Resources/include" -DNDEBUG   -I/opt/R/x86_64/include    -fPIC  -falign-functions=64 -Wall -g -O2  -c init.c -o init.o
clang -arch x86_64 -I"/Library/Frameworks/R.framework/Resources/include" -DNDEBUG   -I/opt/R/x86_64/include    -fPIC  -falign-functions=64 -Wall -g -O2  -c ping.c -o ping.o
ping.c:321:10: warning: using integer absolute value function 'abs' when argument is of floating point type [-Wabsolute-value]
      if(abs(REAL(yF)[i]-mu[k]+delta[k]/2.)/sqrt(sF[k])<calpha)
         ^
ping.c:321:10: note: use function 'fabs' instead
      if(abs(REAL(yF)[i]-mu[k]+delta[k]/2.)/sqrt(sF[k])<calpha)
         ^~~
         fabs
ping.c:329:10: warning: using integer absolute value function 'abs' when argument is of floating point type [-Wabsolute-value]
      if(abs(REAL(yR)[i]-mu[k]-delta[k]/2.)/sqrt(sR[k])<calpha)
         ^
ping.c:329:10: note: use function 'fabs' instead
      if(abs(REAL(yR)[i]-mu[k]-delta[k]/2.)/sqrt(sR[k])<calpha)
         ^~~
         fabs
ping.c:345:12: warning: using integer absolute value function 'abs' when argument is of floating point type [-Wabsolute-value]
        if(abs(REAL(cF)[i]-mu[k]+delta[k]/2.)/sqrt(sF[k])<calpha)
           ^
ping.c:345:12: note: use function 'fabs' instead
        if(abs(REAL(cF)[i]-mu[k]+delta[k]/2.)/sqrt(sF[k])<calpha)
           ^~~
           fabs
ping.c:353:12: warning: using integer absolute value function 'abs' when argument is of floating point type [-Wabsolute-value]
        if(abs(REAL(cR)[i]-mu[k]-delta[k]/2.)/sqrt(sR[k])<calpha)
           ^
ping.c:353:12: note: use function 'fabs' instead
        if(abs(REAL(cR)[i]-mu[k]-delta[k]/2.)/sqrt(sR[k])<calpha)
           ^~~
           fabs
ping.c:1536:9: warning: variable 'chiSum' set but not used [-Wunused-but-set-variable]
        double chiSum = 0, etaF, etaR, dd, cc;
               ^
ping.c:3280:20: warning: variable 'tstatMax' set but not used [-Wunused-but-set-variable]
  double tstat=0.0,tstatMax=0.0;
                   ^
6 warnings generated.
clang -arch x86_64 -dynamiclib -Wl,-headerpad_max_install_names -undefined dynamic_lookup -L/Library/Frameworks/R.framework/Resources/lib -L/opt/R/x86_64/lib -o PING.so init.o ping.o -L/opt/R/x86_64/lib -lgsl -lgslcblas -lm -F/Library/Frameworks/R.framework/.. -framework R -Wl,-framework -Wl,CoreFoundation
installing to /Library/Frameworks/R.framework/Versions/4.3-x86_64/Resources/library/00LOCK-PING/00new/PING/libs
** R
** inst
** byte-compile and prepare package for lazy loading
** help
*** installing help indices
** building package indices
** installing vignettes
** testing if installed package can be loaded from temporary location
** checking absolute paths in shared objects and dynamic libraries
** testing if installed package can be loaded from final location
** testing if installed package keeps a record of temporary installation path
* DONE (PING)