Back to Multiple platform build/check report for BioC 3.18:   simplified   long
ABCDEFGHIJKL[M]NOPQRSTUVWXYZ

This page was generated on 2024-02-21 11:37:06 -0500 (Wed, 21 Feb 2024).

HostnameOSArch (*)R versionInstalled pkgs
nebbiolo2Linux (Ubuntu 22.04.3 LTS)x86_644.3.2 Patched (2023-11-13 r85521) -- "Eye Holes" 4691
palomino4Windows Server 2022 Datacenterx644.3.2 (2023-10-31 ucrt) -- "Eye Holes" 4444
lconwaymacOS 12.7.1 Montereyx86_644.3.2 Patched (2023-11-01 r85457) -- "Eye Holes" 4465
Click on any hostname to see more info about the system (e.g. compilers)      (*) as reported by 'uname -p', except on Windows and Mac OS X

Package 1372/2266HostnameOS / ArchINSTALLBUILDCHECKBUILD BIN
MungeSumstats 1.10.1  (landing page)
Alan Murphy
Snapshot Date: 2024-02-20 14:05:06 -0500 (Tue, 20 Feb 2024)
git_url: https://git.bioconductor.org/packages/MungeSumstats
git_branch: RELEASE_3_18
git_last_commit: 83ed5fb
git_last_commit_date: 2023-10-26 06:36:40 -0500 (Thu, 26 Oct 2023)
nebbiolo2Linux (Ubuntu 22.04.3 LTS) / x86_64  OK    OK    OK  UNNEEDED, same version is already published
palomino4Windows Server 2022 Datacenter / x64  OK    OK    OK    OK  UNNEEDED, same version is already published
lconwaymacOS 12.7.1 Monterey / x86_64  OK    OK    OK    OK  UNNEEDED, same version is already published
kjohnson1macOS 13.6.1 Ventura / arm64see weekly results here

CHECK results for MungeSumstats on palomino4


To the developers/maintainers of the MungeSumstats package:
- Allow up to 24 hours (and sometimes 48 hours) for your latest push to git@git.bioconductor.org:packages/MungeSumstats.git to reflect on this report. See Troubleshooting Build Report for more information.
- Use the following Renviron settings to reproduce errors and warnings.
- If 'R CMD check' started to fail recently on the Linux builder(s) over a missing dependency, add the missing dependency to 'Suggests:' in your DESCRIPTION file. See Renviron.bioc for more information.

raw results


Summary

Package: MungeSumstats
Version: 1.10.1
Command: F:\biocbuild\bbs-3.18-bioc\R\bin\R.exe CMD check --no-multiarch --install=check:MungeSumstats.install-out.txt --library=F:\biocbuild\bbs-3.18-bioc\R\library --no-vignettes --timings MungeSumstats_1.10.1.tar.gz
StartedAt: 2024-02-21 04:24:47 -0500 (Wed, 21 Feb 2024)
EndedAt: 2024-02-21 04:37:40 -0500 (Wed, 21 Feb 2024)
EllapsedTime: 772.9 seconds
RetCode: 0
Status:   OK  
CheckDir: MungeSumstats.Rcheck
Warnings: 0

Command output

##############################################################################
##############################################################################
###
### Running command:
###
###   F:\biocbuild\bbs-3.18-bioc\R\bin\R.exe CMD check --no-multiarch --install=check:MungeSumstats.install-out.txt --library=F:\biocbuild\bbs-3.18-bioc\R\library --no-vignettes --timings MungeSumstats_1.10.1.tar.gz
###
##############################################################################
##############################################################################


* using log directory 'F:/biocbuild/bbs-3.18-bioc/meat/MungeSumstats.Rcheck'
* using R version 4.3.2 (2023-10-31 ucrt)
* using platform: x86_64-w64-mingw32 (64-bit)
* R was compiled by
    gcc.exe (GCC) 12.3.0
    GNU Fortran (GCC) 12.3.0
* running under: Windows Server 2022 x64 (build 20348)
* using session charset: UTF-8
* using option '--no-vignettes'
* checking for file 'MungeSumstats/DESCRIPTION' ... OK
* checking extension type ... Package
* this is package 'MungeSumstats' version '1.10.1'
* package encoding: UTF-8
* checking package namespace information ... OK
* checking package dependencies ... OK
* checking if this is a source package ... OK
* checking if there is a namespace ... OK
* checking for hidden files and directories ... OK
* checking for portable file names ... OK
* checking whether package 'MungeSumstats' can be installed ... OK
* checking installed package size ... OK
* checking package directory ... OK
* checking 'build' directory ... OK
* checking DESCRIPTION meta-information ... OK
* checking top-level files ... OK
* checking for left-over files ... OK
* checking index information ... OK
* checking package subdirectories ... OK
* checking R files for non-ASCII characters ... OK
* checking R files for syntax errors ... OK
* checking whether the package can be loaded ... OK
* checking whether the package can be loaded with stated dependencies ... OK
* checking whether the package can be unloaded cleanly ... OK
* checking whether the namespace can be loaded with stated dependencies ... OK
* checking whether the namespace can be unloaded cleanly ... OK
* checking startup messages can be suppressed ... OK
* checking dependencies in R code ... OK
* checking S3 generic/method consistency ... OK
* checking replacement functions ... OK
* checking foreign function calls ... OK
* checking R code for possible problems ... OK
* checking Rd files ... OK
* checking Rd metadata ... OK
* checking Rd cross-references ... OK
* checking for missing documentation entries ... OK
* checking for code/documentation mismatches ... OK
* checking Rd \usage sections ... OK
* checking Rd contents ... OK
* checking for unstated dependencies in examples ... OK
* checking contents of 'data' directory ... OK
* checking data for non-ASCII characters ... OK
* checking data for ASCII and uncompressed saves ... OK
* checking R/sysdata.rda ... OK
* checking files in 'vignettes' ... OK
* checking examples ... OK
Examples with CPU (user + system) or elapsed time > 5s
                   user system elapsed
get_genome_builds 82.49   2.50   93.73
format_sumstats   68.33   1.67   77.09
liftover           3.74   0.04    5.72
* checking for unstated dependencies in 'tests' ... OK
* checking tests ...
  Running 'testthat.R'
 OK
* checking for unstated dependencies in vignettes ... OK
* checking package vignettes in 'inst/doc' ... OK
* checking running R code from vignettes ... SKIPPED
* checking re-building of vignette outputs ... SKIPPED
* checking PDF version of manual ... OK
* DONE

Status: OK


Installation output

MungeSumstats.Rcheck/00install.out

##############################################################################
##############################################################################
###
### Running command:
###
###   F:\biocbuild\bbs-3.18-bioc\R\bin\R.exe CMD INSTALL MungeSumstats
###
##############################################################################
##############################################################################


* installing to library 'F:/biocbuild/bbs-3.18-bioc/R/library'
* installing *source* package 'MungeSumstats' ...
** using staged installation
** R
** data
** inst
** byte-compile and prepare package for lazy loading
** help
*** installing help indices
** building package indices
** installing vignettes
** testing if installed package can be loaded from temporary location
** testing if installed package can be loaded from final location
** testing if installed package keeps a record of temporary installation path
* DONE (MungeSumstats)

Tests output

MungeSumstats.Rcheck/tests/testthat.Rout


R version 4.3.2 (2023-10-31 ucrt) -- "Eye Holes"
Copyright (C) 2023 The R Foundation for Statistical Computing
Platform: x86_64-w64-mingw32/x64 (64-bit)

R is free software and comes with ABSOLUTELY NO WARRANTY.
You are welcome to redistribute it under certain conditions.
Type 'license()' or 'licence()' for distribution details.

R is a collaborative project with many contributors.
Type 'contributors()' for more information and
'citation()' on how to cite R or R packages in publications.

Type 'demo()' for some demos, 'help()' for on-line help, or
'help.start()' for an HTML browser interface to help.
Type 'q()' to quit R.

> library(testthat)
> library(MungeSumstats)
> 
> test_check("MungeSumstats")
Formatted summary statistics will be saved to ==>  F:\biocbuild\bbs-3.18-bioc\tmpdir\RtmpAJ6g1k\file1da5ceaa2a41.tsv.gz
Reading header.
Tabular format detected.
Importing tabular file: F:\biocbuild\bbs-3.18-bioc\tmpdir\RtmpAJ6g1k\file1da5c28747611
Checking for empty columns.
Infer Effect Column
First line of summary statistics file: 
MarkerName	CHR	POS	A0	A1	EAF	Beta	SE	Pval	
Standardising column headers.
First line of summary statistics file: 
MarkerName	CHR	POS	A0	A1	EAF	Beta	SE	Pval	
Summary statistics report:
   - 93 rows
   - 93 unique variants
   - 70 genome-wide significant variants (P<5e-8)
   - 20 chromosomes
Checking for multi-GWAS.
Checking for multiple RSIDs on one row.
Checking SNP RSIDs.
Checking for merged allele column.
Checking A1 is uppercase
Checking A2 is uppercase
Checking for incorrect base-pair positions
Checking for missing data.
Checking for duplicate columns.
Checking for duplicated rows.
INFO column not available. Skipping INFO score filtering step.
Filtering SNPs, ensuring SE>0.
Ensuring all SNPs have N<5 std dev above mean.
47 SNPs (50.5%) have FRQ values > 0.5. Conventionally the FRQ column is intended to show the minor/effect allele frequency.
The FRQ column was mapped from one of the following from the inputted  summary statistics file:
FRQ, EAF, FREQUENCY, FRQ_U, F_U, MAF, FREQ, FREQ_TESTED_ALLELE, FRQ_TESTED_ALLELE, FREQ_EFFECT_ALLELE, FRQ_EFFECT_ALLELE, EFFECT_ALLELE_FREQUENCY, EFFECT_ALLELE_FREQ, EFFECT_ALLELE_FRQ, A2FREQ, A2FRQ, ALLELE_FREQUENCY, ALLELE_FREQ, ALLELE_FRQ, AF, MINOR_AF, EFFECT_AF, A2_AF, EFF_AF, ALT_AF, ALTERNATIVE_AF, INC_AF, A_2_AF, TESTED_AF, ALLELEFREQ, ALT_FREQ, EAF_HRC, EFFECTALLELEFREQ, FREQ.B, FREQ_EUROPEAN_1000GENOMES, FREQ_HAPMAP, FREQ_TESTED_ALLELE_IN_HRS, FRQ_U_113154, FRQ_U_31358, FRQ_U_344901, FRQ_U_43456, POOLED_ALT_AF, AF_ALT, AF.ALT, AF-ALT, ALT.AF, ALT-AF, A2.AF, A2-AF, AF.EFF, AF_EFF, ALL_AF
As frq_is_maf=TRUE, the FRQ column will not be renamed. If the FRQ values were intended to represent major allele frequency,
set frq_is_maf=FALSE to rename the column as MAJOR_ALLELE_FRQ and differentiate it from minor/effect allele frequency.
Sorting coordinates with "data.table".
Writing in tabular format ==> F:\biocbuild\bbs-3.18-bioc\tmpdir\RtmpAJ6g1k\file1da5ceaa2a41.tsv.gz
Summary statistics report:
   - 93 rows (100% of original 93 rows)
   - 93 unique variants
   - 70 genome-wide significant variants (P<5e-8)
   - 20 chromosomes
Done munging in 0.066 minutes.
Successfully finished preparing sumstats file, preview:
Reading header.
          SNP   CHR       BP     A1     A2     FRQ   BETA    SE         P
       <char> <int>    <int> <char> <char>   <num>  <num> <num>     <num>
1:   rs301800     1  8490603      T      C 0.17910  0.019 0.003 1.794e-08
2: rs11210860     1 43982527      A      G 0.36940  0.017 0.003 2.359e-10
3: rs34305371     1 72733610      A      G 0.08769  0.035 0.005 3.762e-14
4:  rs2568955     1 72762169      T      C 0.23690 -0.017 0.003 1.797e-08
Returning path to saved data.
Formatted summary statistics will be saved to ==>  F:\biocbuild\bbs-3.18-bioc\tmpdir\RtmpAJ6g1k\file1da5c9ab26ae.tsv.gz
Reading header.
Tabular format detected.
Importing tabular file: F:\biocbuild\bbs-3.18-bioc\tmpdir\RtmpAJ6g1k\file1da5c28747611
Checking for empty columns.
Infer Effect Column
First line of summary statistics file: 
MarkerName	CHR	POS	A1	A2	EAF	Beta	SE	Pval	
Allele columns are ambiguous, attempting to infer direction
Can't infer allele columns from sumstats
Standardising column headers.
First line of summary statistics file: 
MarkerName	CHR	POS	A1	A2	EAF	Beta	SE	Pval	
Summary statistics report:
   - 93 rows
   - 93 unique variants
   - 70 genome-wide significant variants (P<5e-8)
   - 20 chromosomes
Checking for multi-GWAS.
Checking for multiple RSIDs on one row.
Checking SNP RSIDs.
Checking for merged allele column.
Checking A1 is uppercase
Checking A2 is uppercase
Checking for incorrect base-pair positions
Checking for missing data.
Checking for duplicate columns.
Checking for duplicated rows.
INFO column not available. Skipping INFO score filtering step.
Filtering SNPs, ensuring SE>0.
Ensuring all SNPs have N<5 std dev above mean.
47 SNPs (50.5%) have FRQ values > 0.5. Conventionally the FRQ column is intended to show the minor/effect allele frequency.
The FRQ column was mapped from one of the following from the inputted  summary statistics file:
FRQ, EAF, FREQUENCY, FRQ_U, F_U, MAF, FREQ, FREQ_TESTED_ALLELE, FRQ_TESTED_ALLELE, FREQ_EFFECT_ALLELE, FRQ_EFFECT_ALLELE, EFFECT_ALLELE_FREQUENCY, EFFECT_ALLELE_FREQ, EFFECT_ALLELE_FRQ, A2FREQ, A2FRQ, ALLELE_FREQUENCY, ALLELE_FREQ, ALLELE_FRQ, AF, MINOR_AF, EFFECT_AF, A2_AF, EFF_AF, ALT_AF, ALTERNATIVE_AF, INC_AF, A_2_AF, TESTED_AF, ALLELEFREQ, ALT_FREQ, EAF_HRC, EFFECTALLELEFREQ, FREQ.B, FREQ_EUROPEAN_1000GENOMES, FREQ_HAPMAP, FREQ_TESTED_ALLELE_IN_HRS, FRQ_U_113154, FRQ_U_31358, FRQ_U_344901, FRQ_U_43456, POOLED_ALT_AF, AF_ALT, AF.ALT, AF-ALT, ALT.AF, ALT-AF, A2.AF, A2-AF, AF.EFF, AF_EFF, ALL_AF
As frq_is_maf=TRUE, the FRQ column will not be renamed. If the FRQ values were intended to represent major allele frequency,
set frq_is_maf=FALSE to rename the column as MAJOR_ALLELE_FRQ and differentiate it from minor/effect allele frequency.
Sorting coordinates with "data.table".
Writing in tabular format ==> F:\biocbuild\bbs-3.18-bioc\tmpdir\RtmpAJ6g1k\file1da5c9ab26ae.tsv.gz
Summary statistics report:
   - 93 rows (100% of original 93 rows)
   - 93 unique variants
   - 70 genome-wide significant variants (P<5e-8)
   - 20 chromosomes
Done munging in 0.044 minutes.
Successfully finished preparing sumstats file, preview:
Reading header.
          SNP   CHR       BP     A1     A2     FRQ   BETA    SE         P
       <char> <int>    <int> <char> <char>   <num>  <num> <num>     <num>
1:   rs301800     1  8490603      T      C 0.17910  0.019 0.003 1.794e-08
2: rs11210860     1 43982527      A      G 0.36940  0.017 0.003 2.359e-10
3: rs34305371     1 72733610      A      G 0.08769  0.035 0.005 3.762e-14
4:  rs2568955     1 72762169      T      C 0.23690 -0.017 0.003 1.797e-08
Returning path to saved data.
Standardising column headers.
First line of summary statistics file: 
MarkerName	CHR	POS	A1	A2	EAF	Beta	SE	Pval	
Sorting coordinates with "data.table".
******::NOTE::******
 - Log results will be saved to `tempdir()` by default.
 - This means all log data from the run will be  deleted upon ending the R session.
 - To keep it, change `log_folder` to an actual directory  (e.g. log_folder='./').
 ******************** 

Formatted summary statistics will be saved to ==>  F:\biocbuild\bbs-3.18-bioc\tmpdir\RtmpAJ6g1k\file1da5c64d710db.tsv.gz
Log data to be saved to ==>  F:\biocbuild\bbs-3.18-bioc\tmpdir\RtmpAJ6g1k
Found 1 Indels. These will be removed from the sumstats. 
WARNING If you want to keep Indels, set the drop_indel param to FALSE & rerun MungeSumstats::format_sumstats()
Writing in tabular format ==> F:\biocbuild\bbs-3.18-bioc\tmpdir\RtmpAJ6g1k/indel.tsv.gz
Standardising column headers.
First line of summary statistics file: 
MarkerName	CHR	POS	A1	A2	EAF	Beta	SE	Pval	
Sorting coordinates with "data.table".
Filtering SNPs based on INFO score.
46 SNPs are below the INFO threshold of 0.9 and will be removed.
Writing in tabular format ==> F:\biocbuild\bbs-3.18-bioc\tmpdir\RtmpAJ6g1k/info_filter.tsv.gz
INFO_filter==0. Skipping INFO score filtering step.
Filtering SNPs based on INFO score.
All rows have INFO>=0.9
Standardising column headers.
First line of summary statistics file: 
MarkerName	CHR	POS	A1	A2	EAF	Beta	SE	Pval	
Sorting coordinates with "data.table".
3 p-values are >1 which LDSC/MAGMA may not be able to handle. These will be converted to 1.
5 p-values are <0 which LDSC/MAGMA may not be able to handle. These will be converted to 0.
Standardising column headers.
First line of summary statistics file: 
MarkerName	CHR	POS	A1	A2	EAF	Beta	SE	Pval	
Sorting coordinates with "data.table".
8 p-values are <=5e-324 which LDSC/MAGMA may not be able to handle. These will be converted to 0.
Reading header.
Tabular format detected.
Reading header.
Tabular format detected.
Reading header.
Tabular format detected.
Reading header.
VCF format detected.This will be converted to a standardised table format.
Importing tabular file: F:/biocbuild/bbs-3.18-bioc/R/library/MungeSumstats/extdata/eduAttainOkbay.txt
Checking for empty columns.
Standardising column headers.
First line of summary statistics file: 
MarkerName	CHR	POS	A1	A2	EAF	Beta	SE	Pval	
Computing Z-score from P using formula: `sign(BETA)*sqrt(stats::qchisq(P,1,lower=FALSE)`
Standardising column headers.
First line of summary statistics file: 
SNP	CHR	BP	A1	A2	FRQ	BETA	SE	P	Z	newZ	
Computing Z-score from BETA ans SE using formula: `BETA/SE`
Formatted summary statistics will be saved to ==>  F:\biocbuild\bbs-3.18-bioc\tmpdir\RtmpAJ6g1k\file1da5c622810eb.tsv.gz
Reading header.
Tabular format detected.
Importing tabular file: F:\biocbuild\bbs-3.18-bioc\tmpdir\RtmpAJ6g1k\file1da5c55f7668d
Checking for empty columns.
Infer Effect Column
First line of summary statistics file: 
MarkerName	EAF	Beta	SE	Pval	CHR_BP_A2_A1	
Standardising column headers.
First line of summary statistics file: 
MarkerName	EAF	Beta	SE	Pval	CHR_BP_A2_A1	
Summary statistics report:
   - 93 rows
   - 93 unique variants
   - 70 genome-wide significant variants (P<5e-8)
Checking for multi-GWAS.
Checking for multiple RSIDs on one row.
Checking SNP RSIDs.
Checking for merged allele column.
Summary statistics file does not have obvious CHR/BP columns. Checking to see if they are joined in another column.
Column CHR_BP_A2_A1 has been separated into the columns CHR, BP, A2, A1
If this is the incorrect format for the column, update the column name to the correct format e.g.`CHR:BP:A2:A1` and format_sumstats().
Standardising column headers.
First line of summary statistics file: 
SNP	FRQ	BETA	SE	P	CHR	BP	A2	A1	
Checking for incorrect base-pair positions
Reordering so first three column headers are SNP, CHR and BP in this order.
Reordering so the fourth and fifth columns are A1 and A2.
Checking for missing data.
Checking for duplicate columns.
Checking for duplicated rows.
INFO column not available. Skipping INFO score filtering step.
Filtering SNPs, ensuring SE>0.
Ensuring all SNPs have N<5 std dev above mean.
47 SNPs (50.5%) have FRQ values > 0.5. Conventionally the FRQ column is intended to show the minor/effect allele frequency.
The FRQ column was mapped from one of the following from the inputted  summary statistics file:
FRQ, EAF, FREQUENCY, FRQ_U, F_U, MAF, FREQ, FREQ_TESTED_ALLELE, FRQ_TESTED_ALLELE, FREQ_EFFECT_ALLELE, FRQ_EFFECT_ALLELE, EFFECT_ALLELE_FREQUENCY, EFFECT_ALLELE_FREQ, EFFECT_ALLELE_FRQ, A2FREQ, A2FRQ, ALLELE_FREQUENCY, ALLELE_FREQ, ALLELE_FRQ, AF, MINOR_AF, EFFECT_AF, A2_AF, EFF_AF, ALT_AF, ALTERNATIVE_AF, INC_AF, A_2_AF, TESTED_AF, ALLELEFREQ, ALT_FREQ, EAF_HRC, EFFECTALLELEFREQ, FREQ.B, FREQ_EUROPEAN_1000GENOMES, FREQ_HAPMAP, FREQ_TESTED_ALLELE_IN_HRS, FRQ_U_113154, FRQ_U_31358, FRQ_U_344901, FRQ_U_43456, POOLED_ALT_AF, AF_ALT, AF.ALT, AF-ALT, ALT.AF, ALT-AF, A2.AF, A2-AF, AF.EFF, AF_EFF, ALL_AF
As frq_is_maf=TRUE, the FRQ column will not be renamed. If the FRQ values were intended to represent major allele frequency,
set frq_is_maf=FALSE to rename the column as MAJOR_ALLELE_FRQ and differentiate it from minor/effect allele frequency.
Sorting coordinates with "data.table".
Writing in tabular format ==> F:\biocbuild\bbs-3.18-bioc\tmpdir\RtmpAJ6g1k\file1da5c622810eb.tsv.gz
Summary statistics report:
   - 93 rows (100% of original 93 rows)
   - 93 unique variants
   - 70 genome-wide significant variants (P<5e-8)
   - 20 chromosomes
Done munging in 0.094 minutes.
Successfully finished preparing sumstats file, preview:
Reading header.
          SNP   CHR       BP     A1     A2     FRQ   BETA    SE         P
       <char> <int>    <int> <char> <char>   <num>  <num> <num>     <num>
1:   rs301800     1  8490603      T      C 0.17910  0.019 0.003 1.794e-08
2: rs11210860     1 43982527      A      G 0.36940  0.017 0.003 2.359e-10
3: rs34305371     1 72733610      A      G 0.08769  0.035 0.005 3.762e-14
4:  rs2568955     1 72762169      T      C 0.23690 -0.017 0.003 1.797e-08
Returning path to saved data.
Formatted summary statistics will be saved to ==>  F:\biocbuild\bbs-3.18-bioc\tmpdir\RtmpAJ6g1k\file1da5c11a1d1c.tsv.gz
Reading header.
Tabular format detected.
Importing tabular file: F:\biocbuild\bbs-3.18-bioc\tmpdir\RtmpAJ6g1k\file1da5c55f7668d
Checking for empty columns.
Infer Effect Column
First line of summary statistics file: 
MarkerName	CHR	POS	A1	A2	EAF	Beta	SE	Pval	
Allele columns are ambiguous, attempting to infer direction
Can't infer allele columns from sumstats
Standardising column headers.
First line of summary statistics file: 
MarkerName	CHR	POS	A1	A2	EAF	Beta	SE	Pval	
Summary statistics report:
   - 93 rows
   - 93 unique variants
   - 70 genome-wide significant variants (P<5e-8)
   - 20 chromosomes
Checking for multi-GWAS.
Checking for multiple RSIDs on one row.
Checking SNP RSIDs.
Checking for merged allele column.
Checking A1 is uppercase
Checking A2 is uppercase
Checking for incorrect base-pair positions
Checking for missing data.
Checking for duplicate columns.
Checking for duplicated rows.
INFO column not available. Skipping INFO score filtering step.
Filtering SNPs, ensuring SE>0.
Ensuring all SNPs have N<5 std dev above mean.
47 SNPs (50.5%) have FRQ values > 0.5. Conventionally the FRQ column is intended to show the minor/effect allele frequency.
The FRQ column was mapped from one of the following from the inputted  summary statistics file:
FRQ, EAF, FREQUENCY, FRQ_U, F_U, MAF, FREQ, FREQ_TESTED_ALLELE, FRQ_TESTED_ALLELE, FREQ_EFFECT_ALLELE, FRQ_EFFECT_ALLELE, EFFECT_ALLELE_FREQUENCY, EFFECT_ALLELE_FREQ, EFFECT_ALLELE_FRQ, A2FREQ, A2FRQ, ALLELE_FREQUENCY, ALLELE_FREQ, ALLELE_FRQ, AF, MINOR_AF, EFFECT_AF, A2_AF, EFF_AF, ALT_AF, ALTERNATIVE_AF, INC_AF, A_2_AF, TESTED_AF, ALLELEFREQ, ALT_FREQ, EAF_HRC, EFFECTALLELEFREQ, FREQ.B, FREQ_EUROPEAN_1000GENOMES, FREQ_HAPMAP, FREQ_TESTED_ALLELE_IN_HRS, FRQ_U_113154, FRQ_U_31358, FRQ_U_344901, FRQ_U_43456, POOLED_ALT_AF, AF_ALT, AF.ALT, AF-ALT, ALT.AF, ALT-AF, A2.AF, A2-AF, AF.EFF, AF_EFF, ALL_AF
As frq_is_maf=TRUE, the FRQ column will not be renamed. If the FRQ values were intended to represent major allele frequency,
set frq_is_maf=FALSE to rename the column as MAJOR_ALLELE_FRQ and differentiate it from minor/effect allele frequency.
Sorting coordinates with "data.table".
Writing in tabular format ==> F:\biocbuild\bbs-3.18-bioc\tmpdir\RtmpAJ6g1k\file1da5c11a1d1c.tsv.gz
Summary statistics report:
   - 93 rows (100% of original 93 rows)
   - 93 unique variants
   - 70 genome-wide significant variants (P<5e-8)
   - 20 chromosomes
Done munging in 0.033 minutes.
Successfully finished preparing sumstats file, preview:
Reading header.
          SNP   CHR       BP     A1     A2     FRQ   BETA    SE         P
       <char> <int>    <int> <char> <char>   <num>  <num> <num>     <num>
1:   rs301800     1  8490603      T      C 0.17910  0.019 0.003 1.794e-08
2: rs11210860     1 43982527      A      G 0.36940  0.017 0.003 2.359e-10
3: rs34305371     1 72733610      A      G 0.08769  0.035 0.005 3.762e-14
4:  rs2568955     1 72762169      T      C 0.23690 -0.017 0.003 1.797e-08
Returning path to saved data.
Formatted summary statistics will be saved to ==>  F:\biocbuild\bbs-3.18-bioc\tmpdir\RtmpAJ6g1k\file1da5c4da45066.tsv.gz
Reading header.
Tabular format detected.
Importing tabular file: F:\biocbuild\bbs-3.18-bioc\tmpdir\RtmpAJ6g1k\file1da5c40216dea
Checking for empty columns.
Infer Effect Column
First line of summary statistics file: 
MarkerName	EAF	Beta	SE	Pval	CHR_BP_A2_A1	
Standardising column headers.
First line of summary statistics file: 
MarkerName	EAF	Beta	SE	Pval	CHR_BP_A2_A1	
Summary statistics report:
   - 93 rows
   - 93 unique variants
   - 70 genome-wide significant variants (P<5e-8)
Checking for multi-GWAS.
Checking for multiple RSIDs on one row.
Checking SNP RSIDs.
Checking for merged allele column.
Summary statistics file does not have obvious CHR/BP columns. Checking to see if they are joined in another column.
Column CHR_BP_A2_A1 has been separated into the columns CHR, BP, A2, A1
If this is the incorrect format for the column, update the column name to the correct format e.g.`CHR:BP:A2:A1` and format_sumstats().
Standardising column headers.
First line of summary statistics file: 
SNP	FRQ	BETA	SE	P	CHR	BP	A2	A1	
Checking for incorrect base-pair positions
Reordering so first three column headers are SNP, CHR and BP in this order.
Reordering so the fourth and fifth columns are A1 and A2.
Checking for missing data.
Checking for duplicate columns.
Checking for duplicated rows.
INFO column not available. Skipping INFO score filtering step.
Filtering SNPs, ensuring SE>0.
Ensuring all SNPs have N<5 std dev above mean.
47 SNPs (50.5%) have FRQ values > 0.5. Conventionally the FRQ column is intended to show the minor/effect allele frequency.
The FRQ column was mapped from one of the following from the inputted  summary statistics file:
FRQ, EAF, FREQUENCY, FRQ_U, F_U, MAF, FREQ, FREQ_TESTED_ALLELE, FRQ_TESTED_ALLELE, FREQ_EFFECT_ALLELE, FRQ_EFFECT_ALLELE, EFFECT_ALLELE_FREQUENCY, EFFECT_ALLELE_FREQ, EFFECT_ALLELE_FRQ, A2FREQ, A2FRQ, ALLELE_FREQUENCY, ALLELE_FREQ, ALLELE_FRQ, AF, MINOR_AF, EFFECT_AF, A2_AF, EFF_AF, ALT_AF, ALTERNATIVE_AF, INC_AF, A_2_AF, TESTED_AF, ALLELEFREQ, ALT_FREQ, EAF_HRC, EFFECTALLELEFREQ, FREQ.B, FREQ_EUROPEAN_1000GENOMES, FREQ_HAPMAP, FREQ_TESTED_ALLELE_IN_HRS, FRQ_U_113154, FRQ_U_31358, FRQ_U_344901, FRQ_U_43456, POOLED_ALT_AF, AF_ALT, AF.ALT, AF-ALT, ALT.AF, ALT-AF, A2.AF, A2-AF, AF.EFF, AF_EFF, ALL_AF
As frq_is_maf=TRUE, the FRQ column will not be renamed. If the FRQ values were intended to represent major allele frequency,
set frq_is_maf=FALSE to rename the column as MAJOR_ALLELE_FRQ and differentiate it from minor/effect allele frequency.
Sorting coordinates with "data.table".
Writing in tabular format ==> F:\biocbuild\bbs-3.18-bioc\tmpdir\RtmpAJ6g1k\file1da5c4da45066.tsv.gz
Summary statistics report:
   - 93 rows (100% of original 93 rows)
   - 93 unique variants
   - 70 genome-wide significant variants (P<5e-8)
   - 20 chromosomes
Done munging in 0.064 minutes.
Successfully finished preparing sumstats file, preview:
Reading header.
          SNP   CHR       BP     A1     A2     FRQ   BETA    SE         P
       <char> <int>    <int> <char> <char>   <num>  <num> <num>     <num>
1:   rs301800     1  8490603      T      C 0.17910  0.019 0.003 1.794e-08
2: rs11210860     1 43982527      A      G 0.36940  0.017 0.003 2.359e-10
3: rs34305371     1 72733610      A      G 0.08769  0.035 0.005 3.762e-14
4:  rs2568955     1 72762169      T      C 0.23690 -0.017 0.003 1.797e-08
Returning path to saved data.
Formatted summary statistics will be saved to ==>  F:\biocbuild\bbs-3.18-bioc\tmpdir\RtmpAJ6g1k\file1da5c38dd1eb7.tsv.gz
Reading header.
Tabular format detected.
Importing tabular file: F:\biocbuild\bbs-3.18-bioc\tmpdir\RtmpAJ6g1k\file1da5c40216dea
Checking for empty columns.
Infer Effect Column
First line of summary statistics file: 
MarkerName	CHR	POS	A1	A2	EAF	Beta	SE	Pval	
Allele columns are ambiguous, attempting to infer direction
Can't infer allele columns from sumstats
Standardising column headers.
First line of summary statistics file: 
MarkerName	CHR	POS	A1	A2	EAF	Beta	SE	Pval	
Summary statistics report:
   - 93 rows
   - 93 unique variants
   - 70 genome-wide significant variants (P<5e-8)
   - 20 chromosomes
Checking for multi-GWAS.
Checking for multiple RSIDs on one row.
Checking SNP RSIDs.
Checking for merged allele column.
Checking A1 is uppercase
Checking A2 is uppercase
Checking for incorrect base-pair positions
Checking for missing data.
Checking for duplicate columns.
Checking for duplicated rows.
INFO column not available. Skipping INFO score filtering step.
Filtering SNPs, ensuring SE>0.
Ensuring all SNPs have N<5 std dev above mean.
47 SNPs (50.5%) have FRQ values > 0.5. Conventionally the FRQ column is intended to show the minor/effect allele frequency.
The FRQ column was mapped from one of the following from the inputted  summary statistics file:
FRQ, EAF, FREQUENCY, FRQ_U, F_U, MAF, FREQ, FREQ_TESTED_ALLELE, FRQ_TESTED_ALLELE, FREQ_EFFECT_ALLELE, FRQ_EFFECT_ALLELE, EFFECT_ALLELE_FREQUENCY, EFFECT_ALLELE_FREQ, EFFECT_ALLELE_FRQ, A2FREQ, A2FRQ, ALLELE_FREQUENCY, ALLELE_FREQ, ALLELE_FRQ, AF, MINOR_AF, EFFECT_AF, A2_AF, EFF_AF, ALT_AF, ALTERNATIVE_AF, INC_AF, A_2_AF, TESTED_AF, ALLELEFREQ, ALT_FREQ, EAF_HRC, EFFECTALLELEFREQ, FREQ.B, FREQ_EUROPEAN_1000GENOMES, FREQ_HAPMAP, FREQ_TESTED_ALLELE_IN_HRS, FRQ_U_113154, FRQ_U_31358, FRQ_U_344901, FRQ_U_43456, POOLED_ALT_AF, AF_ALT, AF.ALT, AF-ALT, ALT.AF, ALT-AF, A2.AF, A2-AF, AF.EFF, AF_EFF, ALL_AF
As frq_is_maf=TRUE, the FRQ column will not be renamed. If the FRQ values were intended to represent major allele frequency,
set frq_is_maf=FALSE to rename the column as MAJOR_ALLELE_FRQ and differentiate it from minor/effect allele frequency.
Sorting coordinates with "data.table".
Writing in tabular format ==> F:\biocbuild\bbs-3.18-bioc\tmpdir\RtmpAJ6g1k\file1da5c38dd1eb7.tsv.gz
Summary statistics report:
   - 93 rows (100% of original 93 rows)
   - 93 unique variants
   - 70 genome-wide significant variants (P<5e-8)
   - 20 chromosomes
Done munging in 0.034 minutes.
Successfully finished preparing sumstats file, preview:
Reading header.
          SNP   CHR       BP     A1     A2     FRQ   BETA    SE         P
       <char> <int>    <int> <char> <char>   <num>  <num> <num>     <num>
1:   rs301800     1  8490603      T      C 0.17910  0.019 0.003 1.794e-08
2: rs11210860     1 43982527      A      G 0.36940  0.017 0.003 2.359e-10
3: rs34305371     1 72733610      A      G 0.08769  0.035 0.005 3.762e-14
4:  rs2568955     1 72762169      T      C 0.23690 -0.017 0.003 1.797e-08
Returning path to saved data.
Formatted summary statistics will be saved to ==>  F:\biocbuild\bbs-3.18-bioc\tmpdir\RtmpAJ6g1k\file1da5c76f44d5f.tsv.gz
Reading header.
Tabular format detected.
Importing tabular file: F:\biocbuild\bbs-3.18-bioc\tmpdir\RtmpAJ6g1k\file1da5c601649c7
Checking for empty columns.
Infer Effect Column
First line of summary statistics file: 
MarkerName	CHR	POS	EAF	Beta	SE	Pval	alleles	allele	
Standardising column headers.
First line of summary statistics file: 
MarkerName	CHR	POS	EAF	Beta	SE	Pval	alleles	allele	
Summary statistics report:
   - 93 rows
   - 93 unique variants
   - 70 genome-wide significant variants (P<5e-8)
   - 20 chromosomes
Checking for multi-GWAS.
Checking for multiple RSIDs on one row.
Checking SNP RSIDs.
Checking for merged allele column.
Warning: Multiple columns in the sumstats file seem to relate to alleles A1>A2.
The column ALLELES will be kept whereas the column(s) ALLELE will be removed.
If this is not the correct column to keep, please remove all incorrect columns from those listed here before 
running `format_sumstats()`.
Column ALLELES has been separated into the columns A1, A2
Checking A1 is uppercase
Checking A2 is uppercase
Checking for incorrect base-pair positions
Reordering so first three column headers are SNP, CHR and BP in this order.
Reordering so the fourth and fifth columns are A1 and A2.
Checking for missing data.
Checking for duplicate columns.
Checking for duplicated rows.
INFO column not available. Skipping INFO score filtering step.
Filtering SNPs, ensuring SE>0.
Ensuring all SNPs have N<5 std dev above mean.
47 SNPs (50.5%) have FRQ values > 0.5. Conventionally the FRQ column is intended to show the minor/effect allele frequency.
The FRQ column was mapped from one of the following from the inputted  summary statistics file:
FRQ, EAF, FREQUENCY, FRQ_U, F_U, MAF, FREQ, FREQ_TESTED_ALLELE, FRQ_TESTED_ALLELE, FREQ_EFFECT_ALLELE, FRQ_EFFECT_ALLELE, EFFECT_ALLELE_FREQUENCY, EFFECT_ALLELE_FREQ, EFFECT_ALLELE_FRQ, A2FREQ, A2FRQ, ALLELE_FREQUENCY, ALLELE_FREQ, ALLELE_FRQ, AF, MINOR_AF, EFFECT_AF, A2_AF, EFF_AF, ALT_AF, ALTERNATIVE_AF, INC_AF, A_2_AF, TESTED_AF, ALLELEFREQ, ALT_FREQ, EAF_HRC, EFFECTALLELEFREQ, FREQ.B, FREQ_EUROPEAN_1000GENOMES, FREQ_HAPMAP, FREQ_TESTED_ALLELE_IN_HRS, FRQ_U_113154, FRQ_U_31358, FRQ_U_344901, FRQ_U_43456, POOLED_ALT_AF, AF_ALT, AF.ALT, AF-ALT, ALT.AF, ALT-AF, A2.AF, A2-AF, AF.EFF, AF_EFF, ALL_AF
As frq_is_maf=TRUE, the FRQ column will not be renamed. If the FRQ values were intended to represent major allele frequency,
set frq_is_maf=FALSE to rename the column as MAJOR_ALLELE_FRQ and differentiate it from minor/effect allele frequency.
Sorting coordinates with "data.table".
Writing in tabular format ==> F:\biocbuild\bbs-3.18-bioc\tmpdir\RtmpAJ6g1k\file1da5c76f44d5f.tsv.gz
Summary statistics report:
   - 93 rows (100% of original 93 rows)
   - 93 unique variants
   - 70 genome-wide significant variants (P<5e-8)
   - 20 chromosomes
Done munging in 0.033 minutes.
Successfully finished preparing sumstats file, preview:
Reading header.
          SNP   CHR       BP     A1     A2     FRQ   BETA    SE         P
       <char> <int>    <int> <char> <char>   <num>  <num> <num>     <num>
1:   rs301800     1  8490603      T      C 0.17910  0.019 0.003 1.794e-08
2: rs11210860     1 43982527      A      G 0.36940  0.017 0.003 2.359e-10
3: rs34305371     1 72733610      A      G 0.08769  0.035 0.005 3.762e-14
4:  rs2568955     1 72762169      T      C 0.23690 -0.017 0.003 1.797e-08
Returning path to saved data.
Formatted summary statistics will be saved to ==>  F:\biocbuild\bbs-3.18-bioc\tmpdir\RtmpAJ6g1k\file1da5c71d07638.tsv.gz
Reading header.
Tabular format detected.
Importing tabular file: F:\biocbuild\bbs-3.18-bioc\tmpdir\RtmpAJ6g1k\file1da5c601649c7
Checking for empty columns.
Infer Effect Column
First line of summary statistics file: 
MarkerName	CHR	POS	A1	A2	EAF	Beta	SE	Pval	
Allele columns are ambiguous, attempting to infer direction
Can't infer allele columns from sumstats
Standardising column headers.
First line of summary statistics file: 
MarkerName	CHR	POS	A1	A2	EAF	Beta	SE	Pval	
Summary statistics report:
   - 93 rows
   - 93 unique variants
   - 70 genome-wide significant variants (P<5e-8)
   - 20 chromosomes
Checking for multi-GWAS.
Checking for multiple RSIDs on one row.
Checking SNP RSIDs.
Checking for merged allele column.
Checking A1 is uppercase
Checking A2 is uppercase
Checking for incorrect base-pair positions
Checking for missing data.
Checking for duplicate columns.
Checking for duplicated rows.
INFO column not available. Skipping INFO score filtering step.
Filtering SNPs, ensuring SE>0.
Ensuring all SNPs have N<5 std dev above mean.
47 SNPs (50.5%) have FRQ values > 0.5. Conventionally the FRQ column is intended to show the minor/effect allele frequency.
The FRQ column was mapped from one of the following from the inputted  summary statistics file:
FRQ, EAF, FREQUENCY, FRQ_U, F_U, MAF, FREQ, FREQ_TESTED_ALLELE, FRQ_TESTED_ALLELE, FREQ_EFFECT_ALLELE, FRQ_EFFECT_ALLELE, EFFECT_ALLELE_FREQUENCY, EFFECT_ALLELE_FREQ, EFFECT_ALLELE_FRQ, A2FREQ, A2FRQ, ALLELE_FREQUENCY, ALLELE_FREQ, ALLELE_FRQ, AF, MINOR_AF, EFFECT_AF, A2_AF, EFF_AF, ALT_AF, ALTERNATIVE_AF, INC_AF, A_2_AF, TESTED_AF, ALLELEFREQ, ALT_FREQ, EAF_HRC, EFFECTALLELEFREQ, FREQ.B, FREQ_EUROPEAN_1000GENOMES, FREQ_HAPMAP, FREQ_TESTED_ALLELE_IN_HRS, FRQ_U_113154, FRQ_U_31358, FRQ_U_344901, FRQ_U_43456, POOLED_ALT_AF, AF_ALT, AF.ALT, AF-ALT, ALT.AF, ALT-AF, A2.AF, A2-AF, AF.EFF, AF_EFF, ALL_AF
As frq_is_maf=TRUE, the FRQ column will not be renamed. If the FRQ values were intended to represent major allele frequency,
set frq_is_maf=FALSE to rename the column as MAJOR_ALLELE_FRQ and differentiate it from minor/effect allele frequency.
Sorting coordinates with "data.table".
Writing in tabular format ==> F:\biocbuild\bbs-3.18-bioc\tmpdir\RtmpAJ6g1k\file1da5c71d07638.tsv.gz
Summary statistics report:
   - 93 rows (100% of original 93 rows)
   - 93 unique variants
   - 70 genome-wide significant variants (P<5e-8)
   - 20 chromosomes
Done munging in 0.035 minutes.
Successfully finished preparing sumstats file, preview:
Reading header.
          SNP   CHR       BP     A1     A2     FRQ   BETA    SE         P
       <char> <int>    <int> <char> <char>   <num>  <num> <num>     <num>
1:   rs301800     1  8490603      T      C 0.17910  0.019 0.003 1.794e-08
2: rs11210860     1 43982527      A      G 0.36940  0.017 0.003 2.359e-10
3: rs34305371     1 72733610      A      G 0.08769  0.035 0.005 3.762e-14
4:  rs2568955     1 72762169      T      C 0.23690 -0.017 0.003 1.797e-08
Returning path to saved data.
Formatted summary statistics will be saved to ==>  F:\biocbuild\bbs-3.18-bioc\tmpdir\RtmpAJ6g1k\file1da5c449c521.tsv.gz
Reading header.
Tabular format detected.
Importing tabular file: F:\biocbuild\bbs-3.18-bioc\tmpdir\RtmpAJ6g1k\file1da5c672537
Checking for empty columns.
Infer Effect Column
First line of summary statistics file: 
MarkerName	A1	A2	EAF	Beta	SE	Pval	CHR_BP	
Allele columns are ambiguous, attempting to infer direction
Can't infer allele columns from sumstats
Standardising column headers.
First line of summary statistics file: 
MarkerName	A1	A2	EAF	Beta	SE	Pval	CHR_BP	
Summary statistics report:
   - 93 rows
   - 93 unique variants
   - 70 genome-wide significant variants (P<5e-8)
Checking for multi-GWAS.
Checking for multiple RSIDs on one row.
Checking SNP RSIDs.
Checking for merged allele column.
Checking A1 is uppercase
Checking A2 is uppercase
Summary statistics file does not have obvious CHR/BP columns. Checking to see if they are joined in another column.
Column CHR_BP has been separated into the columns CHR, BP
Standardising column headers.
First line of summary statistics file: 
SNP	A1	A2	FRQ	BETA	SE	P	CHR	BP	
Checking for incorrect base-pair positions
Reordering so first three column headers are SNP, CHR and BP in this order.
Reordering so the fourth and fifth columns are A1 and A2.
Checking for missing data.
Checking for duplicate columns.
Checking for duplicated rows.
INFO column not available. Skipping INFO score filtering step.
Filtering SNPs, ensuring SE>0.
Ensuring all SNPs have N<5 std dev above mean.
47 SNPs (50.5%) have FRQ values > 0.5. Conventionally the FRQ column is intended to show the minor/effect allele frequency.
The FRQ column was mapped from one of the following from the inputted  summary statistics file:
FRQ, EAF, FREQUENCY, FRQ_U, F_U, MAF, FREQ, FREQ_TESTED_ALLELE, FRQ_TESTED_ALLELE, FREQ_EFFECT_ALLELE, FRQ_EFFECT_ALLELE, EFFECT_ALLELE_FREQUENCY, EFFECT_ALLELE_FREQ, EFFECT_ALLELE_FRQ, A2FREQ, A2FRQ, ALLELE_FREQUENCY, ALLELE_FREQ, ALLELE_FRQ, AF, MINOR_AF, EFFECT_AF, A2_AF, EFF_AF, ALT_AF, ALTERNATIVE_AF, INC_AF, A_2_AF, TESTED_AF, ALLELEFREQ, ALT_FREQ, EAF_HRC, EFFECTALLELEFREQ, FREQ.B, FREQ_EUROPEAN_1000GENOMES, FREQ_HAPMAP, FREQ_TESTED_ALLELE_IN_HRS, FRQ_U_113154, FRQ_U_31358, FRQ_U_344901, FRQ_U_43456, POOLED_ALT_AF, AF_ALT, AF.ALT, AF-ALT, ALT.AF, ALT-AF, A2.AF, A2-AF, AF.EFF, AF_EFF, ALL_AF
As frq_is_maf=TRUE, the FRQ column will not be renamed. If the FRQ values were intended to represent major allele frequency,
set frq_is_maf=FALSE to rename the column as MAJOR_ALLELE_FRQ and differentiate it from minor/effect allele frequency.
Sorting coordinates with "data.table".
Writing in tabular format ==> F:\biocbuild\bbs-3.18-bioc\tmpdir\RtmpAJ6g1k\file1da5c449c521.tsv.gz
Summary statistics report:
   - 93 rows (100% of original 93 rows)
   - 93 unique variants
   - 70 genome-wide significant variants (P<5e-8)
   - 20 chromosomes
Done munging in 0.073 minutes.
Successfully finished preparing sumstats file, preview:
Reading header.
          SNP   CHR       BP     A1     A2     FRQ   BETA    SE         P
       <char> <int>    <int> <char> <char>   <num>  <num> <num>     <num>
1:   rs301800     1  8490603      T      C 0.17910  0.019 0.003 1.794e-08
2: rs11210860     1 43982527      A      G 0.36940  0.017 0.003 2.359e-10
3: rs34305371     1 72733610      A      G 0.08769  0.035 0.005 3.762e-14
4:  rs2568955     1 72762169      T      C 0.23690 -0.017 0.003 1.797e-08
Returning path to saved data.
Formatted summary statistics will be saved to ==>  F:\biocbuild\bbs-3.18-bioc\tmpdir\RtmpAJ6g1k\file1da5c3277394f.tsv.gz
Reading header.
Tabular format detected.
Importing tabular file: F:\biocbuild\bbs-3.18-bioc\tmpdir\RtmpAJ6g1k\file1da5c672537
Checking for empty columns.
Infer Effect Column
First line of summary statistics file: 
MarkerName	CHR	POS	A1	A2	EAF	Beta	SE	Pval	
Allele columns are ambiguous, attempting to infer direction
Can't infer allele columns from sumstats
Standardising column headers.
First line of summary statistics file: 
MarkerName	CHR	POS	A1	A2	EAF	Beta	SE	Pval	
Summary statistics report:
   - 93 rows
   - 93 unique variants
   - 70 genome-wide significant variants (P<5e-8)
   - 20 chromosomes
Checking for multi-GWAS.
Checking for multiple RSIDs on one row.
Checking SNP RSIDs.
Checking for merged allele column.
Checking A1 is uppercase
Checking A2 is uppercase
Checking for incorrect base-pair positions
Checking for missing data.
Checking for duplicate columns.
Checking for duplicated rows.
INFO column not available. Skipping INFO score filtering step.
Filtering SNPs, ensuring SE>0.
Ensuring all SNPs have N<5 std dev above mean.
47 SNPs (50.5%) have FRQ values > 0.5. Conventionally the FRQ column is intended to show the minor/effect allele frequency.
The FRQ column was mapped from one of the following from the inputted  summary statistics file:
FRQ, EAF, FREQUENCY, FRQ_U, F_U, MAF, FREQ, FREQ_TESTED_ALLELE, FRQ_TESTED_ALLELE, FREQ_EFFECT_ALLELE, FRQ_EFFECT_ALLELE, EFFECT_ALLELE_FREQUENCY, EFFECT_ALLELE_FREQ, EFFECT_ALLELE_FRQ, A2FREQ, A2FRQ, ALLELE_FREQUENCY, ALLELE_FREQ, ALLELE_FRQ, AF, MINOR_AF, EFFECT_AF, A2_AF, EFF_AF, ALT_AF, ALTERNATIVE_AF, INC_AF, A_2_AF, TESTED_AF, ALLELEFREQ, ALT_FREQ, EAF_HRC, EFFECTALLELEFREQ, FREQ.B, FREQ_EUROPEAN_1000GENOMES, FREQ_HAPMAP, FREQ_TESTED_ALLELE_IN_HRS, FRQ_U_113154, FRQ_U_31358, FRQ_U_344901, FRQ_U_43456, POOLED_ALT_AF, AF_ALT, AF.ALT, AF-ALT, ALT.AF, ALT-AF, A2.AF, A2-AF, AF.EFF, AF_EFF, ALL_AF
As frq_is_maf=TRUE, the FRQ column will not be renamed. If the FRQ values were intended to represent major allele frequency,
set frq_is_maf=FALSE to rename the column as MAJOR_ALLELE_FRQ and differentiate it from minor/effect allele frequency.
Sorting coordinates with "data.table".
Writing in tabular format ==> F:\biocbuild\bbs-3.18-bioc\tmpdir\RtmpAJ6g1k\file1da5c3277394f.tsv.gz
Summary statistics report:
   - 93 rows (100% of original 93 rows)
   - 93 unique variants
   - 70 genome-wide significant variants (P<5e-8)
   - 20 chromosomes
Done munging in 0.039 minutes.
Successfully finished preparing sumstats file, preview:
Reading header.
          SNP   CHR       BP     A1     A2     FRQ   BETA    SE         P
       <char> <int>    <int> <char> <char>   <num>  <num> <num>     <num>
1:   rs301800     1  8490603      T      C 0.17910  0.019 0.003 1.794e-08
2: rs11210860     1 43982527      A      G 0.36940  0.017 0.003 2.359e-10
3: rs34305371     1 72733610      A      G 0.08769  0.035 0.005 3.762e-14
4:  rs2568955     1 72762169      T      C 0.23690 -0.017 0.003 1.797e-08
Returning path to saved data.
Formatted summary statistics will be saved to ==>  F:\biocbuild\bbs-3.18-bioc\tmpdir\RtmpAJ6g1k\file1da5c4e1334e6.tsv.gz
Reading header.
Tabular format detected.
Importing tabular file: F:\biocbuild\bbs-3.18-bioc\tmpdir\RtmpAJ6g1k\file1da5c2dbb3555
Checking for empty columns.
Infer Effect Column
First line of summary statistics file: 
MarkerName	A1	A2	EAF	Beta	SE	Pval	CHR_BP	CHR_BP_2	
Allele columns are ambiguous, attempting to infer direction
Can't infer allele columns from sumstats
Standardising column headers.
First line of summary statistics file: 
MarkerName	A1	A2	EAF	Beta	SE	Pval	CHR_BP	CHR_BP_2	
Summary statistics report:
   - 93 rows
   - 93 unique variants
   - 70 genome-wide significant variants (P<5e-8)
Checking for multi-GWAS.
Checking for multiple RSIDs on one row.
Checking SNP RSIDs.
Checking for merged allele column.
Checking A1 is uppercase
Checking A2 is uppercase
Summary statistics file does not have obvious CHR/BP columns. Checking to see if they are joined in another column.
Warning: Multiple columns in the sumstats file seem to relate to Chromosome:Base Pair position.
The column CHR_BP_2 will be kept whereas the column(s) CHR_BP will be removed.
If this is not the correct column to keep, please remove all incorrect columns from those listed here before 
running `format_sumstats()`.
Column CHR_BP_2 has been separated into the columns CHR, BP
Standardising column headers.
First line of summary statistics file: 
SNP	A1	A2	FRQ	BETA	SE	P	CHR	BP	
Checking for incorrect base-pair positions
Reordering so first three column headers are SNP, CHR and BP in this order.
Reordering so the fourth and fifth columns are A1 and A2.
Checking for missing data.
Checking for duplicate columns.
Checking for duplicated rows.
INFO column not available. Skipping INFO score filtering step.
Filtering SNPs, ensuring SE>0.
Ensuring all SNPs have N<5 std dev above mean.
47 SNPs (50.5%) have FRQ values > 0.5. Conventionally the FRQ column is intended to show the minor/effect allele frequency.
The FRQ column was mapped from one of the following from the inputted  summary statistics file:
FRQ, EAF, FREQUENCY, FRQ_U, F_U, MAF, FREQ, FREQ_TESTED_ALLELE, FRQ_TESTED_ALLELE, FREQ_EFFECT_ALLELE, FRQ_EFFECT_ALLELE, EFFECT_ALLELE_FREQUENCY, EFFECT_ALLELE_FREQ, EFFECT_ALLELE_FRQ, A2FREQ, A2FRQ, ALLELE_FREQUENCY, ALLELE_FREQ, ALLELE_FRQ, AF, MINOR_AF, EFFECT_AF, A2_AF, EFF_AF, ALT_AF, ALTERNATIVE_AF, INC_AF, A_2_AF, TESTED_AF, ALLELEFREQ, ALT_FREQ, EAF_HRC, EFFECTALLELEFREQ, FREQ.B, FREQ_EUROPEAN_1000GENOMES, FREQ_HAPMAP, FREQ_TESTED_ALLELE_IN_HRS, FRQ_U_113154, FRQ_U_31358, FRQ_U_344901, FRQ_U_43456, POOLED_ALT_AF, AF_ALT, AF.ALT, AF-ALT, ALT.AF, ALT-AF, A2.AF, A2-AF, AF.EFF, AF_EFF, ALL_AF
As frq_is_maf=TRUE, the FRQ column will not be renamed. If the FRQ values were intended to represent major allele frequency,
set frq_is_maf=FALSE to rename the column as MAJOR_ALLELE_FRQ and differentiate it from minor/effect allele frequency.
Sorting coordinates with "data.table".
Writing in tabular format ==> F:\biocbuild\bbs-3.18-bioc\tmpdir\RtmpAJ6g1k\file1da5c4e1334e6.tsv.gz
Summary statistics report:
   - 93 rows (100% of original 93 rows)
   - 93 unique variants
   - 70 genome-wide significant variants (P<5e-8)
   - 20 chromosomes
Done munging in 0.067 minutes.
Successfully finished preparing sumstats file, preview:
Reading header.
          SNP   CHR       BP     A1     A2     FRQ   BETA    SE         P
       <char> <int>    <int> <char> <char>   <num>  <num> <num>     <num>
1:   rs301800     1  8490603      T      C 0.17910  0.019 0.003 1.794e-08
2: rs11210860     1 43982527      A      G 0.36940  0.017 0.003 2.359e-10
3: rs34305371     1 72733610      A      G 0.08769  0.035 0.005 3.762e-14
4:  rs2568955     1 72762169      T      C 0.23690 -0.017 0.003 1.797e-08
Returning path to saved data.
Formatted summary statistics will be saved to ==>  F:\biocbuild\bbs-3.18-bioc\tmpdir\RtmpAJ6g1k\file1da5c757135b5.tsv.gz
Reading header.
Tabular format detected.
Importing tabular file: F:\biocbuild\bbs-3.18-bioc\tmpdir\RtmpAJ6g1k\file1da5c2dbb3555
Checking for empty columns.
Infer Effect Column
First line of summary statistics file: 
MarkerName	CHR	POS	A1	A2	EAF	Beta	SE	Pval	
Allele columns are ambiguous, attempting to infer direction
Can't infer allele columns from sumstats
Standardising column headers.
First line of summary statistics file: 
MarkerName	CHR	POS	A1	A2	EAF	Beta	SE	Pval	
Summary statistics report:
   - 93 rows
   - 93 unique variants
   - 70 genome-wide significant variants (P<5e-8)
   - 20 chromosomes
Checking for multi-GWAS.
Checking for multiple RSIDs on one row.
Checking SNP RSIDs.
Checking for merged allele column.
Checking A1 is uppercase
Checking A2 is uppercase
Checking for incorrect base-pair positions
Checking for missing data.
Checking for duplicate columns.
Checking for duplicated rows.
INFO column not available. Skipping INFO score filtering step.
Filtering SNPs, ensuring SE>0.
Ensuring all SNPs have N<5 std dev above mean.
47 SNPs (50.5%) have FRQ values > 0.5. Conventionally the FRQ column is intended to show the minor/effect allele frequency.
The FRQ column was mapped from one of the following from the inputted  summary statistics file:
FRQ, EAF, FREQUENCY, FRQ_U, F_U, MAF, FREQ, FREQ_TESTED_ALLELE, FRQ_TESTED_ALLELE, FREQ_EFFECT_ALLELE, FRQ_EFFECT_ALLELE, EFFECT_ALLELE_FREQUENCY, EFFECT_ALLELE_FREQ, EFFECT_ALLELE_FRQ, A2FREQ, A2FRQ, ALLELE_FREQUENCY, ALLELE_FREQ, ALLELE_FRQ, AF, MINOR_AF, EFFECT_AF, A2_AF, EFF_AF, ALT_AF, ALTERNATIVE_AF, INC_AF, A_2_AF, TESTED_AF, ALLELEFREQ, ALT_FREQ, EAF_HRC, EFFECTALLELEFREQ, FREQ.B, FREQ_EUROPEAN_1000GENOMES, FREQ_HAPMAP, FREQ_TESTED_ALLELE_IN_HRS, FRQ_U_113154, FRQ_U_31358, FRQ_U_344901, FRQ_U_43456, POOLED_ALT_AF, AF_ALT, AF.ALT, AF-ALT, ALT.AF, ALT-AF, A2.AF, A2-AF, AF.EFF, AF_EFF, ALL_AF
As frq_is_maf=TRUE, the FRQ column will not be renamed. If the FRQ values were intended to represent major allele frequency,
set frq_is_maf=FALSE to rename the column as MAJOR_ALLELE_FRQ and differentiate it from minor/effect allele frequency.
Sorting coordinates with "data.table".
Writing in tabular format ==> F:\biocbuild\bbs-3.18-bioc\tmpdir\RtmpAJ6g1k\file1da5c757135b5.tsv.gz
Summary statistics report:
   - 93 rows (100% of original 93 rows)
   - 93 unique variants
   - 70 genome-wide significant variants (P<5e-8)
   - 20 chromosomes
Done munging in 0.034 minutes.
Successfully finished preparing sumstats file, preview:
Reading header.
          SNP   CHR       BP     A1     A2     FRQ   BETA    SE         P
       <char> <int>    <int> <char> <char>   <num>  <num> <num>     <num>
1:   rs301800     1  8490603      T      C 0.17910  0.019 0.003 1.794e-08
2: rs11210860     1 43982527      A      G 0.36940  0.017 0.003 2.359e-10
3: rs34305371     1 72733610      A      G 0.08769  0.035 0.005 3.762e-14
4:  rs2568955     1 72762169      T      C 0.23690 -0.017 0.003 1.797e-08
Returning path to saved data.
Formatted summary statistics will be saved to ==>  F:\biocbuild\bbs-3.18-bioc\tmpdir\RtmpAJ6g1k\file1da5c387f430.tsv.gz
Reading header.
Tabular format detected.
Importing tabular file: F:\biocbuild\bbs-3.18-bioc\tmpdir\RtmpAJ6g1k\file1da5c541f3dde
Checking for empty columns.
Infer Effect Column
First line of summary statistics file: 
MarkerName	CHR	POS	A1	A2	EAF	Beta	SE	Pval	
Allele columns are ambiguous, attempting to infer direction
Can't infer allele columns from sumstats
Standardising column headers.
First line of summary statistics file: 
MarkerName	CHR	POS	A1	A2	EAF	Beta	SE	Pval	
Summary statistics report:
   - 93 rows
   - 93 unique variants
   - 70 genome-wide significant variants (P<5e-8)
   - 20 chromosomes
Checking for multi-GWAS.
Checking for multiple RSIDs on one row.
Checking SNP RSIDs.
Checking for merged allele column.
Checking A1 is uppercase
Checking A2 is uppercase
Checking for incorrect base-pair positions
Checking for missing data.
Checking for duplicate columns.
Checking for duplicated rows.
INFO column not available. Skipping INFO score filtering step.
Filtering SNPs, ensuring SE>0.
Ensuring all SNPs have N<5 std dev above mean.
47 SNPs (50.5%) have FRQ values > 0.5. Conventionally the FRQ column is intended to show the minor/effect allele frequency.
The FRQ column was mapped from one of the following from the inputted  summary statistics file:
FRQ, EAF, FREQUENCY, FRQ_U, F_U, MAF, FREQ, FREQ_TESTED_ALLELE, FRQ_TESTED_ALLELE, FREQ_EFFECT_ALLELE, FRQ_EFFECT_ALLELE, EFFECT_ALLELE_FREQUENCY, EFFECT_ALLELE_FREQ, EFFECT_ALLELE_FRQ, A2FREQ, A2FRQ, ALLELE_FREQUENCY, ALLELE_FREQ, ALLELE_FRQ, AF, MINOR_AF, EFFECT_AF, A2_AF, EFF_AF, ALT_AF, ALTERNATIVE_AF, INC_AF, A_2_AF, TESTED_AF, ALLELEFREQ, ALT_FREQ, EAF_HRC, EFFECTALLELEFREQ, FREQ.B, FREQ_EUROPEAN_1000GENOMES, FREQ_HAPMAP, FREQ_TESTED_ALLELE_IN_HRS, FRQ_U_113154, FRQ_U_31358, FRQ_U_344901, FRQ_U_43456, POOLED_ALT_AF, AF_ALT, AF.ALT, AF-ALT, ALT.AF, ALT-AF, A2.AF, A2-AF, AF.EFF, AF_EFF, ALL_AF
As frq_is_maf=TRUE, the FRQ column will not be renamed. If the FRQ values were intended to represent major allele frequency,
set frq_is_maf=FALSE to rename the column as MAJOR_ALLELE_FRQ and differentiate it from minor/effect allele frequency.
Sorting coordinates with "data.table".
Writing in tabular format ==> F:\biocbuild\bbs-3.18-bioc\tmpdir\RtmpAJ6g1k\file1da5c387f430.tsv.gz
Summary statistics report:
   - 93 rows (100% of original 93 rows)
   - 93 unique variants
   - 70 genome-wide significant variants (P<5e-8)
   - 20 chromosomes
Done munging in 0.039 minutes.
Successfully finished preparing sumstats file, preview:
Reading header.
          SNP   CHR       BP     A1     A2     FRQ   BETA    SE         P
       <char> <int>    <int> <char> <char>   <num>  <num> <num>     <num>
1:   rs301800     1  8490603      T      C 0.17910  0.019 0.003 1.794e-08
2: rs11210860     1 43982527      A      G 0.36940  0.017 0.003 2.359e-10
3: rs34305371     1 72733610      A      G 0.08769  0.035 0.005 3.762e-14
4:  rs2568955     1 72762169      T      C 0.23690 -0.017 0.003 1.797e-08
Returning path to saved data.
Formatted summary statistics will be saved to ==>  F:\biocbuild\bbs-3.18-bioc\tmpdir\RtmpAJ6g1k\file1da5c24e4171d.tsv.gz
Reading header.
Tabular format detected.
Importing tabular file: F:\biocbuild\bbs-3.18-bioc\tmpdir\RtmpAJ6g1k\file1da5c47ea1248
Checking for empty columns.
Infer Effect Column
First line of summary statistics file: 
MarkerName	CHR	POS	A1	A2	EAF	Beta	SE	Pval	
Allele columns are ambiguous, attempting to infer direction
Can't infer allele columns from sumstats
Standardising column headers.
First line of summary statistics file: 
MarkerName	CHR	POS	A1	A2	EAF	Beta	SE	Pval	
Summary statistics report:
   - 93 rows
   - 93 unique variants
   - 70 genome-wide significant variants (P<5e-8)
   - 20 chromosomes
Checking for multi-GWAS.
Checking for multiple RSIDs on one row.
Checking SNP RSIDs.
Checking for merged allele column.
Checking A1 is uppercase
Checking A2 is uppercase
Checking for incorrect base-pair positions
Checking for missing data.
Checking for duplicate columns.
Checking for duplicated rows.
INFO column not available. Skipping INFO score filtering step.
Filtering SNPs, ensuring SE>0.
Ensuring all SNPs have N<5 std dev above mean.
47 SNPs (50.5%) have FRQ values > 0.5. Conventionally the FRQ column is intended to show the minor/effect allele frequency.
The FRQ column was mapped from one of the following from the inputted  summary statistics file:
FRQ, EAF, FREQUENCY, FRQ_U, F_U, MAF, FREQ, FREQ_TESTED_ALLELE, FRQ_TESTED_ALLELE, FREQ_EFFECT_ALLELE, FRQ_EFFECT_ALLELE, EFFECT_ALLELE_FREQUENCY, EFFECT_ALLELE_FREQ, EFFECT_ALLELE_FRQ, A2FREQ, A2FRQ, ALLELE_FREQUENCY, ALLELE_FREQ, ALLELE_FRQ, AF, MINOR_AF, EFFECT_AF, A2_AF, EFF_AF, ALT_AF, ALTERNATIVE_AF, INC_AF, A_2_AF, TESTED_AF, ALLELEFREQ, ALT_FREQ, EAF_HRC, EFFECTALLELEFREQ, FREQ.B, FREQ_EUROPEAN_1000GENOMES, FREQ_HAPMAP, FREQ_TESTED_ALLELE_IN_HRS, FRQ_U_113154, FRQ_U_31358, FRQ_U_344901, FRQ_U_43456, POOLED_ALT_AF, AF_ALT, AF.ALT, AF-ALT, ALT.AF, ALT-AF, A2.AF, A2-AF, AF.EFF, AF_EFF, ALL_AF
As frq_is_maf=TRUE, the FRQ column will not be renamed. If the FRQ values were intended to represent major allele frequency,
set frq_is_maf=FALSE to rename the column as MAJOR_ALLELE_FRQ and differentiate it from minor/effect allele frequency.
Sorting coordinates with "data.table".
Writing in tabular format ==> F:\biocbuild\bbs-3.18-bioc\tmpdir\RtmpAJ6g1k\file1da5c24e4171d.tsv.gz
Summary statistics report:
   - 93 rows (100% of original 93 rows)
   - 93 unique variants
   - 70 genome-wide significant variants (P<5e-8)
   - 20 chromosomes
Done munging in 0.034 minutes.
Successfully finished preparing sumstats file, preview:
Reading header.
          SNP   CHR       BP     A1     A2     FRQ   BETA    SE         P
       <char> <int>    <int> <char> <char>   <num>  <num> <num>     <num>
1:   rs301800     1  8490603      T      C 0.17910  0.019 0.003 1.794e-08
2: rs11210860     1 43982527      A      G 0.36940  0.017 0.003 2.359e-10
3: rs34305371     1 72733610      A      G 0.08769  0.035 0.005 3.762e-14
4:  rs2568955     1 72762169      T      C 0.23690 -0.017 0.003 1.797e-08
Returning path to saved data.
Setting sorted=FALSE (required when formatted=FALSE).
Formatted summary statistics will be saved to ==>  F:\biocbuild\bbs-3.18-bioc\tmpdir\RtmpAJ6g1k\file1da5c5b2d1fee.tsv.gz
Standardising column headers.
First line of summary statistics file: 
MarkerName	CHR	POS	A1	A2	EAF	Beta	SE	Pval	
Assigning N=1000 for all SNPs.
N already exists within sumstats_dt.
[1] "Testing: compute_n='ldsc'"
Computing effective sample size using the LDSC method:
 Neff = (N_CAS+N_CON) * (N_CAS/(N_CAS+N_CON)) / mean((N_CAS/(N_CAS+N_CON))[(N_CAS+N_CON)==max(N_CAS+N_CON)]))
[1] "Testing: compute_n='giant'"
Computing effective sample size using the GIANT method:
 Neff = 2 / (1/N_CAS + 1/N_CON)
[1] "Testing: compute_n='metal'"
Computing effective sample size using the METAL method:
 Neff = 4 / (1/N_CAS + 1/N_CON)
[1] "Testing: compute_n='sum'"
Computing sample size using the sum method:
 N = N_CAS + N_CON
Formatted summary statistics will be saved to ==>  F:\biocbuild\bbs-3.18-bioc\tmpdir\RtmpAJ6g1k\file1da5c686e42cd.tsv.gz
Reading header.
Tabular format detected.
Importing tabular file: F:\biocbuild\bbs-3.18-bioc\tmpdir\RtmpAJ6g1k\file1da5c1dfa4a03
Checking for empty columns.
Infer Effect Column
First line of summary statistics file: 
MarkerName	CHR	POS	A1	A2	EAF	Beta	SE	Pval	
Allele columns are ambiguous, attempting to infer direction
Can't infer allele columns from sumstats
Standardising column headers.
First line of summary statistics file: 
MarkerName	CHR	POS	A1	A2	EAF	Beta	SE	Pval	
Summary statistics report:
   - 93 rows
   - 93 unique variants
   - 70 genome-wide significant variants (P<5e-8)
   - 20 chromosomes
Checking for multi-GWAS.
Checking for multiple RSIDs on one row.
Checking SNP RSIDs.
Checking for merged allele column.
Checking A1 is uppercase
Checking A2 is uppercase
Checking for incorrect base-pair positions
Checking for missing data.
Checking for duplicate columns.
Checking for duplicated rows.
INFO column not available. Skipping INFO score filtering step.
Filtering SNPs, ensuring SE>0.
Ensuring all SNPs have N<5 std dev above mean.
47 SNPs (50.5%) have FRQ values > 0.5. Conventionally the FRQ column is intended to show the minor/effect allele frequency.
The FRQ column was mapped from one of the following from the inputted  summary statistics file:
FRQ, EAF, FREQUENCY, FRQ_U, F_U, MAF, FREQ, FREQ_TESTED_ALLELE, FRQ_TESTED_ALLELE, FREQ_EFFECT_ALLELE, FRQ_EFFECT_ALLELE, EFFECT_ALLELE_FREQUENCY, EFFECT_ALLELE_FREQ, EFFECT_ALLELE_FRQ, A2FREQ, A2FRQ, ALLELE_FREQUENCY, ALLELE_FREQ, ALLELE_FRQ, AF, MINOR_AF, EFFECT_AF, A2_AF, EFF_AF, ALT_AF, ALTERNATIVE_AF, INC_AF, A_2_AF, TESTED_AF, ALLELEFREQ, ALT_FREQ, EAF_HRC, EFFECTALLELEFREQ, FREQ.B, FREQ_EUROPEAN_1000GENOMES, FREQ_HAPMAP, FREQ_TESTED_ALLELE_IN_HRS, FRQ_U_113154, FRQ_U_31358, FRQ_U_344901, FRQ_U_43456, POOLED_ALT_AF, AF_ALT, AF.ALT, AF-ALT, ALT.AF, ALT-AF, A2.AF, A2-AF, AF.EFF, AF_EFF, ALL_AF
As frq_is_maf=TRUE, the FRQ column will not be renamed. If the FRQ values were intended to represent major allele frequency,
set frq_is_maf=FALSE to rename the column as MAJOR_ALLELE_FRQ and differentiate it from minor/effect allele frequency.
Sorting coordinates with "data.table".
Writing in tabular format ==> F:\biocbuild\bbs-3.18-bioc\tmpdir\RtmpAJ6g1k\file1da5c686e42cd.tsv.gz
Summary statistics report:
   - 93 rows (100% of original 93 rows)
   - 93 unique variants
   - 70 genome-wide significant variants (P<5e-8)
   - 20 chromosomes
Done munging in 0.035 minutes.
Successfully finished preparing sumstats file, preview:
Reading header.
          SNP   CHR       BP     A1     A2     FRQ   BETA    SE         P
       <char> <int>    <int> <char> <char>   <num>  <num> <num>     <num>
1:   rs301800     1  8490603      T      C 0.17910  0.019 0.003 1.794e-08
2: rs11210860     1 43982527      A      G 0.36940  0.017 0.003 2.359e-10
3: rs34305371     1 72733610      A      G 0.08769  0.035 0.005 3.762e-14
4:  rs2568955     1 72762169      T      C 0.23690 -0.017 0.003 1.797e-08
Returning path to saved data.
******::NOTE::******
 - Log results will be saved to `tempdir()` by default.
 - This means all log data from the run will be  deleted upon ending the R session.
 - To keep it, change `log_folder` to an actual directory  (e.g. log_folder='./').
 ******************** 

Formatted summary statistics will be saved to ==>  F:\biocbuild\bbs-3.18-bioc\tmpdir\RtmpAJ6g1k\file1da5ce61785f.tsv.gz
Log data to be saved to ==>  F:\biocbuild\bbs-3.18-bioc\tmpdir\RtmpAJ6g1k
Saving output messages to:
F:\biocbuild\bbs-3.18-bioc\tmpdir\RtmpAJ6g1k/file1da5ce61785f_log_msg.txt
Any runtime errors will be saved to:
F:\biocbuild\bbs-3.18-bioc\tmpdir\RtmpAJ6g1k/file1da5ce61785f_log_output.txt
Messages will not be printed to terminal.
Returning path to saved data.
******::NOTE::******
 - Log results will be saved to `tempdir()` by default.
 - This means all log data from the run will be  deleted upon ending the R session.
 - To keep it, change `log_folder` to an actual directory  (e.g. log_folder='./').
 ******************** 

Formatted summary statistics will be saved to ==>  F:\biocbuild\bbs-3.18-bioc\tmpdir\RtmpAJ6g1k\file1da5cc0220e1.tsv.gz
Log data to be saved to ==>  F:\biocbuild\bbs-3.18-bioc\tmpdir\RtmpAJ6g1k
Reading header.
Tabular format detected.
Importing tabular file: F:\biocbuild\bbs-3.18-bioc\tmpdir\RtmpAJ6g1k\file1da5c6b64f26
Checking for empty columns.
Infer Effect Column
First line of summary statistics file: 
MarkerName	CHR	POS	A1	A2	EAF	Beta	SE	Pval	
Allele columns are ambiguous, attempting to infer direction
Can't infer allele columns from sumstats
Standardising column headers.
First line of summary statistics file: 
MarkerName	CHR	POS	A1	A2	EAF	Beta	SE	Pval	
Summary statistics report:
   - 93 rows
   - 93 unique variants
   - 70 genome-wide significant variants (P<5e-8)
   - 20 chromosomes
Checking for multi-GWAS.
Checking for multiple RSIDs on one row.
Checking SNP RSIDs.
Checking for merged allele column.
Checking A1 is uppercase
Checking A2 is uppercase
Checking for incorrect base-pair positions
Checking for missing data.
Checking for duplicate columns.
Checking for duplicated rows.
INFO column not available. Skipping INFO score filtering step.
Filtering SNPs, ensuring SE>0.
Ensuring all SNPs have N<5 std dev above mean.
47 SNPs (50.5%) have FRQ values > 0.5. Conventionally the FRQ column is intended to show the minor/effect allele frequency.
The FRQ column was mapped from one of the following from the inputted  summary statistics file:
FRQ, EAF, FREQUENCY, FRQ_U, F_U, MAF, FREQ, FREQ_TESTED_ALLELE, FRQ_TESTED_ALLELE, FREQ_EFFECT_ALLELE, FRQ_EFFECT_ALLELE, EFFECT_ALLELE_FREQUENCY, EFFECT_ALLELE_FREQ, EFFECT_ALLELE_FRQ, A2FREQ, A2FRQ, ALLELE_FREQUENCY, ALLELE_FREQ, ALLELE_FRQ, AF, MINOR_AF, EFFECT_AF, A2_AF, EFF_AF, ALT_AF, ALTERNATIVE_AF, INC_AF, A_2_AF, TESTED_AF, ALLELEFREQ, ALT_FREQ, EAF_HRC, EFFECTALLELEFREQ, FREQ.B, FREQ_EUROPEAN_1000GENOMES, FREQ_HAPMAP, FREQ_TESTED_ALLELE_IN_HRS, FRQ_U_113154, FRQ_U_31358, FRQ_U_344901, FRQ_U_43456, POOLED_ALT_AF, AF_ALT, AF.ALT, AF-ALT, ALT.AF, ALT-AF, A2.AF, A2-AF, AF.EFF, AF_EFF, ALL_AF
As frq_is_maf=TRUE, the FRQ column will not be renamed. If the FRQ values were intended to represent major allele frequency,
set frq_is_maf=FALSE to rename the column as MAJOR_ALLELE_FRQ and differentiate it from minor/effect allele frequency.
Sorting coordinates with "data.table".
Writing in tabular format ==> F:\biocbuild\bbs-3.18-bioc\tmpdir\RtmpAJ6g1k\file1da5cc0220e1.tsv.gz
Summary statistics report:
   - 93 rows (100% of original 93 rows)
   - 93 unique variants
   - 70 genome-wide significant variants (P<5e-8)
   - 20 chromosomes
Done munging in 0.034 minutes.
Successfully finished preparing sumstats file, preview:
Reading header.
          SNP   CHR       BP     A1     A2     FRQ   BETA    SE         P
       <char> <int>    <int> <char> <char>   <num>  <num> <num>     <num>
1:   rs301800     1  8490603      T      C 0.17910  0.019 0.003 1.794e-08
2: rs11210860     1 43982527      A      G 0.36940  0.017 0.003 2.359e-10
3: rs34305371     1 72733610      A      G 0.08769  0.035 0.005 3.762e-14
4:  rs2568955     1 72762169      T      C 0.23690 -0.017 0.003 1.797e-08
Returning path to saved data.
Formatted summary statistics will be saved to ==>  F:\biocbuild\bbs-3.18-bioc\tmpdir\RtmpAJ6g1k\file1da5c3b5ecc.tsv.gz
Reading header.
Tabular format detected.
Importing tabular file: F:\biocbuild\bbs-3.18-bioc\tmpdir\RtmpAJ6g1k\file1da5c177b2ce5
Checking for empty columns.
Infer Effect Column
First line of summary statistics file: 
MarkerName	CHR	POS	A1	A2	EAF	Beta	SE	Pval	
Allele columns are ambiguous, attempting to infer direction
Can't infer allele columns from sumstats
Standardising column headers.
First line of summary statistics file: 
MarkerName	CHR	POS	A1	A2	EAF	Beta	SE	Pval	
Summary statistics report:
   - 186 rows
   - 93 unique variants
   - 140 genome-wide significant variants (P<5e-8)
   - 20 chromosomes
Checking for multi-GWAS.
Checking for multiple RSIDs on one row.
Checking SNP RSIDs.
Checking for merged allele column.
Checking A1 is uppercase
Checking A2 is uppercase
Checking for incorrect base-pair positions
Checking for missing data.
Checking for duplicate columns.
Checking for duplicated rows.
93 sumstat rows are duplicated. These duplicates will be removed.
INFO column not available. Skipping INFO score filtering step.
Filtering SNPs, ensuring SE>0.
Ensuring all SNPs have N<5 std dev above mean.
47 SNPs (50.5%) have FRQ values > 0.5. Conventionally the FRQ column is intended to show the minor/effect allele frequency.
The FRQ column was mapped from one of the following from the inputted  summary statistics file:
FRQ, EAF, FREQUENCY, FRQ_U, F_U, MAF, FREQ, FREQ_TESTED_ALLELE, FRQ_TESTED_ALLELE, FREQ_EFFECT_ALLELE, FRQ_EFFECT_ALLELE, EFFECT_ALLELE_FREQUENCY, EFFECT_ALLELE_FREQ, EFFECT_ALLELE_FRQ, A2FREQ, A2FRQ, ALLELE_FREQUENCY, ALLELE_FREQ, ALLELE_FRQ, AF, MINOR_AF, EFFECT_AF, A2_AF, EFF_AF, ALT_AF, ALTERNATIVE_AF, INC_AF, A_2_AF, TESTED_AF, ALLELEFREQ, ALT_FREQ, EAF_HRC, EFFECTALLELEFREQ, FREQ.B, FREQ_EUROPEAN_1000GENOMES, FREQ_HAPMAP, FREQ_TESTED_ALLELE_IN_HRS, FRQ_U_113154, FRQ_U_31358, FRQ_U_344901, FRQ_U_43456, POOLED_ALT_AF, AF_ALT, AF.ALT, AF-ALT, ALT.AF, ALT-AF, A2.AF, A2-AF, AF.EFF, AF_EFF, ALL_AF
As frq_is_maf=TRUE, the FRQ column will not be renamed. If the FRQ values were intended to represent major allele frequency,
set frq_is_maf=FALSE to rename the column as MAJOR_ALLELE_FRQ and differentiate it from minor/effect allele frequency.
Sorting coordinates with "data.table".
Writing in tabular format ==> F:\biocbuild\bbs-3.18-bioc\tmpdir\RtmpAJ6g1k\file1da5c3b5ecc.tsv.gz
Summary statistics report:
   - 93 rows (50% of original 186 rows)
   - 93 unique variants
   - 70 genome-wide significant variants (P<5e-8)
   - 20 chromosomes
Done munging in 0.035 minutes.
Successfully finished preparing sumstats file, preview:
Reading header.
          SNP   CHR       BP     A1     A2     FRQ   BETA    SE         P
       <char> <int>    <int> <char> <char>   <num>  <num> <num>     <num>
1:   rs301800     1  8490603      T      C 0.17910  0.019 0.003 1.794e-08
2: rs11210860     1 43982527      A      G 0.36940  0.017 0.003 2.359e-10
3: rs34305371     1 72733610      A      G 0.08769  0.035 0.005 3.762e-14
4:  rs2568955     1 72762169      T      C 0.23690 -0.017 0.003 1.797e-08
Returning path to saved data.
Formatted summary statistics will be saved to ==>  F:\biocbuild\bbs-3.18-bioc\tmpdir\RtmpAJ6g1k\file1da5c13576096.tsv.gz
Reading header.
Tabular format detected.
Importing tabular file: F:\biocbuild\bbs-3.18-bioc\tmpdir\RtmpAJ6g1k\file1da5c177b2ce5
Checking for empty columns.
Infer Effect Column
First line of summary statistics file: 
MarkerName	CHR	POS	A1	A2	EAF	Beta	SE	Pval	
Allele columns are ambiguous, attempting to infer direction
Can't infer allele columns from sumstats
Standardising column headers.
First line of summary statistics file: 
MarkerName	CHR	POS	A1	A2	EAF	Beta	SE	Pval	
Summary statistics report:
   - 93 rows
   - 93 unique variants
   - 70 genome-wide significant variants (P<5e-8)
   - 20 chromosomes
Checking for multi-GWAS.
Checking for multiple RSIDs on one row.
Checking SNP RSIDs.
Checking for merged allele column.
Checking A1 is uppercase
Checking A2 is uppercase
Checking for incorrect base-pair positions
Checking for missing data.
Checking for duplicate columns.
Checking for duplicated rows.
INFO column not available. Skipping INFO score filtering step.
Filtering SNPs, ensuring SE>0.
Ensuring all SNPs have N<5 std dev above mean.
47 SNPs (50.5%) have FRQ values > 0.5. Conventionally the FRQ column is intended to show the minor/effect allele frequency.
The FRQ column was mapped from one of the following from the inputted  summary statistics file:
FRQ, EAF, FREQUENCY, FRQ_U, F_U, MAF, FREQ, FREQ_TESTED_ALLELE, FRQ_TESTED_ALLELE, FREQ_EFFECT_ALLELE, FRQ_EFFECT_ALLELE, EFFECT_ALLELE_FREQUENCY, EFFECT_ALLELE_FREQ, EFFECT_ALLELE_FRQ, A2FREQ, A2FRQ, ALLELE_FREQUENCY, ALLELE_FREQ, ALLELE_FRQ, AF, MINOR_AF, EFFECT_AF, A2_AF, EFF_AF, ALT_AF, ALTERNATIVE_AF, INC_AF, A_2_AF, TESTED_AF, ALLELEFREQ, ALT_FREQ, EAF_HRC, EFFECTALLELEFREQ, FREQ.B, FREQ_EUROPEAN_1000GENOMES, FREQ_HAPMAP, FREQ_TESTED_ALLELE_IN_HRS, FRQ_U_113154, FRQ_U_31358, FRQ_U_344901, FRQ_U_43456, POOLED_ALT_AF, AF_ALT, AF.ALT, AF-ALT, ALT.AF, ALT-AF, A2.AF, A2-AF, AF.EFF, AF_EFF, ALL_AF
As frq_is_maf=TRUE, the FRQ column will not be renamed. If the FRQ values were intended to represent major allele frequency,
set frq_is_maf=FALSE to rename the column as MAJOR_ALLELE_FRQ and differentiate it from minor/effect allele frequency.
Sorting coordinates with "data.table".
Writing in tabular format ==> F:\biocbuild\bbs-3.18-bioc\tmpdir\RtmpAJ6g1k\file1da5c13576096.tsv.gz
Summary statistics report:
   - 93 rows (100% of original 93 rows)
   - 93 unique variants
   - 70 genome-wide significant variants (P<5e-8)
   - 20 chromosomes
Done munging in 0.042 minutes.
Successfully finished preparing sumstats file, preview:
Reading header.
          SNP   CHR       BP     A1     A2     FRQ   BETA    SE         P
       <char> <int>    <int> <char> <char>   <num>  <num> <num>     <num>
1:   rs301800     1  8490603      T      C 0.17910  0.019 0.003 1.794e-08
2: rs11210860     1 43982527      A      G 0.36940  0.017 0.003 2.359e-10
3: rs34305371     1 72733610      A      G 0.08769  0.035 0.005 3.762e-14
4:  rs2568955     1 72762169      T      C 0.23690 -0.017 0.003 1.797e-08
Returning path to saved data.
Formatted summary statistics will be saved to ==>  F:\biocbuild\bbs-3.18-bioc\tmpdir\RtmpAJ6g1k\file1da5c719c7535.tsv.gz
Reading header.
Tabular format detected.
Importing tabular file: F:\biocbuild\bbs-3.18-bioc\tmpdir\RtmpAJ6g1k\file1da5c177b2ce5
Checking for empty columns.
Infer Effect Column
First line of summary statistics file: 
MarkerName	CHR	POS	A1	A2	EAF	Beta	SE	Pval	
Allele columns are ambiguous, attempting to infer direction
Can't infer allele columns from sumstats
Standardising column headers.
First line of summary statistics file: 
MarkerName	CHR	POS	A1	A2	EAF	Beta	SE	Pval	
Summary statistics report:
   - 94 rows
   - 94 unique variants
   - 70 genome-wide significant variants (P<5e-8)
   - 20 chromosomes
Checking for multi-GWAS.
Checking for multiple RSIDs on one row.
Checking SNP RSIDs.
Checking for merged allele column.
Checking A1 is uppercase
Checking A2 is uppercase
Checking for incorrect base-pair positions
Checking for missing data.
Checking for duplicate columns.
Checking for duplicate SNPs from SNP ID.
Checking for SNPs with duplicated base-pair positions.
1 base-pair positions are duplicated in the sumstats file. These duplicates will be removed.
INFO column not available. Skipping INFO score filtering step.
Filtering SNPs, ensuring SE>0.
Ensuring all SNPs have N<5 std dev above mean.
Checking for bi-allelic SNPs.
Loading SNPlocs data.
Loading reference genome data.
Preprocessing RSIDs.
Validating RSIDs of 93 SNPs using BSgenome::snpsById...
BSgenome::snpsById done in 45 seconds.
47 SNPs (50.5%) have FRQ values > 0.5. Conventionally the FRQ column is intended to show the minor/effect allele frequency.
The FRQ column was mapped from one of the following from the inputted  summary statistics file:
FRQ, EAF, FREQUENCY, FRQ_U, F_U, MAF, FREQ, FREQ_TESTED_ALLELE, FRQ_TESTED_ALLELE, FREQ_EFFECT_ALLELE, FRQ_EFFECT_ALLELE, EFFECT_ALLELE_FREQUENCY, EFFECT_ALLELE_FREQ, EFFECT_ALLELE_FRQ, A2FREQ, A2FRQ, ALLELE_FREQUENCY, ALLELE_FREQ, ALLELE_FRQ, AF, MINOR_AF, EFFECT_AF, A2_AF, EFF_AF, ALT_AF, ALTERNATIVE_AF, INC_AF, A_2_AF, TESTED_AF, ALLELEFREQ, ALT_FREQ, EAF_HRC, EFFECTALLELEFREQ, FREQ.B, FREQ_EUROPEAN_1000GENOMES, FREQ_HAPMAP, FREQ_TESTED_ALLELE_IN_HRS, FRQ_U_113154, FRQ_U_31358, FRQ_U_344901, FRQ_U_43456, POOLED_ALT_AF, AF_ALT, AF.ALT, AF-ALT, ALT.AF, ALT-AF, A2.AF, A2-AF, AF.EFF, AF_EFF, ALL_AF
As frq_is_maf=TRUE, the FRQ column will not be renamed. If the FRQ values were intended to represent major allele frequency,
set frq_is_maf=FALSE to rename the column as MAJOR_ALLELE_FRQ and differentiate it from minor/effect allele frequency.
Sorting coordinates with "data.table".
Writing in tabular format ==> F:\biocbuild\bbs-3.18-bioc\tmpdir\RtmpAJ6g1k\file1da5c719c7535.tsv.gz
Summary statistics report:
   - 93 rows (98.9% of original 94 rows)
   - 93 unique variants
   - 70 genome-wide significant variants (P<5e-8)
   - 20 chromosomes
Done munging in 0.814 minutes.
Successfully finished preparing sumstats file, preview:
Reading header.
          SNP   CHR       BP     A1     A2     FRQ   BETA    SE         P
       <char> <int>    <int> <char> <char>   <num>  <num> <num>     <num>
1:   rs301800     1  8490603      T      C 0.17910  0.019 0.003 1.794e-08
2: rs11210860     1 43982527      A      G 0.36940  0.017 0.003 2.359e-10
3: rs34305371     1 72733610      A      G 0.08769  0.035 0.005 3.762e-14
4:  rs2568955     1 72762169      T      C 0.23690 -0.017 0.003 1.797e-08
Returning path to saved data.
Formatted summary statistics will be saved to ==>  F:\biocbuild\bbs-3.18-bioc\tmpdir\RtmpAJ6g1k\file1da5c272c782f.tsv.gz
Reading header.
Tabular format detected.
Importing tabular file: F:\biocbuild\bbs-3.18-bioc\tmpdir\RtmpAJ6g1k\file1da5c597a6e24
Checking for empty columns.
Infer Effect Column
First line of summary statistics file: 
MarkerName	CHR	POS	A1	A2	EAF	Beta	SE	Pval	
Allele columns are ambiguous, attempting to infer direction
Can't infer allele columns from sumstats
Standardising column headers.
First line of summary statistics file: 
MarkerName	CHR	POS	A1	A2	EAF	Beta	SE	Pval	
Summary statistics report:
   - 93 rows
   - 93 unique variants
   - 70 genome-wide significant variants (P<5e-8)
   - 20 chromosomes
Checking for multi-GWAS.
Checking for multiple RSIDs on one row.
Checking SNP RSIDs.
Checking for merged allele column.
Checking A1 is uppercase
Checking A2 is uppercase
Checking for incorrect base-pair positions
Checking for missing data.
Checking for duplicate columns.
Checking for duplicated rows.
INFO column not available. Skipping INFO score filtering step.
Filtering SNPs, ensuring SE>0.
Filtering effect columns, ensuring none equal 0.
5 SNPs have effect values = 0 and will be removed
Ensuring all SNPs have N<5 std dev above mean.
44 SNPs (50%) have FRQ values > 0.5. Conventionally the FRQ column is intended to show the minor/effect allele frequency.
The FRQ column was mapped from one of the following from the inputted  summary statistics file:
FRQ, EAF, FREQUENCY, FRQ_U, F_U, MAF, FREQ, FREQ_TESTED_ALLELE, FRQ_TESTED_ALLELE, FREQ_EFFECT_ALLELE, FRQ_EFFECT_ALLELE, EFFECT_ALLELE_FREQUENCY, EFFECT_ALLELE_FREQ, EFFECT_ALLELE_FRQ, A2FREQ, A2FRQ, ALLELE_FREQUENCY, ALLELE_FREQ, ALLELE_FRQ, AF, MINOR_AF, EFFECT_AF, A2_AF, EFF_AF, ALT_AF, ALTERNATIVE_AF, INC_AF, A_2_AF, TESTED_AF, ALLELEFREQ, ALT_FREQ, EAF_HRC, EFFECTALLELEFREQ, FREQ.B, FREQ_EUROPEAN_1000GENOMES, FREQ_HAPMAP, FREQ_TESTED_ALLELE_IN_HRS, FRQ_U_113154, FRQ_U_31358, FRQ_U_344901, FRQ_U_43456, POOLED_ALT_AF, AF_ALT, AF.ALT, AF-ALT, ALT.AF, ALT-AF, A2.AF, A2-AF, AF.EFF, AF_EFF, ALL_AF
As frq_is_maf=TRUE, the FRQ column will not be renamed. If the FRQ values were intended to represent major allele frequency,
set frq_is_maf=FALSE to rename the column as MAJOR_ALLELE_FRQ and differentiate it from minor/effect allele frequency.
Sorting coordinates with "data.table".
Writing in tabular format ==> F:\biocbuild\bbs-3.18-bioc\tmpdir\RtmpAJ6g1k\file1da5c272c782f.tsv.gz
Summary statistics report:
   - 88 rows (94.6% of original 93 rows)
   - 88 unique variants
   - 65 genome-wide significant variants (P<5e-8)
   - 20 chromosomes
Done munging in 0.034 minutes.
Successfully finished preparing sumstats file, preview:
Reading header.
          SNP   CHR       BP     A1     A2     FRQ   BETA    SE         P
       <char> <int>    <int> <char> <char>   <num>  <num> <num>     <num>
1:   rs301800     1  8490603      T      C 0.17910  0.019 0.003 1.794e-08
2: rs11210860     1 43982527      A      G 0.36940  0.017 0.003 2.359e-10
3: rs34305371     1 72733610      A      G 0.08769  0.035 0.005 3.762e-14
4:  rs2568955     1 72762169      T      C 0.23690 -0.017 0.003 1.797e-08
Returning path to saved data.
******::NOTE::******
 - Log results will be saved to `tempdir()` by default.
 - This means all log data from the run will be  deleted upon ending the R session.
 - To keep it, change `log_folder` to an actual directory  (e.g. log_folder='./').
 ******************** 

Formatted summary statistics will be saved to ==>  F:\biocbuild\bbs-3.18-bioc\tmpdir\RtmpAJ6g1k\file1da5c6fc27544.tsv.gz
Log data to be saved to ==>  F:\biocbuild\bbs-3.18-bioc\tmpdir\RtmpAJ6g1k
Reading header.
Tabular format detected.
Importing tabular file: F:\biocbuild\bbs-3.18-bioc\tmpdir\RtmpAJ6g1k\file1da5c1443297d
Checking for empty columns.
Infer Effect Column
First line of summary statistics file: 
MarkerName	CHR	POS	A1	A2	EAF	Beta	SE	Pval	FRQ	
Allele columns are ambiguous, attempting to infer direction
Can't infer allele columns from sumstats
Standardising column headers.
First line of summary statistics file: 
MarkerName	CHR	POS	A1	A2	EAF	Beta	SE	Pval	FRQ	
Summary statistics report:
   - 93 rows
   - 93 unique variants
   - 70 genome-wide significant variants (P<5e-8)
   - 20 chromosomes
Checking for multi-GWAS.
Checking for multiple RSIDs on one row.
Checking SNP RSIDs.
Checking for merged allele column.
Checking A1 is uppercase
Checking A2 is uppercase
Checking for incorrect base-pair positions
Checking for missing data.
Checking for duplicate columns.
Checking for duplicated rows.
INFO column not available. Skipping INFO score filtering step.
Filtering SNPs based on FRQ.
38 SNPs are below the FRQ threshold of 0.9 and will be removed.
Writing in tabular format ==> F:\biocbuild\bbs-3.18-bioc\tmpdir\RtmpAJ6g1k/frq_filter.tsv.gz
Filtering SNPs, ensuring SE>0.
Ensuring all SNPs have N<5 std dev above mean.
55 SNPs (100%) have FRQ values > 0.5. Conventionally the FRQ column is intended to show the minor/effect allele frequency.
The FRQ column was mapped from one of the following from the inputted  summary statistics file:
FRQ, EAF, FREQUENCY, FRQ_U, F_U, MAF, FREQ, FREQ_TESTED_ALLELE, FRQ_TESTED_ALLELE, FREQ_EFFECT_ALLELE, FRQ_EFFECT_ALLELE, EFFECT_ALLELE_FREQUENCY, EFFECT_ALLELE_FREQ, EFFECT_ALLELE_FRQ, A2FREQ, A2FRQ, ALLELE_FREQUENCY, ALLELE_FREQ, ALLELE_FRQ, AF, MINOR_AF, EFFECT_AF, A2_AF, EFF_AF, ALT_AF, ALTERNATIVE_AF, INC_AF, A_2_AF, TESTED_AF, ALLELEFREQ, ALT_FREQ, EAF_HRC, EFFECTALLELEFREQ, FREQ.B, FREQ_EUROPEAN_1000GENOMES, FREQ_HAPMAP, FREQ_TESTED_ALLELE_IN_HRS, FRQ_U_113154, FRQ_U_31358, FRQ_U_344901, FRQ_U_43456, POOLED_ALT_AF, AF_ALT, AF.ALT, AF-ALT, ALT.AF, ALT-AF, A2.AF, A2-AF, AF.EFF, AF_EFF, ALL_AF
As frq_is_maf=TRUE, the FRQ column will not be renamed. If the FRQ values were intended to represent major allele frequency,
set frq_is_maf=FALSE to rename the column as MAJOR_ALLELE_FRQ and differentiate it from minor/effect allele frequency.
Sorting coordinates with "data.table".
Writing in tabular format ==> F:\biocbuild\bbs-3.18-bioc\tmpdir\RtmpAJ6g1k\file1da5c6fc27544.tsv.gz
Summary statistics report:
   - 55 rows (59.1% of original 93 rows)
   - 55 unique variants
   - 41 genome-wide significant variants (P<5e-8)
   - 16 chromosomes
Done munging in 0.034 minutes.
Successfully finished preparing sumstats file, preview:
Reading header.
          SNP   CHR       BP     A1     A2     EAF   BETA    SE         P
       <char> <int>    <int> <char> <char>   <num>  <num> <num>     <num>
1: rs11210860     1 43982527      A      G 0.36940  0.017 0.003 2.359e-10
2: rs34305371     1 72733610      A      G 0.08769  0.035 0.005 3.762e-14
3:  rs1008078     1 91189731      T      C 0.37310 -0.016 0.003 6.005e-10
4: rs61787263     1 98618714      T      C 0.76120  0.016 0.003 5.391e-08
        FRQ
      <num>
1: 1.863269
2: 1.169733
3: 1.401423
4: 1.873332
Returning path to saved data.
******::NOTE::******
 - Log results will be saved to `tempdir()` by default.
 - This means all log data from the run will be  deleted upon ending the R session.
 - To keep it, change `log_folder` to an actual directory  (e.g. log_folder='./').
 ******************** 

Formatted summary statistics will be saved to ==>  F:\biocbuild\bbs-3.18-bioc\tmpdir\RtmpAJ6g1k\file1da5c19a76921.tsv.gz
Log data to be saved to ==>  F:\biocbuild\bbs-3.18-bioc\tmpdir\RtmpAJ6g1k
Reading header.
Tabular format detected.
Importing tabular file: F:\biocbuild\bbs-3.18-bioc\tmpdir\RtmpAJ6g1k\file1da5c1443297d
Checking for empty columns.
Infer Effect Column
First line of summary statistics file: 
MarkerName	CHR	POS	A1	A2	EAF	Beta	SE	Pval	FRQ	
Allele columns are ambiguous, attempting to infer direction
Can't infer allele columns from sumstats
Standardising column headers.
First line of summary statistics file: 
MarkerName	CHR	POS	A1	A2	EAF	Beta	SE	Pval	FRQ	
Summary statistics report:
   - 93 rows
   - 93 unique variants
   - 70 genome-wide significant variants (P<5e-8)
   - 20 chromosomes
Checking for multi-GWAS.
Checking for multiple RSIDs on one row.
Checking SNP RSIDs.
Checking for merged allele column.
Checking A1 is uppercase
Checking A2 is uppercase
Checking for incorrect base-pair positions
Checking for missing data.
Checking for duplicate columns.
Checking for duplicated rows.
INFO column not available. Skipping INFO score filtering step.
Filtering SNPs based on FRQ.
38 SNPs are below the FRQ threshold of 0.9 and will be removed.
Writing in tabular format ==> F:\biocbuild\bbs-3.18-bioc\tmpdir\RtmpAJ6g1k/frq_filter.tsv.gz
Filtering SNPs, ensuring SE>0.
Ensuring all SNPs have N<5 std dev above mean.
55 SNPs (100%) have FRQ values > 0.5. Conventionally the FRQ column is intended to show the minor/effect allele frequency.
The FRQ column was mapped from one of the following from the inputted  summary statistics file:
FRQ, EAF, FREQUENCY, FRQ_U, F_U, MAF, FREQ, FREQ_TESTED_ALLELE, FRQ_TESTED_ALLELE, FREQ_EFFECT_ALLELE, FRQ_EFFECT_ALLELE, EFFECT_ALLELE_FREQUENCY, EFFECT_ALLELE_FREQ, EFFECT_ALLELE_FRQ, A2FREQ, A2FRQ, ALLELE_FREQUENCY, ALLELE_FREQ, ALLELE_FRQ, AF, MINOR_AF, EFFECT_AF, A2_AF, EFF_AF, ALT_AF, ALTERNATIVE_AF, INC_AF, A_2_AF, TESTED_AF, ALLELEFREQ, ALT_FREQ, EAF_HRC, EFFECTALLELEFREQ, FREQ.B, FREQ_EUROPEAN_1000GENOMES, FREQ_HAPMAP, FREQ_TESTED_ALLELE_IN_HRS, FRQ_U_113154, FRQ_U_31358, FRQ_U_344901, FRQ_U_43456, POOLED_ALT_AF, AF_ALT, AF.ALT, AF-ALT, ALT.AF, ALT-AF, A2.AF, A2-AF, AF.EFF, AF_EFF, ALL_AF
As frq_is_maf=FALSE, the FRQ column will be renamed MAJOR_ALLELE_FRQ to differentiate the values from 
minor/effect allele frequency.
Sorting coordinates with "data.table".
Writing in tabular format ==> F:\biocbuild\bbs-3.18-bioc\tmpdir\RtmpAJ6g1k\file1da5c19a76921.tsv.gz
Summary statistics report:
   - 55 rows (59.1% of original 93 rows)
   - 55 unique variants
   - 41 genome-wide significant variants (P<5e-8)
   - 16 chromosomes
Done munging in 0.035 minutes.
Successfully finished preparing sumstats file, preview:
Reading header.
          SNP   CHR       BP     A1     A2     EAF   BETA    SE         P
       <char> <int>    <int> <char> <char>   <num>  <num> <num>     <num>
1: rs11210860     1 43982527      A      G 0.36940  0.017 0.003 2.359e-10
2: rs34305371     1 72733610      A      G 0.08769  0.035 0.005 3.762e-14
3:  rs1008078     1 91189731      T      C 0.37310 -0.016 0.003 6.005e-10
4: rs61787263     1 98618714      T      C 0.76120  0.016 0.003 5.391e-08
   MAJOR_ALLELE_FRQ
              <num>
1:         1.863269
2:         1.169733
3:         1.401423
4:         1.873332
Returning path to saved data.
Formatted summary statistics will be saved to ==>  F:\biocbuild\bbs-3.18-bioc\tmpdir\RtmpAJ6g1k\file1da5c1eb84c27.tsv.gz
Reading header.
Tabular format detected.
Importing tabular file: F:\biocbuild\bbs-3.18-bioc\tmpdir\RtmpAJ6g1k\file1da5c5b83384
Checking for empty columns.
Infer Effect Column
First line of summary statistics file: 
SNP	CHR	BP	A1	A2	FRQ	BETA	SE	P	
Allele columns are ambiguous, attempting to infer direction
Can't infer allele columns from sumstats
Standardising column headers.
First line of summary statistics file: 
SNP	CHR	BP	A1	A2	FRQ	BETA	SE	P	
Summary statistics report:
   - 93 rows
   - 93 unique variants
   - 70 genome-wide significant variants (P<5e-8)
   - 20 chromosomes
Checking for multi-GWAS.
Checking for multiple RSIDs on one row.
Checking SNP RSIDs.
Checking for merged allele column.
Checking A1 is uppercase
Checking A2 is uppercase
Checking for incorrect base-pair positions
Checking for missing data.
Checking for duplicate columns.
Checking for duplicated rows.
INFO column not available. Skipping INFO score filtering step.
Filtering SNPs, ensuring SE>0.
Ensuring all SNPs have N<5 std dev above mean.
47 SNPs (50.5%) have FRQ values > 0.5. Conventionally the FRQ column is intended to show the minor/effect allele frequency.
The FRQ column was mapped from one of the following from the inputted  summary statistics file:
FRQ, EAF, FREQUENCY, FRQ_U, F_U, MAF, FREQ, FREQ_TESTED_ALLELE, FRQ_TESTED_ALLELE, FREQ_EFFECT_ALLELE, FRQ_EFFECT_ALLELE, EFFECT_ALLELE_FREQUENCY, EFFECT_ALLELE_FREQ, EFFECT_ALLELE_FRQ, A2FREQ, A2FRQ, ALLELE_FREQUENCY, ALLELE_FREQ, ALLELE_FRQ, AF, MINOR_AF, EFFECT_AF, A2_AF, EFF_AF, ALT_AF, ALTERNATIVE_AF, INC_AF, A_2_AF, TESTED_AF, ALLELEFREQ, ALT_FREQ, EAF_HRC, EFFECTALLELEFREQ, FREQ.B, FREQ_EUROPEAN_1000GENOMES, FREQ_HAPMAP, FREQ_TESTED_ALLELE_IN_HRS, FRQ_U_113154, FRQ_U_31358, FRQ_U_344901, FRQ_U_43456, POOLED_ALT_AF, AF_ALT, AF.ALT, AF-ALT, ALT.AF, ALT-AF, A2.AF, A2-AF, AF.EFF, AF_EFF, ALL_AF
As frq_is_maf=TRUE, the FRQ column will not be renamed. If the FRQ values were intended to represent major allele frequency,
set frq_is_maf=FALSE to rename the column as MAJOR_ALLELE_FRQ and differentiate it from minor/effect allele frequency.
Sorting coordinates with "data.table".
Writing in tabular format ==> F:\biocbuild\bbs-3.18-bioc\tmpdir\RtmpAJ6g1k\file1da5c1eb84c27.tsv.gz
Summary statistics report:
   - 93 rows (100% of original 93 rows)
   - 93 unique variants
   - 70 genome-wide significant variants (P<5e-8)
   - 20 chromosomes
Done munging in 0.035 minutes.
Successfully finished preparing sumstats file, preview:
Reading header.
          SNP   CHR       BP     A1     A2     FRQ   BETA    SE         P
       <char> <int>    <int> <char> <char>   <num>  <num> <num>     <num>
1:   rs301800     1  8490603      T      C 0.17910  0.019 0.003 1.794e-08
2: rs11210860     1 43982527      A      G 0.36940  0.017 0.003 2.359e-10
3: rs34305371     1 72733610      A      G 0.08769  0.035 0.005 3.762e-14
4:  rs2568955     1 72762169      T      C 0.23690 -0.017 0.003 1.797e-08
Returning path to saved data.
Standardising column headers.
First line of summary statistics file: 
MarkerName	CHR	POS	A1	A2	EAF	Beta	SE	Pval	
Sorting coordinates with "data.table".
Formatted summary statistics will be saved to ==>  F:\biocbuild\bbs-3.18-bioc\tmpdir\RtmpAJ6g1k\file1da5c706a7958.tsv.gz
Infer Effect Column
First line of summary statistics file: 
SNP	CHR	BP	non_effect_allele	effect_allele	FRQ	BETA1	SE	P	
Standardising column headers.
First line of summary statistics file: 
SNP	CHR	BP	non_effect_allele	effect_allele	FRQ	BETA1	SE	P	
Summary statistics report:
   - 93 rows
   - 93 unique variants
   - 70 genome-wide significant variants (P<5e-8)
   - 20 chromosomes
Checking for multi-GWAS.
Checking for multiple RSIDs on one row.
Checking SNP RSIDs.
Checking for merged allele column.
Checking A1 is uppercase
Checking A2 is uppercase
Checking for incorrect base-pair positions
Checking for missing data.
Checking for duplicate columns.
Checking for duplicated rows.
INFO column not available. Skipping INFO score filtering step.
Filtering SNPs, ensuring SE>0.
Ensuring all SNPs have N<5 std dev above mean.
47 SNPs (50.5%) have FRQ values > 0.5. Conventionally the FRQ column is intended to show the minor/effect allele frequency.
The FRQ column was mapped from one of the following from the inputted  summary statistics file:
FRQ, EAF, FREQUENCY, FRQ_U, F_U, MAF, FREQ, FREQ_TESTED_ALLELE, FRQ_TESTED_ALLELE, FREQ_EFFECT_ALLELE, FRQ_EFFECT_ALLELE, EFFECT_ALLELE_FREQUENCY, EFFECT_ALLELE_FREQ, EFFECT_ALLELE_FRQ, A2FREQ, A2FRQ, ALLELE_FREQUENCY, ALLELE_FREQ, ALLELE_FRQ, AF, MINOR_AF, EFFECT_AF, A2_AF, EFF_AF, ALT_AF, ALTERNATIVE_AF, INC_AF, A_2_AF, TESTED_AF, ALLELEFREQ, ALT_FREQ, EAF_HRC, EFFECTALLELEFREQ, FREQ.B, FREQ_EUROPEAN_1000GENOMES, FREQ_HAPMAP, FREQ_TESTED_ALLELE_IN_HRS, FRQ_U_113154, FRQ_U_31358, FRQ_U_344901, FRQ_U_43456, POOLED_ALT_AF, AF_ALT, AF.ALT, AF-ALT, ALT.AF, ALT-AF, A2.AF, A2-AF, AF.EFF, AF_EFF, ALL_AF
As frq_is_maf=TRUE, the FRQ column will not be renamed. If the FRQ values were intended to represent major allele frequency,
set frq_is_maf=FALSE to rename the column as MAJOR_ALLELE_FRQ and differentiate it from minor/effect allele frequency.
Sorting coordinates with "data.table".
Writing in tabular format ==> F:\biocbuild\bbs-3.18-bioc\tmpdir\RtmpAJ6g1k\file1da5c706a7958.tsv.gz
Summary statistics report:
   - 93 rows (100% of original 93 rows)
   - 93 unique variants
   - 70 genome-wide significant variants (P<5e-8)
   - 20 chromosomes
Done munging in 0.038 minutes.
Successfully finished preparing sumstats file, preview:
Reading header.
          SNP   CHR       BP     A1     A2     FRQ   BETA    SE         P
       <char> <int>    <int> <char> <char>   <num>  <num> <num>     <num>
1:   rs301800     1  8490603      T      C 0.17910  0.019 0.003 1.794e-08
2: rs11210860     1 43982527      A      G 0.36940  0.017 0.003 2.359e-10
3: rs34305371     1 72733610      A      G 0.08769  0.035 0.005 3.762e-14
4:  rs2568955     1 72762169      T      C 0.23690 -0.017 0.003 1.797e-08
Returning data directly.
Formatted summary statistics will be saved to ==>  F:\biocbuild\bbs-3.18-bioc\tmpdir\RtmpAJ6g1k\file1da5c5cec6377.tsv.gz
Infer Effect Column
First line of summary statistics file: 
SNP	CHR	BP	A2	A1	FRQ	BETA1	SE	P	
Allele columns are ambiguous, attempting to infer direction
Found direction from effect/frq column naming
Effect/frq column(s) relate to A1 in the inputted sumstats
Standardising column headers.
First line of summary statistics file: 
SNP	CHR	BP	A1	A2	FRQ	BETA1	SE	P	
Summary statistics report:
   - 93 rows
   - 93 unique variants
   - 70 genome-wide significant variants (P<5e-8)
   - 20 chromosomes
Checking for multi-GWAS.
Checking for multiple RSIDs on one row.
Checking SNP RSIDs.
Checking for merged allele column.
Checking A1 is uppercase
Checking A2 is uppercase
Checking for incorrect base-pair positions
Checking for missing data.
Checking for duplicate columns.
Checking for duplicated rows.
INFO column not available. Skipping INFO score filtering step.
Filtering SNPs, ensuring SE>0.
Ensuring all SNPs have N<5 std dev above mean.
47 SNPs (50.5%) have FRQ values > 0.5. Conventionally the FRQ column is intended to show the minor/effect allele frequency.
The FRQ column was mapped from one of the following from the inputted  summary statistics file:
FRQ, EAF, FREQUENCY, FRQ_U, F_U, MAF, FREQ, FREQ_TESTED_ALLELE, FRQ_TESTED_ALLELE, FREQ_EFFECT_ALLELE, FRQ_EFFECT_ALLELE, EFFECT_ALLELE_FREQUENCY, EFFECT_ALLELE_FREQ, EFFECT_ALLELE_FRQ, A2FREQ, A2FRQ, ALLELE_FREQUENCY, ALLELE_FREQ, ALLELE_FRQ, AF, MINOR_AF, EFFECT_AF, A2_AF, EFF_AF, ALT_AF, ALTERNATIVE_AF, INC_AF, A_2_AF, TESTED_AF, ALLELEFREQ, ALT_FREQ, EAF_HRC, EFFECTALLELEFREQ, FREQ.B, FREQ_EUROPEAN_1000GENOMES, FREQ_HAPMAP, FREQ_TESTED_ALLELE_IN_HRS, FRQ_U_113154, FRQ_U_31358, FRQ_U_344901, FRQ_U_43456, POOLED_ALT_AF, AF_ALT, AF.ALT, AF-ALT, ALT.AF, ALT-AF, A2.AF, A2-AF, AF.EFF, AF_EFF, ALL_AF
As frq_is_maf=TRUE, the FRQ column will not be renamed. If the FRQ values were intended to represent major allele frequency,
set frq_is_maf=FALSE to rename the column as MAJOR_ALLELE_FRQ and differentiate it from minor/effect allele frequency.
Sorting coordinates with "data.table".
Writing in tabular format ==> F:\biocbuild\bbs-3.18-bioc\tmpdir\RtmpAJ6g1k\file1da5c5cec6377.tsv.gz
Summary statistics report:
   - 93 rows (100% of original 93 rows)
   - 93 unique variants
   - 70 genome-wide significant variants (P<5e-8)
   - 20 chromosomes
Done munging in 0.033 minutes.
Successfully finished preparing sumstats file, preview:
Reading header.
          SNP   CHR       BP     A1     A2     FRQ   BETA    SE         P
       <char> <int>    <int> <char> <char>   <num>  <num> <num>     <num>
1:   rs301800     1  8490603      T      C 0.17910  0.019 0.003 1.794e-08
2: rs11210860     1 43982527      A      G 0.36940  0.017 0.003 2.359e-10
3: rs34305371     1 72733610      A      G 0.08769  0.035 0.005 3.762e-14
4:  rs2568955     1 72762169      T      C 0.23690 -0.017 0.003 1.797e-08
Returning data directly.
Formatted summary statistics will be saved to ==>  F:\biocbuild\bbs-3.18-bioc\tmpdir\RtmpAJ6g1k\file1da5c1b93573.tsv.gz
Infer Effect Column
First line of summary statistics file: 
SNP	CHR	BP	A2	A1	A1FRQ	BETA	SE	P	
Allele columns are ambiguous, attempting to infer direction
Found direction from effect/frq column naming
Effect/frq column(s) relate to A1 in the inputted sumstats
Standardising column headers.
First line of summary statistics file: 
SNP	CHR	BP	A1	A2	A1FRQ	BETA	SE	P	
Summary statistics report:
   - 93 rows
   - 93 unique variants
   - 70 genome-wide significant variants (P<5e-8)
   - 20 chromosomes
Checking for multi-GWAS.
Checking for multiple RSIDs on one row.
Checking SNP RSIDs.
Checking for merged allele column.
Checking A1 is uppercase
Checking A2 is uppercase
Checking for incorrect base-pair positions
Checking for missing data.
Checking for duplicate columns.
Checking for duplicated rows.
INFO column not available. Skipping INFO score filtering step.
Filtering SNPs, ensuring SE>0.
Ensuring all SNPs have N<5 std dev above mean.
47 SNPs (50.5%) have FRQ values > 0.5. Conventionally the FRQ column is intended to show the minor/effect allele frequency.
The FRQ column was mapped from one of the following from the inputted  summary statistics file:
FRQ, EAF, FREQUENCY, FRQ_U, F_U, MAF, FREQ, FREQ_TESTED_ALLELE, FRQ_TESTED_ALLELE, FREQ_EFFECT_ALLELE, FRQ_EFFECT_ALLELE, EFFECT_ALLELE_FREQUENCY, EFFECT_ALLELE_FREQ, EFFECT_ALLELE_FRQ, A2FREQ, A2FRQ, ALLELE_FREQUENCY, ALLELE_FREQ, ALLELE_FRQ, AF, MINOR_AF, EFFECT_AF, A2_AF, EFF_AF, ALT_AF, ALTERNATIVE_AF, INC_AF, A_2_AF, TESTED_AF, ALLELEFREQ, ALT_FREQ, EAF_HRC, EFFECTALLELEFREQ, FREQ.B, FREQ_EUROPEAN_1000GENOMES, FREQ_HAPMAP, FREQ_TESTED_ALLELE_IN_HRS, FRQ_U_113154, FRQ_U_31358, FRQ_U_344901, FRQ_U_43456, POOLED_ALT_AF, AF_ALT, AF.ALT, AF-ALT, ALT.AF, ALT-AF, A2.AF, A2-AF, AF.EFF, AF_EFF, ALL_AF
As frq_is_maf=TRUE, the FRQ column will not be renamed. If the FRQ values were intended to represent major allele frequency,
set frq_is_maf=FALSE to rename the column as MAJOR_ALLELE_FRQ and differentiate it from minor/effect allele frequency.
Sorting coordinates with "data.table".
Writing in tabular format ==> F:\biocbuild\bbs-3.18-bioc\tmpdir\RtmpAJ6g1k\file1da5c1b93573.tsv.gz
Summary statistics report:
   - 93 rows (100% of original 93 rows)
   - 93 unique variants
   - 70 genome-wide significant variants (P<5e-8)
   - 20 chromosomes
Done munging in 0.036 minutes.
Successfully finished preparing sumstats file, preview:
Reading header.
          SNP   CHR       BP     A1     A2     FRQ   BETA    SE         P
       <char> <int>    <int> <char> <char>   <num>  <num> <num>     <num>
1:   rs301800     1  8490603      T      C 0.17910  0.019 0.003 1.794e-08
2: rs11210860     1 43982527      A      G 0.36940  0.017 0.003 2.359e-10
3: rs34305371     1 72733610      A      G 0.08769  0.035 0.005 3.762e-14
4:  rs2568955     1 72762169      T      C 0.23690 -0.017 0.003 1.797e-08
Returning data directly.
Formatted summary statistics will be saved to ==>  F:\biocbuild\bbs-3.18-bioc\tmpdir\RtmpAJ6g1k\file1da5c2bf02404.tsv.gz
Infer Effect Column
First line of summary statistics file: 
SNP	CHR	BP	A2	A1	FRQ	BETA	SE	P	
Allele columns are ambiguous, attempting to infer direction
Standardising column headers.
First line of summary statistics file: 
SNP	CHR	BP	A2	A1	FRQ	BETA	SE	P	
Loading SNPlocs data.
Loading reference genome data.
Preprocessing RSIDs.
Validating RSIDs of 17 SNPs using BSgenome::snpsById...
BSgenome::snpsById done in 20 seconds.
Effect/frq column(s) relate to A1 in the inputted sumstats
Found direction from matchine reference genome - NOTE this assumes non-effect allele will macth the reference genome
Standardising column headers.
First line of summary statistics file: 
SNP	CHR	BP	A1	A2	FRQ	BETA	SE	P	
Summary statistics report:
   - 17 rows
   - 17 unique variants
   - 15 genome-wide significant variants (P<5e-8)
   - 2 chromosomes
Checking for multi-GWAS.
Checking for multiple RSIDs on one row.
Checking SNP RSIDs.
Checking for merged allele column.
Checking A1 is uppercase
Checking A2 is uppercase
Checking for incorrect base-pair positions
Ensuring all SNPs are on the reference genome.
Loading SNPlocs data.
Loading reference genome data.
Preprocessing RSIDs.
Validating RSIDs of 17 SNPs using BSgenome::snpsById...
BSgenome::snpsById done in 21 seconds.
Checking for missing data.
Checking for duplicate columns.
Checking for duplicated rows.
INFO column not available. Skipping INFO score filtering step.
Filtering SNPs, ensuring SE>0.
Ensuring all SNPs have N<5 std dev above mean.
6 SNPs (35.3%) have FRQ values > 0.5. Conventionally the FRQ column is intended to show the minor/effect allele frequency.
The FRQ column was mapped from one of the following from the inputted  summary statistics file:
FRQ, EAF, FREQUENCY, FRQ_U, F_U, MAF, FREQ, FREQ_TESTED_ALLELE, FRQ_TESTED_ALLELE, FREQ_EFFECT_ALLELE, FRQ_EFFECT_ALLELE, EFFECT_ALLELE_FREQUENCY, EFFECT_ALLELE_FREQ, EFFECT_ALLELE_FRQ, A2FREQ, A2FRQ, ALLELE_FREQUENCY, ALLELE_FREQ, ALLELE_FRQ, AF, MINOR_AF, EFFECT_AF, A2_AF, EFF_AF, ALT_AF, ALTERNATIVE_AF, INC_AF, A_2_AF, TESTED_AF, ALLELEFREQ, ALT_FREQ, EAF_HRC, EFFECTALLELEFREQ, FREQ.B, FREQ_EUROPEAN_1000GENOMES, FREQ_HAPMAP, FREQ_TESTED_ALLELE_IN_HRS, FRQ_U_113154, FRQ_U_31358, FRQ_U_344901, FRQ_U_43456, POOLED_ALT_AF, AF_ALT, AF.ALT, AF-ALT, ALT.AF, ALT-AF, A2.AF, A2-AF, AF.EFF, AF_EFF, ALL_AF
As frq_is_maf=TRUE, the FRQ column will not be renamed. If the FRQ values were intended to represent major allele frequency,
set frq_is_maf=FALSE to rename the column as MAJOR_ALLELE_FRQ and differentiate it from minor/effect allele frequency.
Sorting coordinates with "data.table".
Writing in tabular format ==> F:\biocbuild\bbs-3.18-bioc\tmpdir\RtmpAJ6g1k\file1da5c2bf02404.tsv.gz
Summary statistics report:
   - 17 rows (100% of original 17 rows)
   - 17 unique variants
   - 15 genome-wide significant variants (P<5e-8)
   - 2 chromosomes
Done munging in 0.814 minutes.
Successfully finished preparing sumstats file, preview:
Reading header.
          SNP   CHR       BP     A1     A2     FRQ   BETA    SE         P
       <char> <int>    <int> <char> <char>   <num>  <num> <num>     <num>
1:   rs301800     1  8490603      T      C 0.17910  0.019 0.003 1.794e-08
2: rs11210860     1 43982527      A      G 0.36940  0.017 0.003 2.359e-10
3: rs34305371     1 72733610      A      G 0.08769  0.035 0.005 3.762e-14
4:  rs2568955     1 72762169      T      C 0.23690 -0.017 0.003 1.797e-08
Returning data directly.
******::NOTE::******
 - Log results will be saved to `tempdir()` by default.
 - This means all log data from the run will be  deleted upon ending the R session.
 - To keep it, change `log_folder` to an actual directory  (e.g. log_folder='./').
 ******************** 

Formatted summary statistics will be saved to ==>  F:\biocbuild\bbs-3.18-bioc\tmpdir\RtmpAJ6g1k\file1da5c2fd44df.tsv.gz
Log data to be saved to ==>  F:\biocbuild\bbs-3.18-bioc\tmpdir\RtmpAJ6g1k
Reading header.
Tabular format detected.
Importing tabular file: F:\biocbuild\bbs-3.18-bioc\tmpdir\RtmpAJ6g1k\file1da5c515cdb3
Checking for empty columns.
Infer Effect Column
First line of summary statistics file: 
MarkerName	CHR	POS	A1	A2	EAF	Beta	SE	Pval	INFO	
Allele columns are ambiguous, attempting to infer direction
Can't infer allele columns from sumstats
Standardising column headers.
First line of summary statistics file: 
MarkerName	CHR	POS	A1	A2	EAF	Beta	SE	Pval	INFO	
Summary statistics report:
   - 93 rows
   - 93 unique variants
   - 70 genome-wide significant variants (P<5e-8)
   - 20 chromosomes
Checking for multi-GWAS.
Checking for multiple RSIDs on one row.
Checking SNP RSIDs.
Checking for merged allele column.
Checking A1 is uppercase
Checking A2 is uppercase
Checking for incorrect base-pair positions
Checking for missing data.
Checking for duplicate columns.
Checking for duplicated rows.
Filtering SNPs based on INFO score.
38 SNPs are below the INFO threshold of 0.9 and will be removed.
Writing in tabular format ==> F:\biocbuild\bbs-3.18-bioc\tmpdir\RtmpAJ6g1k/info_filter.tsv.gz
Filtering SNPs, ensuring SE>0.
Ensuring all SNPs have N<5 std dev above mean.
28 SNPs (50.9%) have FRQ values > 0.5. Conventionally the FRQ column is intended to show the minor/effect allele frequency.
The FRQ column was mapped from one of the following from the inputted  summary statistics file:
FRQ, EAF, FREQUENCY, FRQ_U, F_U, MAF, FREQ, FREQ_TESTED_ALLELE, FRQ_TESTED_ALLELE, FREQ_EFFECT_ALLELE, FRQ_EFFECT_ALLELE, EFFECT_ALLELE_FREQUENCY, EFFECT_ALLELE_FREQ, EFFECT_ALLELE_FRQ, A2FREQ, A2FRQ, ALLELE_FREQUENCY, ALLELE_FREQ, ALLELE_FRQ, AF, MINOR_AF, EFFECT_AF, A2_AF, EFF_AF, ALT_AF, ALTERNATIVE_AF, INC_AF, A_2_AF, TESTED_AF, ALLELEFREQ, ALT_FREQ, EAF_HRC, EFFECTALLELEFREQ, FREQ.B, FREQ_EUROPEAN_1000GENOMES, FREQ_HAPMAP, FREQ_TESTED_ALLELE_IN_HRS, FRQ_U_113154, FRQ_U_31358, FRQ_U_344901, FRQ_U_43456, POOLED_ALT_AF, AF_ALT, AF.ALT, AF-ALT, ALT.AF, ALT-AF, A2.AF, A2-AF, AF.EFF, AF_EFF, ALL_AF
As frq_is_maf=TRUE, the FRQ column will not be renamed. If the FRQ values were intended to represent major allele frequency,
set frq_is_maf=FALSE to rename the column as MAJOR_ALLELE_FRQ and differentiate it from minor/effect allele frequency.
Sorting coordinates with "data.table".
Writing in tabular format ==> F:\biocbuild\bbs-3.18-bioc\tmpdir\RtmpAJ6g1k\file1da5c2fd44df.tsv.gz
Summary statistics report:
   - 55 rows (59.1% of original 93 rows)
   - 55 unique variants
   - 41 genome-wide significant variants (P<5e-8)
   - 16 chromosomes
Done munging in 0.036 minutes.
Successfully finished preparing sumstats file, preview:
Reading header.
          SNP   CHR       BP     A1     A2     FRQ   BETA    SE         P
       <char> <int>    <int> <char> <char>   <num>  <num> <num>     <num>
1: rs11210860     1 43982527      A      G 0.36940  0.017 0.003 2.359e-10
2: rs34305371     1 72733610      A      G 0.08769  0.035 0.005 3.762e-14
3:  rs1008078     1 91189731      T      C 0.37310 -0.016 0.003 6.005e-10
4: rs61787263     1 98618714      T      C 0.76120  0.016 0.003 5.391e-08
       INFO
      <num>
1: 1.863269
2: 1.169733
3: 1.401423
4: 1.873332
Returning path to saved data.
Formatted summary statistics will be saved to ==>  F:\biocbuild\bbs-3.18-bioc\tmpdir\RtmpAJ6g1k\file1da5c69121f83.tsv.gz
Reading header.
Tabular format detected.
Importing tabular file: F:\biocbuild\bbs-3.18-bioc\tmpdir\RtmpAJ6g1k\file1da5c6e506c8b
Checking for empty columns.
Infer Effect Column
First line of summary statistics file: 
MarkerName	CHR	POS	A1	A2	EAF	Beta	SE	Pval	
Allele columns are ambiguous, attempting to infer direction
Can't infer allele columns from sumstats
Standardising column headers.
First line of summary statistics file: 
MarkerName	CHR	POS	A1	A2	EAF	Beta	SE	Pval	
Summary statistics report:
   - 93 rows
   - 93 unique variants
   - 70 genome-wide significant variants (P<5e-8)
   - 20 chromosomes
Checking for multi-GWAS.
Checking for multiple RSIDs on one row.
Checking SNP RSIDs.
Checking for merged allele column.
Checking A1 is uppercase
Checking A2 is uppercase
Checking for incorrect base-pair positions
Checking for missing data.
Checking for duplicate columns.
Checking for duplicated rows.
INFO column not available. Skipping INFO score filtering step.
Filtering SNPs, ensuring SE>0.
Ensuring all SNPs have N<5 std dev above mean.
47 SNPs (50.5%) have FRQ values > 0.5. Conventionally the FRQ column is intended to show the minor/effect allele frequency.
The FRQ column was mapped from one of the following from the inputted  summary statistics file:
FRQ, EAF, FREQUENCY, FRQ_U, F_U, MAF, FREQ, FREQ_TESTED_ALLELE, FRQ_TESTED_ALLELE, FREQ_EFFECT_ALLELE, FRQ_EFFECT_ALLELE, EFFECT_ALLELE_FREQUENCY, EFFECT_ALLELE_FREQ, EFFECT_ALLELE_FRQ, A2FREQ, A2FRQ, ALLELE_FREQUENCY, ALLELE_FREQ, ALLELE_FRQ, AF, MINOR_AF, EFFECT_AF, A2_AF, EFF_AF, ALT_AF, ALTERNATIVE_AF, INC_AF, A_2_AF, TESTED_AF, ALLELEFREQ, ALT_FREQ, EAF_HRC, EFFECTALLELEFREQ, FREQ.B, FREQ_EUROPEAN_1000GENOMES, FREQ_HAPMAP, FREQ_TESTED_ALLELE_IN_HRS, FRQ_U_113154, FRQ_U_31358, FRQ_U_344901, FRQ_U_43456, POOLED_ALT_AF, AF_ALT, AF.ALT, AF-ALT, ALT.AF, ALT-AF, A2.AF, A2-AF, AF.EFF, AF_EFF, ALL_AF
As frq_is_maf=TRUE, the FRQ column will not be renamed. If the FRQ values were intended to represent major allele frequency,
set frq_is_maf=FALSE to rename the column as MAJOR_ALLELE_FRQ and differentiate it from minor/effect allele frequency.
Sorting coordinates with "data.table".
Writing in tabular format ==> F:\biocbuild\bbs-3.18-bioc\tmpdir\RtmpAJ6g1k\file1da5c69121f83.tsv.gz
Summary statistics report:
   - 93 rows (100% of original 93 rows)
   - 93 unique variants
   - 70 genome-wide significant variants (P<5e-8)
   - 20 chromosomes
Done munging in 0.033 minutes.
Successfully finished preparing sumstats file, preview:
Reading header.
          SNP   CHR       BP     A1     A2     FRQ   BETA    SE         P
       <char> <int>    <int> <char> <char>   <num>  <num> <num>     <num>
1:   rs301800     1  8490603      T      C 0.17910  0.019 0.003 1.794e-08
2: rs11210860     1 43982527      A      G 0.36940  0.017 0.003 2.359e-10
3: rs34305371     1 72733610      A      G 0.08769  0.035 0.005 3.762e-14
4:  rs2568955     1 72762169      T      C 0.23690 -0.017 0.003 1.797e-08
Returning path to saved data.
Formatted summary statistics will be saved to ==>  F:\biocbuild\bbs-3.18-bioc\tmpdir\RtmpAJ6g1k\file1da5c395129bc.tsv.gz
Infer Effect Column
First line of summary statistics file: 
MarkerName	CHR	POS	A1	A2	EAF	Beta	SE	Pval	
Allele columns are ambiguous, attempting to infer direction
Can't infer allele columns from sumstats
Standardising column headers.
First line of summary statistics file: 
MarkerName	CHR	POS	A1	A2	EAF	Beta	SE	Pval	
Summary statistics report:
   - 93 rows
   - 93 unique variants
   - 70 genome-wide significant variants (P<5e-8)
   - 20 chromosomes
Checking for multi-GWAS.
Checking for multiple RSIDs on one row.
Checking SNP RSIDs.
Checking for merged allele column.
Checking A1 is uppercase
Checking A2 is uppercase
Checking for incorrect base-pair positions
Checking for missing data.
Checking for duplicate columns.
Checking for duplicated rows.
INFO column not available. Skipping INFO score filtering step.
Filtering SNPs, ensuring SE>0.
Ensuring all SNPs have N<5 std dev above mean.
47 SNPs (50.5%) have FRQ values > 0.5. Conventionally the FRQ column is intended to show the minor/effect allele frequency.
The FRQ column was mapped from one of the following from the inputted  summary statistics file:
FRQ, EAF, FREQUENCY, FRQ_U, F_U, MAF, FREQ, FREQ_TESTED_ALLELE, FRQ_TESTED_ALLELE, FREQ_EFFECT_ALLELE, FRQ_EFFECT_ALLELE, EFFECT_ALLELE_FREQUENCY, EFFECT_ALLELE_FREQ, EFFECT_ALLELE_FRQ, A2FREQ, A2FRQ, ALLELE_FREQUENCY, ALLELE_FREQ, ALLELE_FRQ, AF, MINOR_AF, EFFECT_AF, A2_AF, EFF_AF, ALT_AF, ALTERNATIVE_AF, INC_AF, A_2_AF, TESTED_AF, ALLELEFREQ, ALT_FREQ, EAF_HRC, EFFECTALLELEFREQ, FREQ.B, FREQ_EUROPEAN_1000GENOMES, FREQ_HAPMAP, FREQ_TESTED_ALLELE_IN_HRS, FRQ_U_113154, FRQ_U_31358, FRQ_U_344901, FRQ_U_43456, POOLED_ALT_AF, AF_ALT, AF.ALT, AF-ALT, ALT.AF, ALT-AF, A2.AF, A2-AF, AF.EFF, AF_EFF, ALL_AF
As frq_is_maf=TRUE, the FRQ column will not be renamed. If the FRQ values were intended to represent major allele frequency,
set frq_is_maf=FALSE to rename the column as MAJOR_ALLELE_FRQ and differentiate it from minor/effect allele frequency.
Sorting coordinates with "data.table".
Writing in tabular format ==> F:\biocbuild\bbs-3.18-bioc\tmpdir\RtmpAJ6g1k\file1da5c395129bc.tsv.gz
Summary statistics report:
   - 93 rows (100% of original 93 rows)
   - 93 unique variants
   - 70 genome-wide significant variants (P<5e-8)
   - 20 chromosomes
Done munging in 0.038 minutes.
Successfully finished preparing sumstats file, preview:
Reading header.
          SNP   CHR       BP     A1     A2     FRQ   BETA    SE         P
       <char> <int>    <int> <char> <char>   <num>  <num> <num>     <num>
1:   rs301800     1  8490603      T      C 0.17910  0.019 0.003 1.794e-08
2: rs11210860     1 43982527      A      G 0.36940  0.017 0.003 2.359e-10
3: rs34305371     1 72733610      A      G 0.08769  0.035 0.005 3.762e-14
4:  rs2568955     1 72762169      T      C 0.23690 -0.017 0.003 1.797e-08
Returning path to saved data.
[1] "F:\\biocbuild\\bbs-3.18-bioc\\tmpdir\\RtmpAJ6g1k/data/file1\\file1da5c474d7dfc.tsv.gz"
[1] "F:\\biocbuild\\bbs-3.18-bioc\\tmpdir\\RtmpAJ6g1k/data/file2\\file1da5c40ca507f.tsv.gz"
[1] "F:\\biocbuild\\bbs-3.18-bioc\\tmpdir\\RtmpAJ6g1k/data/file3\\file1da5c32f748fb.tsv.gz"
[1] "F:\\biocbuild\\bbs-3.18-bioc\\tmpdir\\RtmpAJ6g1k/data/file4\\file1da5c381b5ae2.tsv.gz"
[1] "F:\\biocbuild\\bbs-3.18-bioc\\tmpdir\\RtmpAJ6g1k/data/file5\\file1da5c5705566a.tsv.gz"
[1] "F:\\biocbuild\\bbs-3.18-bioc\\tmpdir\\RtmpAJ6g1k/data/file6\\file1da5c59457841.tsv.gz"
[1] "F:\\biocbuild\\bbs-3.18-bioc\\tmpdir\\RtmpAJ6g1k/data/file7\\file1da5c6490440e.tsv.gz"
[1] "F:\\biocbuild\\bbs-3.18-bioc\\tmpdir\\RtmpAJ6g1k/data/file8\\file1da5c77c967a9.tsv.gz"
[1] "F:\\biocbuild\\bbs-3.18-bioc\\tmpdir\\RtmpAJ6g1k/data/file9\\file1da5c31c21578.tsv.gz"
[1] "F:\\biocbuild\\bbs-3.18-bioc\\tmpdir\\RtmpAJ6g1k/data/file10\\file1da5c36c27654.tsv.gz"
10 file(s) found.
Parsing info from 10 log file(s).
Formatted summary statistics will be saved to ==>  F:\biocbuild\bbs-3.18-bioc\tmpdir\RtmpAJ6g1k\file1da5c3bd76e65.tsv.gz
Reading header.
Tabular format detected.
Importing tabular file: F:\biocbuild\bbs-3.18-bioc\tmpdir\RtmpAJ6g1k\file1da5c6948737
Checking for empty columns.
Infer Effect Column
First line of summary statistics file: 
MarkerName	CHR	POS	A1	A2	EAF	Beta	SE	Pval	
Allele columns are ambiguous, attempting to infer direction
Can't infer allele columns from sumstats
Standardising column headers.
First line of summary statistics file: 
MarkerName	CHR	POS	A1	A2	EAF	Beta	SE	Pval	
Summary statistics report:
   - 93 rows
   - 92 unique variants
   - 69 genome-wide significant variants (P<5e-8)
   - 20 chromosomes
Checking for multi-GWAS.
Checking for multiple RSIDs on one row.
Checking SNP RSIDs.
Checking for merged allele column.
Checking A1 is uppercase
Checking A2 is uppercase
Checking for incorrect base-pair positions
Checking for missing data.
WARNING: 1 rows in sumstats file are missing data and will be removed.
Checking for duplicate columns.
Checking for duplicated rows.
INFO column not available. Skipping INFO score filtering step.
Filtering SNPs, ensuring SE>0.
Ensuring all SNPs have N<5 std dev above mean.
46 SNPs (50%) have FRQ values > 0.5. Conventionally the FRQ column is intended to show the minor/effect allele frequency.
The FRQ column was mapped from one of the following from the inputted  summary statistics file:
FRQ, EAF, FREQUENCY, FRQ_U, F_U, MAF, FREQ, FREQ_TESTED_ALLELE, FRQ_TESTED_ALLELE, FREQ_EFFECT_ALLELE, FRQ_EFFECT_ALLELE, EFFECT_ALLELE_FREQUENCY, EFFECT_ALLELE_FREQ, EFFECT_ALLELE_FRQ, A2FREQ, A2FRQ, ALLELE_FREQUENCY, ALLELE_FREQ, ALLELE_FRQ, AF, MINOR_AF, EFFECT_AF, A2_AF, EFF_AF, ALT_AF, ALTERNATIVE_AF, INC_AF, A_2_AF, TESTED_AF, ALLELEFREQ, ALT_FREQ, EAF_HRC, EFFECTALLELEFREQ, FREQ.B, FREQ_EUROPEAN_1000GENOMES, FREQ_HAPMAP, FREQ_TESTED_ALLELE_IN_HRS, FRQ_U_113154, FRQ_U_31358, FRQ_U_344901, FRQ_U_43456, POOLED_ALT_AF, AF_ALT, AF.ALT, AF-ALT, ALT.AF, ALT-AF, A2.AF, A2-AF, AF.EFF, AF_EFF, ALL_AF
As frq_is_maf=TRUE, the FRQ column will not be renamed. If the FRQ values were intended to represent major allele frequency,
set frq_is_maf=FALSE to rename the column as MAJOR_ALLELE_FRQ and differentiate it from minor/effect allele frequency.
Writing in tabular format ==> F:\biocbuild\bbs-3.18-bioc\tmpdir\RtmpAJ6g1k\file1da5c3bd76e65.tsv.gz
Summary statistics report:
   - 92 rows (98.9% of original 93 rows)
   - 92 unique variants
   - 69 genome-wide significant variants (P<5e-8)
   - 20 chromosomes
Done munging in 0.036 minutes.
Successfully finished preparing sumstats file, preview:
Reading header.
          SNP   CHR       BP     A1     A2    FRQ   BETA    SE         P
       <char> <int>    <int> <char> <char>  <num>  <num> <num>     <num>
1: rs10061788     5 87934707      A      G 0.2164  0.021 0.004 2.464e-09
2:  rs1007883    16 51163406      T      C 0.3713 -0.015 0.003 5.326e-08
3:  rs1008078     1 91189731      T      C 0.3731 -0.016 0.003 6.005e-10
4:  rs1043209    14 23373986      A      G 0.6026  0.018 0.003 1.816e-11
Returning path to saved data.
Formatted summary statistics will be saved to ==>  F:\biocbuild\bbs-3.18-bioc\tmpdir\RtmpAJ6g1k\file1da5c327665c.tsv.gz
Reading header.
Tabular format detected.
Importing tabular file: F:\biocbuild\bbs-3.18-bioc\tmpdir\RtmpAJ6g1k\file1da5c6948737
Checking for empty columns.
Infer Effect Column
First line of summary statistics file: 
MarkerName	CHR	POS	A1	A2	EAF	Beta	SE	Pval	
Allele columns are ambiguous, attempting to infer direction
Can't infer allele columns from sumstats
Standardising column headers.
First line of summary statistics file: 
MarkerName	CHR	POS	A1	A2	EAF	Beta	SE	Pval	
Summary statistics report:
   - 93 rows
   - 93 unique variants
   - 70 genome-wide significant variants (P<5e-8)
   - 20 chromosomes
Checking for multi-GWAS.
Checking for multiple RSIDs on one row.
Checking SNP RSIDs.
Checking for merged allele column.
Checking A1 is uppercase
Checking A2 is uppercase
Checking for incorrect base-pair positions
Checking for missing data.
Checking for duplicate columns.
Checking for duplicated rows.
INFO column not available. Skipping INFO score filtering step.
Filtering SNPs, ensuring SE>0.
Ensuring all SNPs have N<5 std dev above mean.
47 SNPs (50.5%) have FRQ values > 0.5. Conventionally the FRQ column is intended to show the minor/effect allele frequency.
The FRQ column was mapped from one of the following from the inputted  summary statistics file:
FRQ, EAF, FREQUENCY, FRQ_U, F_U, MAF, FREQ, FREQ_TESTED_ALLELE, FRQ_TESTED_ALLELE, FREQ_EFFECT_ALLELE, FRQ_EFFECT_ALLELE, EFFECT_ALLELE_FREQUENCY, EFFECT_ALLELE_FREQ, EFFECT_ALLELE_FRQ, A2FREQ, A2FRQ, ALLELE_FREQUENCY, ALLELE_FREQ, ALLELE_FRQ, AF, MINOR_AF, EFFECT_AF, A2_AF, EFF_AF, ALT_AF, ALTERNATIVE_AF, INC_AF, A_2_AF, TESTED_AF, ALLELEFREQ, ALT_FREQ, EAF_HRC, EFFECTALLELEFREQ, FREQ.B, FREQ_EUROPEAN_1000GENOMES, FREQ_HAPMAP, FREQ_TESTED_ALLELE_IN_HRS, FRQ_U_113154, FRQ_U_31358, FRQ_U_344901, FRQ_U_43456, POOLED_ALT_AF, AF_ALT, AF.ALT, AF-ALT, ALT.AF, ALT-AF, A2.AF, A2-AF, AF.EFF, AF_EFF, ALL_AF
As frq_is_maf=TRUE, the FRQ column will not be renamed. If the FRQ values were intended to represent major allele frequency,
set frq_is_maf=FALSE to rename the column as MAJOR_ALLELE_FRQ and differentiate it from minor/effect allele frequency.
Writing in tabular format ==> F:\biocbuild\bbs-3.18-bioc\tmpdir\RtmpAJ6g1k\file1da5c327665c.tsv.gz
Summary statistics report:
   - 93 rows (100% of original 93 rows)
   - 93 unique variants
   - 70 genome-wide significant variants (P<5e-8)
   - 20 chromosomes
Done munging in 0.035 minutes.
Successfully finished preparing sumstats file, preview:
Reading header.
          SNP   CHR       BP     A1     A2    FRQ   BETA    SE         P
       <char> <int>    <int> <char> <char>  <num>  <num> <num>     <num>
1: rs10061788     5 87934707      A      G 0.2164  0.021 0.004 2.464e-09
2:  rs1007883    16 51163406      T      C 0.3713 -0.015 0.003 5.326e-08
3:  rs1008078     1 91189731      T      C 0.3731 -0.016 0.003 6.005e-10
4:  rs1043209    14 23373986      A      G 0.6026  0.018 0.003 1.816e-11
Returning path to saved data.
Formatted summary statistics will be saved to ==>  F:\biocbuild\bbs-3.18-bioc\tmpdir\RtmpAJ6g1k\file1da5c55592db0.tsv.gz
Infer Effect Column
First line of summary statistics file: 
MarkerName	CHR	POS	A1	A2	EAF	Beta	SE	Pval	
Allele columns are ambiguous, attempting to infer direction
Can't infer allele columns from sumstats
Standardising column headers.
First line of summary statistics file: 
MarkerName	CHR	POS	A1	A2	EAF	Beta	SE	Pval	
Summary statistics report:
   - 93 rows
   - 93 unique variants
   - 70 genome-wide significant variants (P<5e-8)
   - 21 chromosomes
Checking for multi-GWAS.
Checking for multiple RSIDs on one row.
Checking SNP RSIDs.
Checking for merged allele column.
Checking A1 is uppercase
Checking A2 is uppercase
Checking for incorrect base-pair positions
Loading SNPlocs data.
There is no Chromosome or Base Pair Position column found within the data. It must be inferred from other column information.
Loading reference genome data.
Preprocessing RSIDs.
Validating RSIDs of 1 SNPs using BSgenome::snpsById...
BSgenome::snpsById done in 1 seconds.
Checking for missing data.
Checking for duplicate columns.
Checking for duplicated rows.
INFO column not available. Skipping INFO score filtering step.
Filtering SNPs, ensuring SE>0.
Ensuring all SNPs have N<5 std dev above mean.
47 SNPs (50.5%) have FRQ values > 0.5. Conventionally the FRQ column is intended to show the minor/effect allele frequency.
The FRQ column was mapped from one of the following from the inputted  summary statistics file:
FRQ, EAF, FREQUENCY, FRQ_U, F_U, MAF, FREQ, FREQ_TESTED_ALLELE, FRQ_TESTED_ALLELE, FREQ_EFFECT_ALLELE, FRQ_EFFECT_ALLELE, EFFECT_ALLELE_FREQUENCY, EFFECT_ALLELE_FREQ, EFFECT_ALLELE_FRQ, A2FREQ, A2FRQ, ALLELE_FREQUENCY, ALLELE_FREQ, ALLELE_FRQ, AF, MINOR_AF, EFFECT_AF, A2_AF, EFF_AF, ALT_AF, ALTERNATIVE_AF, INC_AF, A_2_AF, TESTED_AF, ALLELEFREQ, ALT_FREQ, EAF_HRC, EFFECTALLELEFREQ, FREQ.B, FREQ_EUROPEAN_1000GENOMES, FREQ_HAPMAP, FREQ_TESTED_ALLELE_IN_HRS, FRQ_U_113154, FRQ_U_31358, FRQ_U_344901, FRQ_U_43456, POOLED_ALT_AF, AF_ALT, AF.ALT, AF-ALT, ALT.AF, ALT-AF, A2.AF, A2-AF, AF.EFF, AF_EFF, ALL_AF
As frq_is_maf=TRUE, the FRQ column will not be renamed. If the FRQ values were intended to represent major allele frequency,
set frq_is_maf=FALSE to rename the column as MAJOR_ALLELE_FRQ and differentiate it from minor/effect allele frequency.
Writing in tabular format ==> F:\biocbuild\bbs-3.18-bioc\tmpdir\RtmpAJ6g1k\file1da5c55592db0.tsv.gz
Summary statistics report:
   - 93 rows (100% of original 93 rows)
   - 93 unique variants
   - 70 genome-wide significant variants (P<5e-8)
   - 20 chromosomes
Done munging in 0.065 minutes.
Successfully finished preparing sumstats file, preview:
Reading header.
          SNP   CHR       BP     A1     A2    FRQ   BETA    SE         P
       <char> <int>    <int> <char> <char>  <num>  <num> <num>     <num>
1: rs10061788     5 87934707      A      G 0.2164  0.021 0.004 2.464e-09
2:  rs1007883    16 51163406      T      C 0.3713 -0.015 0.003 5.326e-08
3:  rs1008078     1 91189731      T      C 0.3731 -0.016 0.003 6.005e-10
4:  rs1043209    14 23373986      A      G 0.6026  0.018 0.003 1.816e-11
Returning path to saved data.
Formatted summary statistics will be saved to ==>  F:\biocbuild\bbs-3.18-bioc\tmpdir\RtmpAJ6g1k\file1da5c136d461f.tsv.gz
Reading header.
Tabular format detected.
Importing tabular file: F:\biocbuild\bbs-3.18-bioc\tmpdir\RtmpAJ6g1k\file1da5c25411c93
Checking for empty columns.
Infer Effect Column
First line of summary statistics file: 
chromosome	rs_id	markername	position_hg18	Effect_allele	Other_allele	EAF_HapMapCEU	N_SMK	Effect_SMK	StdErr_SMK	P_value_SMK	N_NONSMK	Effect_NonSMK	StdErr_NonSMK	P_value_NonSMK	
Standardising column headers.
First line of summary statistics file: 
chromosome	rs_id	markername	position_hg18	Effect_allele	Other_allele	EAF_HapMapCEU	N_SMK	Effect_SMK	StdErr_SMK	P_value_SMK	N_NONSMK	Effect_NonSMK	StdErr_NonSMK	P_value_NonSMK	
Summary statistics report:
   - 5 rows
   - 5 unique variants
   - 1 chromosomes
Checking for multi-GWAS.
WARNING: Multiple traits found in sumstats file only one of which can be analysed: 
SMK, NONSMK
Standardising column headers.
First line of summary statistics file: 
CHR	SNP	MARKERNAME	POSITION_HG18	A2	A1	EAF_HAPMAPCEU	N	EFFECT	STDERR	P_VALUE	N_NONSMK	EFFECT_NONSMK	STDERR_NONSMK	P_VALUE_NONSMK	
Checking for multiple RSIDs on one row.
Checking SNP RSIDs.
1 SNP IDs are not correctly formatted and will be removed.
Checking for merged allele column.
Checking A1 is uppercase
Checking A2 is uppercase
Summary statistics file does not have obvious CHR/BP columns. Checking to see if they are joined in another column.
Column MARKERNAME has been separated into the columns CHR, BP
Standardising column headers.
First line of summary statistics file: 
CHR	SNP	POSITION_HG18	A2	A1	EAF_HAPMAPCEU	N	BETA	SE	P	N_NONSMK	EFFECT_NONSMK	STDERR_NONSMK	P_VALUE_NONSMK	BP	
Checking for incorrect base-pair positions
Reordering so first three column headers are SNP, CHR and BP in this order.
Reordering so the fourth and fifth columns are A1 and A2.
Checking for missing data.
Checking for duplicate columns.
Ensuring that the N column is all integers.
The sumstats N column is not all integers, this could effect downstream analysis. These will be converted to integers.
Checking for duplicated rows.
INFO column not available. Skipping INFO score filtering step.
Filtering SNPs, ensuring SE>0.
Ensuring all SNPs have N<5 std dev above mean.
Writing in tabular format ==> F:\biocbuild\bbs-3.18-bioc\tmpdir\RtmpAJ6g1k\file1da5c136d461f.tsv.gz
Summary statistics report:
   - 4 rows (80% of original 5 rows)
   - 4 unique variants
   - 0 genome-wide significant variants (P<5e-8)
   - 1 chromosomes
Done munging in 0.098 minutes.
Successfully finished preparing sumstats file, preview:
Reading header.
         SNP    CHR        BP     A1     A2 POSITION_HG18 EAF_HAPMAPCEU     N
      <char> <char>     <int> <char> <char>         <int>         <num> <int>
1: rs1000050   chr1 161003087      C      T     161003087        0.9000 36257
2: rs1000073   chr1 155522020      G      A     155522020        0.3136 36335
3: rs1000075   chr1  94939420      C      T      94939420        0.3583 38959
4: rs1000085   chr1  66630503      G      C      66630503        0.1667 38761
      BETA     SE      P N_NONSMK EFFECT_NONSMK STDERR_NONSMK P_VALUE_NONSMK
     <num>  <num>  <num>    <int>         <num>         <num>          <num>
1:  0.0001 0.0109 0.9931   127514        0.0058        0.0059         0.3307
2:  0.0046 0.0083 0.5812   126780        0.0038        0.0045         0.3979
3: -0.0013 0.0082 0.8687   147567       -0.0043        0.0044         0.3259
4:  0.0053 0.0095 0.5746   147259       -0.0034        0.0052         0.5157
Returning path to saved data.
Formatted summary statistics will be saved to ==>  F:\biocbuild\bbs-3.18-bioc\tmpdir\RtmpAJ6g1k\file1da5c46601b7f.tsv.gz
Reading header.
Tabular format detected.
Importing tabular file: F:\biocbuild\bbs-3.18-bioc\tmpdir\RtmpAJ6g1k\file1da5c4c50c0a
Checking for empty columns.
Infer Effect Column
First line of summary statistics file: 
MarkerName	CHR	POS	A1	A2	EAF	Beta	SE	Pval	N	N_fixed	
Allele columns are ambiguous, attempting to infer direction
Can't infer allele columns from sumstats
Standardising column headers.
First line of summary statistics file: 
MarkerName	CHR	POS	A1	A2	EAF	Beta	SE	Pval	N	N_fixed	
Summary statistics report:
   - 93 rows
   - 93 unique variants
   - 70 genome-wide significant variants (P<5e-8)
   - 20 chromosomes
Checking for multi-GWAS.
Checking for multiple RSIDs on one row.
Checking SNP RSIDs.
Checking for merged allele column.
Checking A1 is uppercase
Checking A2 is uppercase
Checking for incorrect base-pair positions
Checking for missing data.
Checking for duplicate columns.
Ensuring that the N column is all integers.
The sumstats N column is not all integers, this could effect downstream analysis. These will be converted to integers.
Checking for duplicated rows.
INFO column not available. Skipping INFO score filtering step.
Filtering SNPs, ensuring SE>0.
Ensuring all SNPs have N<5 std dev above mean.
47 SNPs (50.5%) have FRQ values > 0.5. Conventionally the FRQ column is intended to show the minor/effect allele frequency.
The FRQ column was mapped from one of the following from the inputted  summary statistics file:
FRQ, EAF, FREQUENCY, FRQ_U, F_U, MAF, FREQ, FREQ_TESTED_ALLELE, FRQ_TESTED_ALLELE, FREQ_EFFECT_ALLELE, FRQ_EFFECT_ALLELE, EFFECT_ALLELE_FREQUENCY, EFFECT_ALLELE_FREQ, EFFECT_ALLELE_FRQ, A2FREQ, A2FRQ, ALLELE_FREQUENCY, ALLELE_FREQ, ALLELE_FRQ, AF, MINOR_AF, EFFECT_AF, A2_AF, EFF_AF, ALT_AF, ALTERNATIVE_AF, INC_AF, A_2_AF, TESTED_AF, ALLELEFREQ, ALT_FREQ, EAF_HRC, EFFECTALLELEFREQ, FREQ.B, FREQ_EUROPEAN_1000GENOMES, FREQ_HAPMAP, FREQ_TESTED_ALLELE_IN_HRS, FRQ_U_113154, FRQ_U_31358, FRQ_U_344901, FRQ_U_43456, POOLED_ALT_AF, AF_ALT, AF.ALT, AF-ALT, ALT.AF, ALT-AF, A2.AF, A2-AF, AF.EFF, AF_EFF, ALL_AF
As frq_is_maf=TRUE, the FRQ column will not be renamed. If the FRQ values were intended to represent major allele frequency,
set frq_is_maf=FALSE to rename the column as MAJOR_ALLELE_FRQ and differentiate it from minor/effect allele frequency.
Sorting coordinates with "data.table".
Writing in tabular format ==> F:\biocbuild\bbs-3.18-bioc\tmpdir\RtmpAJ6g1k\file1da5c46601b7f.tsv.gz
Summary statistics report:
   - 93 rows (100% of original 93 rows)
   - 93 unique variants
   - 70 genome-wide significant variants (P<5e-8)
   - 20 chromosomes
Done munging in 0.038 minutes.
Successfully finished preparing sumstats file, preview:
Reading header.
          SNP   CHR       BP     A1     A2     FRQ   BETA    SE         P     N
       <char> <int>    <int> <char> <char>   <num>  <num> <num>     <num> <int>
1:   rs301800     1  8490603      T      C 0.17910  0.019 0.003 1.794e-08     5
2: rs11210860     1 43982527      A      G 0.36940  0.017 0.003 2.359e-10     1
3: rs34305371     1 72733610      A      G 0.08769  0.035 0.005 3.762e-14     1
4:  rs2568955     1 72762169      T      C 0.23690 -0.017 0.003 1.797e-08     7
   N_FIXED
     <int>
1:       5
2:       1
3:       1
4:       7
Returning path to saved data.
******::NOTE::******
 - Log results will be saved to `tempdir()` by default.
 - This means all log data from the run will be  deleted upon ending the R session.
 - To keep it, change `log_folder` to an actual directory  (e.g. log_folder='./').
 ******************** 

Formatted summary statistics will be saved to ==>  F:\biocbuild\bbs-3.18-bioc\tmpdir\RtmpAJ6g1k\file1da5c6f561895.tsv.gz
Log data to be saved to ==>  F:\biocbuild\bbs-3.18-bioc\tmpdir\RtmpAJ6g1k
Reading header.
Tabular format detected.
Importing tabular file: F:\biocbuild\bbs-3.18-bioc\tmpdir\RtmpAJ6g1k\file1da5c38a1335d
Checking for empty columns.
Infer Effect Column
First line of summary statistics file: 
MarkerName	CHR	POS	A1	A2	EAF	Beta	SE	Pval	N	
Allele columns are ambiguous, attempting to infer direction
Can't infer allele columns from sumstats
Standardising column headers.
First line of summary statistics file: 
MarkerName	CHR	POS	A1	A2	EAF	Beta	SE	Pval	N	
Summary statistics report:
   - 93 rows
   - 93 unique variants
   - 70 genome-wide significant variants (P<5e-8)
   - 20 chromosomes
Checking for multi-GWAS.
Checking for multiple RSIDs on one row.
Checking SNP RSIDs.
Checking for merged allele column.
Checking A1 is uppercase
Checking A2 is uppercase
Checking for incorrect base-pair positions
Checking for missing data.
Checking for duplicate columns.
The sumstats N column is not all integers, this could effect downstream analysis.These will NOT be converted to integers.
Checking for duplicated rows.
INFO column not available. Skipping INFO score filtering step.
Filtering SNPs, ensuring SE>0.
Ensuring all SNPs have N<5 std dev above mean.
1 SNPs have N values 5 standard deviations above the mean and will be removed
Writing in tabular format ==> F:\biocbuild\bbs-3.18-bioc\tmpdir\RtmpAJ6g1k/n_large.tsv.gz
47 SNPs (51.1%) have FRQ values > 0.5. Conventionally the FRQ column is intended to show the minor/effect allele frequency.
The FRQ column was mapped from one of the following from the inputted  summary statistics file:
FRQ, EAF, FREQUENCY, FRQ_U, F_U, MAF, FREQ, FREQ_TESTED_ALLELE, FRQ_TESTED_ALLELE, FREQ_EFFECT_ALLELE, FRQ_EFFECT_ALLELE, EFFECT_ALLELE_FREQUENCY, EFFECT_ALLELE_FREQ, EFFECT_ALLELE_FRQ, A2FREQ, A2FRQ, ALLELE_FREQUENCY, ALLELE_FREQ, ALLELE_FRQ, AF, MINOR_AF, EFFECT_AF, A2_AF, EFF_AF, ALT_AF, ALTERNATIVE_AF, INC_AF, A_2_AF, TESTED_AF, ALLELEFREQ, ALT_FREQ, EAF_HRC, EFFECTALLELEFREQ, FREQ.B, FREQ_EUROPEAN_1000GENOMES, FREQ_HAPMAP, FREQ_TESTED_ALLELE_IN_HRS, FRQ_U_113154, FRQ_U_31358, FRQ_U_344901, FRQ_U_43456, POOLED_ALT_AF, AF_ALT, AF.ALT, AF-ALT, ALT.AF, ALT-AF, A2.AF, A2-AF, AF.EFF, AF_EFF, ALL_AF
As frq_is_maf=TRUE, the FRQ column will not be renamed. If the FRQ values were intended to represent major allele frequency,
set frq_is_maf=FALSE to rename the column as MAJOR_ALLELE_FRQ and differentiate it from minor/effect allele frequency.
Sorting coordinates with "data.table".
Writing in tabular format ==> F:\biocbuild\bbs-3.18-bioc\tmpdir\RtmpAJ6g1k\file1da5c6f561895.tsv.gz
Summary statistics report:
   - 92 rows (98.9% of original 93 rows)
   - 92 unique variants
   - 69 genome-wide significant variants (P<5e-8)
   - 20 chromosomes
Done munging in 0.034 minutes.
Successfully finished preparing sumstats file, preview:
Reading header.
          SNP   CHR       BP     A1     A2     FRQ   BETA    SE         P     N
       <char> <int>    <int> <char> <char>   <num>  <num> <num>     <num> <int>
1:   rs301800     1  8490603      T      C 0.17910  0.019 0.003 1.794e-08     3
2: rs11210860     1 43982527      A      G 0.36940  0.017 0.003 2.359e-10     5
3: rs34305371     1 72733610      A      G 0.08769  0.035 0.005 3.762e-14     3
4:  rs2568955     1 72762169      T      C 0.23690 -0.017 0.003 1.797e-08     3
Returning path to saved data.
******::NOTE::******
 - Log results will be saved to `tempdir()` by default.
 - This means all log data from the run will be  deleted upon ending the R session.
 - To keep it, change `log_folder` to an actual directory  (e.g. log_folder='./').
 ******************** 

Formatted summary statistics will be saved to ==>  F:\biocbuild\bbs-3.18-bioc\tmpdir\RtmpAJ6g1k\file1da5ce3c1259.tsv.gz
Log data to be saved to ==>  F:\biocbuild\bbs-3.18-bioc\tmpdir\RtmpAJ6g1k
Reading header.
Tabular format detected.
Importing tabular file: F:\biocbuild\bbs-3.18-bioc\tmpdir\RtmpAJ6g1k\file1da5c38a1335d
Checking for empty columns.
Infer Effect Column
First line of summary statistics file: 
MarkerName	CHR	POS	A1	A2	EAF	Beta	SE	Pval	N	
Allele columns are ambiguous, attempting to infer direction
Can't infer allele columns from sumstats
Standardising column headers.
First line of summary statistics file: 
MarkerName	CHR	POS	A1	A2	EAF	Beta	SE	Pval	N	
Summary statistics report:
   - 93 rows
   - 93 unique variants
   - 70 genome-wide significant variants (P<5e-8)
   - 20 chromosomes
Checking for multi-GWAS.
Checking for multiple RSIDs on one row.
Checking SNP RSIDs.
Checking for merged allele column.
Checking A1 is uppercase
Checking A2 is uppercase
Checking for incorrect base-pair positions
Checking for missing data.
Checking for duplicate columns.
The sumstats N column is not all integers, this could effect downstream analysis.These will NOT be converted to integers.
Checking for duplicated rows.
INFO column not available. Skipping INFO score filtering step.
Filtering SNPs, ensuring SE>0.
Ensuring all SNPs have N<5 std dev above mean.
1 SNPs have N values 5 standard deviations above the mean and will be removed
Writing in tabular format ==> F:\biocbuild\bbs-3.18-bioc\tmpdir\RtmpAJ6g1k/n_large.tsv.gz
47 SNPs (51.1%) have FRQ values > 0.5. Conventionally the FRQ column is intended to show the minor/effect allele frequency.
The FRQ column was mapped from one of the following from the inputted  summary statistics file:
FRQ, EAF, FREQUENCY, FRQ_U, F_U, MAF, FREQ, FREQ_TESTED_ALLELE, FRQ_TESTED_ALLELE, FREQ_EFFECT_ALLELE, FRQ_EFFECT_ALLELE, EFFECT_ALLELE_FREQUENCY, EFFECT_ALLELE_FREQ, EFFECT_ALLELE_FRQ, A2FREQ, A2FRQ, ALLELE_FREQUENCY, ALLELE_FREQ, ALLELE_FRQ, AF, MINOR_AF, EFFECT_AF, A2_AF, EFF_AF, ALT_AF, ALTERNATIVE_AF, INC_AF, A_2_AF, TESTED_AF, ALLELEFREQ, ALT_FREQ, EAF_HRC, EFFECTALLELEFREQ, FREQ.B, FREQ_EUROPEAN_1000GENOMES, FREQ_HAPMAP, FREQ_TESTED_ALLELE_IN_HRS, FRQ_U_113154, FRQ_U_31358, FRQ_U_344901, FRQ_U_43456, POOLED_ALT_AF, AF_ALT, AF.ALT, AF-ALT, ALT.AF, ALT-AF, A2.AF, A2-AF, AF.EFF, AF_EFF, ALL_AF
As frq_is_maf=TRUE, the FRQ column will not be renamed. If the FRQ values were intended to represent major allele frequency,
set frq_is_maf=FALSE to rename the column as MAJOR_ALLELE_FRQ and differentiate it from minor/effect allele frequency.
Sorting coordinates with "data.table".
Writing in tabular format ==> F:\biocbuild\bbs-3.18-bioc\tmpdir\RtmpAJ6g1k\file1da5ce3c1259.tsv.gz
Summary statistics report:
   - 92 rows (98.9% of original 93 rows)
   - 92 unique variants
   - 69 genome-wide significant variants (P<5e-8)
   - 20 chromosomes
Done munging in 0.036 minutes.
Successfully finished preparing sumstats file, preview:
Reading header.
          SNP   CHR       BP     A1     A2     FRQ   BETA    SE         P     N
       <char> <int>    <int> <char> <char>   <num>  <num> <num>     <num> <int>
1:   rs301800     1  8490603      T      C 0.17910  0.019 0.003 1.794e-08     3
2: rs11210860     1 43982527      A      G 0.36940  0.017 0.003 2.359e-10     5
3: rs34305371     1 72733610      A      G 0.08769  0.035 0.005 3.762e-14     3
4:  rs2568955     1 72762169      T      C 0.23690 -0.017 0.003 1.797e-08     3
Returning path to saved data.
******::NOTE::******
 - Log results will be saved to `tempdir()` by default.
 - This means all log data from the run will be  deleted upon ending the R session.
 - To keep it, change `log_folder` to an actual directory  (e.g. log_folder='./').
 ******************** 

Formatted summary statistics will be saved to ==>  F:\biocbuild\bbs-3.18-bioc\tmpdir\RtmpAJ6g1k\file1da5c8ae3190.tsv.gz
Log data to be saved to ==>  F:\biocbuild\bbs-3.18-bioc\tmpdir\RtmpAJ6g1k
Reading header.
Tabular format detected.
Importing tabular file: F:\biocbuild\bbs-3.18-bioc\tmpdir\RtmpAJ6g1k\file1da5c38a1335d
Checking for empty columns.
Infer Effect Column
First line of summary statistics file: 
MarkerName	CHR	POS	A1	A2	EAF	Beta	SE	Pval	N	
Allele columns are ambiguous, attempting to infer direction
Can't infer allele columns from sumstats
Standardising column headers.
First line of summary statistics file: 
MarkerName	CHR	POS	A1	A2	EAF	Beta	SE	Pval	N	
Summary statistics report:
   - 93 rows
   - 93 unique variants
   - 70 genome-wide significant variants (P<5e-8)
   - 20 chromosomes
Checking for multi-GWAS.
Checking for multiple RSIDs on one row.
Checking SNP RSIDs.
Checking for merged allele column.
Checking A1 is uppercase
Checking A2 is uppercase
Checking for incorrect base-pair positions
Checking for missing data.
Checking for duplicate columns.
The sumstats N column is not all integers, this could effect downstream analysis.These will NOT be converted to integers.
Checking for duplicated rows.
INFO column not available. Skipping INFO score filtering step.
Filtering SNPs, ensuring SE>0.
Ensuring all SNPs have N<5 std dev above mean.
1 SNPs have N values 5 standard deviations above the mean and will be removed
Writing in tabular format ==> F:\biocbuild\bbs-3.18-bioc\tmpdir\RtmpAJ6g1k/n_large.tsv.gz
Removing rows where is.na(N)
0 SNPs have N values that are NA and will be removed.
Writing in tabular format ==> F:\biocbuild\bbs-3.18-bioc\tmpdir\RtmpAJ6g1k/n_null.tsv.gz
47 SNPs (51.1%) have FRQ values > 0.5. Conventionally the FRQ column is intended to show the minor/effect allele frequency.
The FRQ column was mapped from one of the following from the inputted  summary statistics file:
FRQ, EAF, FREQUENCY, FRQ_U, F_U, MAF, FREQ, FREQ_TESTED_ALLELE, FRQ_TESTED_ALLELE, FREQ_EFFECT_ALLELE, FRQ_EFFECT_ALLELE, EFFECT_ALLELE_FREQUENCY, EFFECT_ALLELE_FREQ, EFFECT_ALLELE_FRQ, A2FREQ, A2FRQ, ALLELE_FREQUENCY, ALLELE_FREQ, ALLELE_FRQ, AF, MINOR_AF, EFFECT_AF, A2_AF, EFF_AF, ALT_AF, ALTERNATIVE_AF, INC_AF, A_2_AF, TESTED_AF, ALLELEFREQ, ALT_FREQ, EAF_HRC, EFFECTALLELEFREQ, FREQ.B, FREQ_EUROPEAN_1000GENOMES, FREQ_HAPMAP, FREQ_TESTED_ALLELE_IN_HRS, FRQ_U_113154, FRQ_U_31358, FRQ_U_344901, FRQ_U_43456, POOLED_ALT_AF, AF_ALT, AF.ALT, AF-ALT, ALT.AF, ALT-AF, A2.AF, A2-AF, AF.EFF, AF_EFF, ALL_AF
As frq_is_maf=TRUE, the FRQ column will not be renamed. If the FRQ values were intended to represent major allele frequency,
set frq_is_maf=FALSE to rename the column as MAJOR_ALLELE_FRQ and differentiate it from minor/effect allele frequency.
Sorting coordinates with "data.table".
Writing in tabular format ==> F:\biocbuild\bbs-3.18-bioc\tmpdir\RtmpAJ6g1k\file1da5c8ae3190.tsv.gz
Summary statistics report:
   - 92 rows (98.9% of original 93 rows)
   - 92 unique variants
   - 69 genome-wide significant variants (P<5e-8)
   - 20 chromosomes
Done munging in 0.045 minutes.
Successfully finished preparing sumstats file, preview:
Reading header.
          SNP   CHR       BP     A1     A2     FRQ   BETA    SE         P     N
       <char> <int>    <int> <char> <char>   <num>  <num> <num>     <num> <int>
1:   rs301800     1  8490603      T      C 0.17910  0.019 0.003 1.794e-08     3
2: rs11210860     1 43982527      A      G 0.36940  0.017 0.003 2.359e-10     5
3: rs34305371     1 72733610      A      G 0.08769  0.035 0.005 3.762e-14     3
4:  rs2568955     1 72762169      T      C 0.23690 -0.017 0.003 1.797e-08     3
Returning path to saved data.
******::NOTE::******
 - Log results will be saved to `tempdir()` by default.
 - This means all log data from the run will be  deleted upon ending the R session.
 - To keep it, change `log_folder` to an actual directory  (e.g. log_folder='./').
 ******************** 

Formatted summary statistics will be saved to ==>  F:\biocbuild\bbs-3.18-bioc\tmpdir\RtmpAJ6g1k\file1da5c77b81848.tsv.gz
Log data to be saved to ==>  F:\biocbuild\bbs-3.18-bioc\tmpdir\RtmpAJ6g1k
Reading header.
Tabular format detected.
Importing tabular file: F:\biocbuild\bbs-3.18-bioc\tmpdir\RtmpAJ6g1k\file1da5c7f6769ce
Checking for empty columns.
Infer Effect Column
First line of summary statistics file: 
MarkerName	CHR	POS	A1	A2	EAF	Beta	SE	Pval	
Allele columns are ambiguous, attempting to infer direction
Can't infer allele columns from sumstats
Standardising column headers.
First line of summary statistics file: 
MarkerName	CHR	POS	A1	A2	EAF	Beta	SE	Pval	
Summary statistics report:
   - 93 rows
   - 93 unique variants
   - 70 genome-wide significant variants (P<5e-8)
   - 23 chromosomes
Checking for multi-GWAS.
Checking for multiple RSIDs on one row.
Checking SNP RSIDs.
Checking for merged allele column.
Checking A1 is uppercase
Checking A2 is uppercase
Checking for incorrect base-pair positions
1 SNPs have been removed as their BP column is not in the range of 1 to the length of the chromosome
Writing in tabular format ==> F:\biocbuild\bbs-3.18-bioc\tmpdir\RtmpAJ6g1k/bad_bp.tsv.gz
Checking for missing data.
Checking for duplicate columns.
Checking for duplicated rows.
INFO column not available. Skipping INFO score filtering step.
Filtering SNPs, ensuring SE>0.
Ensuring all SNPs have N<5 std dev above mean.
2 SNPs are on chromosomes X, Y, MT and will be removed.
Writing in tabular format ==> F:\biocbuild\bbs-3.18-bioc\tmpdir\RtmpAJ6g1k/chr_excl.tsv.gz
45 SNPs (50%) have FRQ values > 0.5. Conventionally the FRQ column is intended to show the minor/effect allele frequency.
The FRQ column was mapped from one of the following from the inputted  summary statistics file:
FRQ, EAF, FREQUENCY, FRQ_U, F_U, MAF, FREQ, FREQ_TESTED_ALLELE, FRQ_TESTED_ALLELE, FREQ_EFFECT_ALLELE, FRQ_EFFECT_ALLELE, EFFECT_ALLELE_FREQUENCY, EFFECT_ALLELE_FREQ, EFFECT_ALLELE_FRQ, A2FREQ, A2FRQ, ALLELE_FREQUENCY, ALLELE_FREQ, ALLELE_FRQ, AF, MINOR_AF, EFFECT_AF, A2_AF, EFF_AF, ALT_AF, ALTERNATIVE_AF, INC_AF, A_2_AF, TESTED_AF, ALLELEFREQ, ALT_FREQ, EAF_HRC, EFFECTALLELEFREQ, FREQ.B, FREQ_EUROPEAN_1000GENOMES, FREQ_HAPMAP, FREQ_TESTED_ALLELE_IN_HRS, FRQ_U_113154, FRQ_U_31358, FRQ_U_344901, FRQ_U_43456, POOLED_ALT_AF, AF_ALT, AF.ALT, AF-ALT, ALT.AF, ALT-AF, A2.AF, A2-AF, AF.EFF, AF_EFF, ALL_AF
As frq_is_maf=TRUE, the FRQ column will not be renamed. If the FRQ values were intended to represent major allele frequency,
set frq_is_maf=FALSE to rename the column as MAJOR_ALLELE_FRQ and differentiate it from minor/effect allele frequency.
Sorting coordinates with "data.table".
Writing in tabular format ==> F:\biocbuild\bbs-3.18-bioc\tmpdir\RtmpAJ6g1k\file1da5c77b81848.tsv.gz
Summary statistics report:
   - 90 rows (96.8% of original 93 rows)
   - 90 unique variants
   - 67 genome-wide significant variants (P<5e-8)
   - 20 chromosomes
Done munging in 0.037 minutes.
Successfully finished preparing sumstats file, preview:
Reading header.
          SNP   CHR       BP     A1     A2     FRQ   BETA    SE         P
       <char> <int>    <int> <char> <char>   <num>  <num> <num>     <num>
1:   rs301800     1  8490603      T      C 0.17910  0.019 0.003 1.794e-08
2: rs11210860     1 43982527      A      G 0.36940  0.017 0.003 2.359e-10
3: rs34305371     1 72733610      A      G 0.08769  0.035 0.005 3.762e-14
4:  rs2568955     1 72762169      T      C 0.23690 -0.017 0.003 1.797e-08
Returning path to saved data.
Formatted summary statistics will be saved to ==>  F:\biocbuild\bbs-3.18-bioc\tmpdir\RtmpAJ6g1k\file1da5c2a72800.tsv.gz
Reading header.
Tabular format detected.
Importing tabular file: F:\biocbuild\bbs-3.18-bioc\tmpdir\RtmpAJ6g1k\file1da5c7f6769ce
Checking for empty columns.
Infer Effect Column
First line of summary statistics file: 
MarkerName	CHR	POS	A1	A2	EAF	Beta	SE	Pval	
Allele columns are ambiguous, attempting to infer direction
Can't infer allele columns from sumstats
Standardising column headers.
First line of summary statistics file: 
MarkerName	CHR	POS	A1	A2	EAF	Beta	SE	Pval	
Summary statistics report:
   - 93 rows
   - 93 unique variants
   - 70 genome-wide significant variants (P<5e-8)
   - 20 chromosomes
Checking for multi-GWAS.
Checking for multiple RSIDs on one row.
Checking SNP RSIDs.
Checking for merged allele column.
Checking A1 is uppercase
Checking A2 is uppercase
Checking for incorrect base-pair positions
Checking for missing data.
Checking for duplicate columns.
Checking for duplicated rows.
INFO column not available. Skipping INFO score filtering step.
Filtering SNPs, ensuring SE>0.
Ensuring all SNPs have N<5 std dev above mean.
47 SNPs (50.5%) have FRQ values > 0.5. Conventionally the FRQ column is intended to show the minor/effect allele frequency.
The FRQ column was mapped from one of the following from the inputted  summary statistics file:
FRQ, EAF, FREQUENCY, FRQ_U, F_U, MAF, FREQ, FREQ_TESTED_ALLELE, FRQ_TESTED_ALLELE, FREQ_EFFECT_ALLELE, FRQ_EFFECT_ALLELE, EFFECT_ALLELE_FREQUENCY, EFFECT_ALLELE_FREQ, EFFECT_ALLELE_FRQ, A2FREQ, A2FRQ, ALLELE_FREQUENCY, ALLELE_FREQ, ALLELE_FRQ, AF, MINOR_AF, EFFECT_AF, A2_AF, EFF_AF, ALT_AF, ALTERNATIVE_AF, INC_AF, A_2_AF, TESTED_AF, ALLELEFREQ, ALT_FREQ, EAF_HRC, EFFECTALLELEFREQ, FREQ.B, FREQ_EUROPEAN_1000GENOMES, FREQ_HAPMAP, FREQ_TESTED_ALLELE_IN_HRS, FRQ_U_113154, FRQ_U_31358, FRQ_U_344901, FRQ_U_43456, POOLED_ALT_AF, AF_ALT, AF.ALT, AF-ALT, ALT.AF, ALT-AF, A2.AF, A2-AF, AF.EFF, AF_EFF, ALL_AF
As frq_is_maf=TRUE, the FRQ column will not be renamed. If the FRQ values were intended to represent major allele frequency,
set frq_is_maf=FALSE to rename the column as MAJOR_ALLELE_FRQ and differentiate it from minor/effect allele frequency.
Sorting coordinates with "data.table".
Writing in tabular format ==> F:\biocbuild\bbs-3.18-bioc\tmpdir\RtmpAJ6g1k\file1da5c2a72800.tsv.gz
Summary statistics report:
   - 93 rows (100% of original 93 rows)
   - 93 unique variants
   - 70 genome-wide significant variants (P<5e-8)
   - 20 chromosomes
Done munging in 0.035 minutes.
Successfully finished preparing sumstats file, preview:
Reading header.
          SNP   CHR       BP     A1     A2     FRQ   BETA    SE         P
       <char> <int>    <int> <char> <char>   <num>  <num> <num>     <num>
1:   rs301800     1  8490603      T      C 0.17910  0.019 0.003 1.794e-08
2: rs11210860     1 43982527      A      G 0.36940  0.017 0.003 2.359e-10
3: rs34305371     1 72733610      A      G 0.08769  0.035 0.005 3.762e-14
4:  rs2568955     1 72762169      T      C 0.23690 -0.017 0.003 1.797e-08
Returning path to saved data.
Standardising column headers.
First line of summary statistics file: 
MarkerName	CHR	POS	A1	A2	EAF	Beta	SE	Pval	
Reading header.
Tabular format detected.
Importing tabular file: F:\biocbuild\bbs-3.18-bioc\tmpdir\RtmpAJ6g1k\file1da5c745c4def
Checking for empty columns.
Standardising column headers.
First line of summary statistics file: 
SNP	CHR	BP	A1	A2	FRQ	BETA	SE	P	
Reading header.
Tabular format detected.
Importing tabular file: F:\biocbuild\bbs-3.18-bioc\tmpdir\RtmpAJ6g1k\file1da5c2a94bcd
Checking for empty columns.
Standardising column headers.
First line of summary statistics file: 
SNP	CHR	BP	A1	A2	FRQ	BETA	SE	P	
Formatted summary statistics will be saved to ==>  F:\biocbuild\bbs-3.18-bioc\tmpdir\RtmpAJ6g1k\file1da5c3bbb3b9e.vcf.bgz
Sorting coordinates with "data.table".
Converting summary statistics to GenomicRanges.
Converting summary statistics to VRanges.
Writing in VCF format ==>  F:\biocbuild\bbs-3.18-bioc\tmpdir\RtmpAJ6g1k\file1da5c3bbb3b9e.vcf.bgz
Loading required namespace: GenomicFiles
Using local VCF.
Finding empty VCF columns based on first 10,000 rows.
1 sample detected: GWAS
Constructing ScanVcfParam object.
Reading VCF file: single-threaded
Converting VCF to data.table.
Expanding VCF first, so number of rows may increase.
Checking for empty columns.
Time difference of 0.1 secs
VCF data.table contains: 93 rows x 11 columns.
Time difference of 0.5 secs
No INFO (SI) column detected.
Standardising column headers.
First line of summary statistics file: 
ID	chr	BP	end	REF	ALT	SNP	FRQ	BETA	SE	P	
Using local VCF.
bgzip-compressing VCF file.
Finding empty VCF columns based on first 10,000 rows.
Dropping 1 duplicate column(s).
1 sample detected: EBI-a-GCST005647
Constructing ScanVcfParam object.
VCF contains: 39,630,630 variant(s) x 1 sample(s)
Reading VCF file: single-threaded
Converting VCF to data.table.
Expanding VCF first, so number of rows may increase.
Dropping 1 duplicate column(s).
Checking for empty columns.
Unlisting 3 columns.
Dropped 314 duplicate rows.
Time difference of 0.1 secs
VCF data.table contains: 101 rows x 11 columns.
Time difference of 0.5 secs
Renaming ID as SNP.
VCF file has -log10 P-values; these will be converted to unadjusted p-values in the 'P' column.
No INFO (SI) column detected.
Standardising column headers.
First line of summary statistics file: 
SNP	chr	BP	end	REF	ALT	FILTER	AF	ES	LP	SE	P	
Formatted summary statistics will be saved to ==>  F:\biocbuild\bbs-3.18-bioc\tmpdir\RtmpAJ6g1k\file1da5c6f037914.vcf.bgz
Sorting coordinates with "data.table".
Converting summary statistics to GenomicRanges.
Converting summary statistics to VRanges.
Writing in VCF format ==>  F:\biocbuild\bbs-3.18-bioc\tmpdir\RtmpAJ6g1k\file1da5c6f037914.vcf.bgz
Using local VCF.
Finding empty VCF columns based on first 10,000 rows.
1 sample detected: GWAS
Constructing ScanVcfParam object.
Reading VCF file: single-threaded
Converting VCF to data.table.
Expanding VCF first, so number of rows may increase.
Checking for empty columns.
Time difference of 0.1 secs
VCF data.table contains: 101 rows x 13 columns.
Time difference of 0.4 secs
VCF file has -log10 P-values; these will be converted to unadjusted p-values in the 'P' column.
No INFO (SI) column detected.
Standardising column headers.
First line of summary statistics file: 
ID	chr	BP	end	REF	SNP	END	FILTER	FRQ	BETA	LP	SE	P	
******::NOTE::******
 - Log results will be saved to `tempdir()` by default.
 - This means all log data from the run will be  deleted upon ending the R session.
 - To keep it, change `log_folder` to an actual directory  (e.g. log_folder='./').
 ******************** 

Formatted summary statistics will be saved to ==>  F:\biocbuild\bbs-3.18-bioc\tmpdir\RtmpAJ6g1k\file1da5cf8375d8.tsv.gz
Log data to be saved to ==>  F:\biocbuild\bbs-3.18-bioc\tmpdir\RtmpAJ6g1k
Infer Effect Column
First line of summary statistics file: 
SNP	P	FRQ	BETA	CHR	BP	
Standardising column headers.
First line of summary statistics file: 
SNP	P	FRQ	BETA	CHR	BP	
Summary statistics report:
   - 5 rows
   - 5 unique variants
   - 0 genome-wide significant variants (P<5e-8)
   - 1 chromosomes
Checking for multi-GWAS.
Checking for multiple RSIDs on one row.
Checking SNP RSIDs.
5 SNP IDs contain other information in the same column. These will be separated.
Checking for merged allele column.
Column SNP_INFO has been separated into the columns A1, A2
Checking A1 is uppercase
Checking A2 is uppercase
Checking for incorrect base-pair positions
Coercing BP column to numeric.
Reordering so first three column headers are SNP, CHR and BP in this order.
Reordering so the fourth and fifth columns are A1 and A2.
Checking for missing data.
Checking for duplicate columns.
Checking for duplicated rows.
INFO column not available. Skipping INFO score filtering step.
SE is not present but can be imputed with BETA & P. Set impute_se=TRUE and rerun to do this.
Ensuring all SNPs have N<5 std dev above mean.
3 SNPs (60%) have FRQ values > 0.5. Conventionally the FRQ column is intended to show the minor/effect allele frequency.
The FRQ column was mapped from one of the following from the inputted  summary statistics file:
FRQ, EAF, FREQUENCY, FRQ_U, F_U, MAF, FREQ, FREQ_TESTED_ALLELE, FRQ_TESTED_ALLELE, FREQ_EFFECT_ALLELE, FRQ_EFFECT_ALLELE, EFFECT_ALLELE_FREQUENCY, EFFECT_ALLELE_FREQ, EFFECT_ALLELE_FRQ, A2FREQ, A2FRQ, ALLELE_FREQUENCY, ALLELE_FREQ, ALLELE_FRQ, AF, MINOR_AF, EFFECT_AF, A2_AF, EFF_AF, ALT_AF, ALTERNATIVE_AF, INC_AF, A_2_AF, TESTED_AF, ALLELEFREQ, ALT_FREQ, EAF_HRC, EFFECTALLELEFREQ, FREQ.B, FREQ_EUROPEAN_1000GENOMES, FREQ_HAPMAP, FREQ_TESTED_ALLELE_IN_HRS, FRQ_U_113154, FRQ_U_31358, FRQ_U_344901, FRQ_U_43456, POOLED_ALT_AF, AF_ALT, AF.ALT, AF-ALT, ALT.AF, ALT-AF, A2.AF, A2-AF, AF.EFF, AF_EFF, ALL_AF
As frq_is_maf=TRUE, the FRQ column will not be renamed. If the FRQ values were intended to represent major allele frequency,
set frq_is_maf=FALSE to rename the column as MAJOR_ALLELE_FRQ and differentiate it from minor/effect allele frequency.
Sorting coordinates with "data.table".
Writing in tabular format ==> F:\biocbuild\bbs-3.18-bioc\tmpdir\RtmpAJ6g1k\file1da5cf8375d8.tsv.gz
Summary statistics report:
   - 5 rows (100% of original 5 rows)
   - 5 unique variants
   - 0 genome-wide significant variants (P<5e-8)
   - 1 chromosomes
Done munging in 0.037 minutes.
Successfully finished preparing sumstats file, preview:
Reading header.
           SNP   CHR    BP     A1     A2           P       FRQ      BETA
        <char> <int> <int> <char> <char>       <num>     <num>     <num>
1: rs140052487     1 54353      C      A 0.037219838 0.3000548 0.8797957
2: rs558796213     1 54564      G      T 0.004382482 0.5848666 0.7068747
3: rs561234294     1 54591      A      G 0.070968402 0.3334671 0.7319726
4:   rs2462492     1 54676      C      T 0.065769040 0.6220120 0.9316344
Returning data directly.
******::NOTE::******
 - Log results will be saved to `tempdir()` by default.
 - This means all log data from the run will be  deleted upon ending the R session.
 - To keep it, change `log_folder` to an actual directory  (e.g. log_folder='./').
 ******************** 

Formatted summary statistics will be saved to ==>  F:\biocbuild\bbs-3.18-bioc\tmpdir\RtmpAJ6g1k\file1da5c7d4605e.tsv.gz
Log data to be saved to ==>  F:\biocbuild\bbs-3.18-bioc\tmpdir\RtmpAJ6g1k
Infer Effect Column
First line of summary statistics file: 
SNP	P	FRQ	BETA	CHR	BP	A1	A2	
Allele columns are ambiguous, attempting to infer direction
Can't infer allele columns from sumstats
Standardising column headers.
First line of summary statistics file: 
SNP	P	FRQ	BETA	CHR	BP	A1	A2	
Summary statistics report:
   - 5 rows
   - 5 unique variants
   - 0 genome-wide significant variants (P<5e-8)
   - 1 chromosomes
Checking for multi-GWAS.
Checking for multiple RSIDs on one row.
Checking SNP RSIDs.
Checking for merged allele column.
Checking A1 is uppercase
Checking A2 is uppercase
Checking for incorrect base-pair positions
Coercing BP column to numeric.
Reordering so first three column headers are SNP, CHR and BP in this order.
Reordering so the fourth and fifth columns are A1 and A2.
Checking for missing data.
Checking for duplicate columns.
Checking for duplicated rows.
INFO column not available. Skipping INFO score filtering step.
SE is not present but can be imputed with BETA & P. Set impute_se=TRUE and rerun to do this.
Ensuring all SNPs have N<5 std dev above mean.
3 SNPs (60%) have FRQ values > 0.5. Conventionally the FRQ column is intended to show the minor/effect allele frequency.
The FRQ column was mapped from one of the following from the inputted  summary statistics file:
FRQ, EAF, FREQUENCY, FRQ_U, F_U, MAF, FREQ, FREQ_TESTED_ALLELE, FRQ_TESTED_ALLELE, FREQ_EFFECT_ALLELE, FRQ_EFFECT_ALLELE, EFFECT_ALLELE_FREQUENCY, EFFECT_ALLELE_FREQ, EFFECT_ALLELE_FRQ, A2FREQ, A2FRQ, ALLELE_FREQUENCY, ALLELE_FREQ, ALLELE_FRQ, AF, MINOR_AF, EFFECT_AF, A2_AF, EFF_AF, ALT_AF, ALTERNATIVE_AF, INC_AF, A_2_AF, TESTED_AF, ALLELEFREQ, ALT_FREQ, EAF_HRC, EFFECTALLELEFREQ, FREQ.B, FREQ_EUROPEAN_1000GENOMES, FREQ_HAPMAP, FREQ_TESTED_ALLELE_IN_HRS, FRQ_U_113154, FRQ_U_31358, FRQ_U_344901, FRQ_U_43456, POOLED_ALT_AF, AF_ALT, AF.ALT, AF-ALT, ALT.AF, ALT-AF, A2.AF, A2-AF, AF.EFF, AF_EFF, ALL_AF
As frq_is_maf=TRUE, the FRQ column will not be renamed. If the FRQ values were intended to represent major allele frequency,
set frq_is_maf=FALSE to rename the column as MAJOR_ALLELE_FRQ and differentiate it from minor/effect allele frequency.
Sorting coordinates with "data.table".
Writing in tabular format ==> F:\biocbuild\bbs-3.18-bioc\tmpdir\RtmpAJ6g1k\file1da5c7d4605e.tsv.gz
Summary statistics report:
   - 5 rows (100% of original 5 rows)
   - 5 unique variants
   - 0 genome-wide significant variants (P<5e-8)
   - 1 chromosomes
Done munging in 0.036 minutes.
Successfully finished preparing sumstats file, preview:
Reading header.
           SNP   CHR    BP     A1     A2           P       FRQ      BETA
        <char> <int> <int> <char> <char>       <num>     <num>     <num>
1: rs140052487     1 54353      C      A 0.037219838 0.3000548 0.8797957
2: rs558796213     1 54564      G      T 0.004382482 0.5848666 0.7068747
3: rs561234294     1 54591      A      G 0.070968402 0.3334671 0.7319726
4:   rs2462492     1 54676      C      T 0.065769040 0.6220120 0.9316344
Returning data directly.
Formatted summary statistics will be saved to ==>  F:\biocbuild\bbs-3.18-bioc\tmpdir\RtmpAJ6g1k\file1da5c6d5138cb.tsv.gz
Reading header.
Tabular format detected.
Importing tabular file: F:\biocbuild\bbs-3.18-bioc\tmpdir\RtmpAJ6g1k\file1da5c6c312eaf
Checking for empty columns.
Infer Effect Column
First line of summary statistics file: 
MarkerName	CHR	POS	A1	A2	EAF	SE	Pval	
Allele columns are ambiguous, attempting to infer direction
Can't infer allele columns from sumstats
Standardising column headers.
First line of summary statistics file: 
MarkerName	CHR	POS	A1	A2	EAF	SE	Pval	
Summary statistics report:
   - 93 rows
   - 93 unique variants
   - 70 genome-wide significant variants (P<5e-8)
   - 20 chromosomes
Checking for multi-GWAS.
Checking for multiple RSIDs on one row.
Checking SNP RSIDs.
Checking for merged allele column.
Checking A1 is uppercase
Checking A2 is uppercase
Checking for incorrect base-pair positions
Formatted summary statistics will be saved to ==>  F:\biocbuild\bbs-3.18-bioc\tmpdir\RtmpAJ6g1k\file1da5c6606507.tsv.gz
Reading header.
Tabular format detected.
Importing tabular file: F:\biocbuild\bbs-3.18-bioc\tmpdir\RtmpAJ6g1k\file1da5c23103e88
Checking for empty columns.
Infer Effect Column
First line of summary statistics file: 
MarkerName	CHR	POS	A1	A2	EAF	Beta	SE	Pval	
Allele columns are ambiguous, attempting to infer direction
Can't infer allele columns from sumstats
Standardising column headers.
First line of summary statistics file: 
MarkerName	CHR	POS	A1	A2	EAF	Beta	SE	Pval	
Summary statistics report:
   - 93 rows
   - 93 unique variants
   - 70 genome-wide significant variants (P<5e-8)
   - 20 chromosomes
Checking for multi-GWAS.
Checking for multiple RSIDs on one row.
Checking SNP RSIDs.
Checking for merged allele column.
Checking A1 is uppercase
Checking A2 is uppercase
Checking for incorrect base-pair positions
Checking for missing data.
Checking for duplicate columns.
Checking for duplicated rows.
INFO column not available. Skipping INFO score filtering step.
Filtering SNPs, ensuring SE>0.
Ensuring all SNPs have N<5 std dev above mean.
47 SNPs (50.5%) have FRQ values > 0.5. Conventionally the FRQ column is intended to show the minor/effect allele frequency.
The FRQ column was mapped from one of the following from the inputted  summary statistics file:
FRQ, EAF, FREQUENCY, FRQ_U, F_U, MAF, FREQ, FREQ_TESTED_ALLELE, FRQ_TESTED_ALLELE, FREQ_EFFECT_ALLELE, FRQ_EFFECT_ALLELE, EFFECT_ALLELE_FREQUENCY, EFFECT_ALLELE_FREQ, EFFECT_ALLELE_FRQ, A2FREQ, A2FRQ, ALLELE_FREQUENCY, ALLELE_FREQ, ALLELE_FRQ, AF, MINOR_AF, EFFECT_AF, A2_AF, EFF_AF, ALT_AF, ALTERNATIVE_AF, INC_AF, A_2_AF, TESTED_AF, ALLELEFREQ, ALT_FREQ, EAF_HRC, EFFECTALLELEFREQ, FREQ.B, FREQ_EUROPEAN_1000GENOMES, FREQ_HAPMAP, FREQ_TESTED_ALLELE_IN_HRS, FRQ_U_113154, FRQ_U_31358, FRQ_U_344901, FRQ_U_43456, POOLED_ALT_AF, AF_ALT, AF.ALT, AF-ALT, ALT.AF, ALT-AF, A2.AF, A2-AF, AF.EFF, AF_EFF, ALL_AF
As frq_is_maf=TRUE, the FRQ column will not be renamed. If the FRQ values were intended to represent major allele frequency,
set frq_is_maf=FALSE to rename the column as MAJOR_ALLELE_FRQ and differentiate it from minor/effect allele frequency.
Sorting coordinates with "data.table".
Writing in tabular format ==> F:\biocbuild\bbs-3.18-bioc\tmpdir\RtmpAJ6g1k\file1da5c6606507.tsv.gz
Summary statistics report:
   - 93 rows (100% of original 93 rows)
   - 93 unique variants
   - 70 genome-wide significant variants (P<5e-8)
   - 20 chromosomes
Done munging in 0.036 minutes.
Successfully finished preparing sumstats file, preview:
Reading header.
          SNP   CHR       BP     A1     A2     FRQ   BETA    SE         P
       <char> <int>    <int> <char> <char>   <num>  <num> <num>     <num>
1:   rs301800     1  8490603      T      C 0.17910  0.019 0.003 1.794e-08
2: rs11210860     1 43982527      A      G 0.36940  0.017 0.003 2.359e-10
3: rs34305371     1 72733610      A      G 0.08769  0.035 0.005 3.762e-14
4:  rs2568955     1 72762169      T      C 0.23690 -0.017 0.003 1.797e-08
Returning path to saved data.
Formatted summary statistics will be saved to ==>  F:\biocbuild\bbs-3.18-bioc\tmpdir\RtmpAJ6g1k\file1da5cac57285.tsv.gz
Reading header.
Tabular format detected.
Importing tabular file: F:\biocbuild\bbs-3.18-bioc\tmpdir\RtmpAJ6g1k\file1da5c23103e88
Checking for empty columns.
Infer Effect Column
First line of summary statistics file: 
MarkerName	CHR	POS	A1	A2	EAF	Beta	SE	Pval	
Allele columns are ambiguous, attempting to infer direction
Can't infer allele columns from sumstats
Standardising column headers.
First line of summary statistics file: 
MarkerName	CHR	POS	A1	A2	EAF	Beta	SE	Pval	
Summary statistics report:
   - 93 rows
   - 93 unique variants
   - 70 genome-wide significant variants (P<5e-8)
   - 20 chromosomes
Checking for multi-GWAS.
Checking for multiple RSIDs on one row.
Checking SNP RSIDs.
Checking for merged allele column.
Checking A1 is uppercase
Checking A2 is uppercase
Checking for incorrect base-pair positions
Checking for missing data.
Checking for duplicate columns.
Checking for duplicated rows.
INFO column not available. Skipping INFO score filtering step.
Filtering SNPs, ensuring SE>0.
Ensuring all SNPs have N<5 std dev above mean.
47 SNPs (50.5%) have FRQ values > 0.5. Conventionally the FRQ column is intended to show the minor/effect allele frequency.
The FRQ column was mapped from one of the following from the inputted  summary statistics file:
FRQ, EAF, FREQUENCY, FRQ_U, F_U, MAF, FREQ, FREQ_TESTED_ALLELE, FRQ_TESTED_ALLELE, FREQ_EFFECT_ALLELE, FRQ_EFFECT_ALLELE, EFFECT_ALLELE_FREQUENCY, EFFECT_ALLELE_FREQ, EFFECT_ALLELE_FRQ, A2FREQ, A2FRQ, ALLELE_FREQUENCY, ALLELE_FREQ, ALLELE_FRQ, AF, MINOR_AF, EFFECT_AF, A2_AF, EFF_AF, ALT_AF, ALTERNATIVE_AF, INC_AF, A_2_AF, TESTED_AF, ALLELEFREQ, ALT_FREQ, EAF_HRC, EFFECTALLELEFREQ, FREQ.B, FREQ_EUROPEAN_1000GENOMES, FREQ_HAPMAP, FREQ_TESTED_ALLELE_IN_HRS, FRQ_U_113154, FRQ_U_31358, FRQ_U_344901, FRQ_U_43456, POOLED_ALT_AF, AF_ALT, AF.ALT, AF-ALT, ALT.AF, ALT-AF, A2.AF, A2-AF, AF.EFF, AF_EFF, ALL_AF
As frq_is_maf=TRUE, the FRQ column will not be renamed. If the FRQ values were intended to represent major allele frequency,
set frq_is_maf=FALSE to rename the column as MAJOR_ALLELE_FRQ and differentiate it from minor/effect allele frequency.
Sorting coordinates with "data.table".
Writing in tabular format ==> F:\biocbuild\bbs-3.18-bioc\tmpdir\RtmpAJ6g1k\file1da5cac57285.tsv.gz
Summary statistics report:
   - 93 rows (100% of original 93 rows)
   - 93 unique variants
   - 70 genome-wide significant variants (P<5e-8)
   - 20 chromosomes
Done munging in 0.04 minutes.
Successfully finished preparing sumstats file, preview:
Reading header.
          SNP   CHR       BP     A1     A2     FRQ   BETA    SE         P
       <char> <int>    <int> <char> <char>   <num>  <num> <num>     <num>
1:   rs301800     1  8490603      T      C 0.17910  0.019 0.003 1.794e-08
2: rs11210860     1 43982527      A      G 0.36940  0.017 0.003 2.359e-10
3: rs34305371     1 72733610      A      G 0.08769  0.035 0.005 3.762e-14
4:  rs2568955     1 72762169      T      C 0.23690 -0.017 0.003 1.797e-08
Returning path to saved data.
Formatted summary statistics will be saved to ==>  F:\biocbuild\bbs-3.18-bioc\tmpdir\RtmpAJ6g1k\file1da5c1e1f12ab.tsv.gz
Reading header.
Tabular format detected.
Importing tabular file: F:\biocbuild\bbs-3.18-bioc\tmpdir\RtmpAJ6g1k\file1da5c6a2f4306
Checking for empty columns.
Infer Effect Column
First line of summary statistics file: 
MarkerName	CHR	POS	A1	A2	EAF	Beta	SE	Pval	
Allele columns are ambiguous, attempting to infer direction
Can't infer allele columns from sumstats
Standardising column headers.
First line of summary statistics file: 
MarkerName	CHR	POS	A1	A2	EAF	Beta	SE	Pval	
Summary statistics report:
   - 93 rows
   - 93 unique variants
   - 70 genome-wide significant variants (P<5e-8)
   - 20 chromosomes
Checking for multi-GWAS.
Checking for multiple RSIDs on one row.
Checking SNP RSIDs.
Checking for merged allele column.
Checking A1 is uppercase
Checking A2 is uppercase
Checking for incorrect base-pair positions
Checking for missing data.
Checking for duplicate columns.
Checking for duplicated rows.
INFO column not available. Skipping INFO score filtering step.
Filtering SNPs, ensuring SE>0.
Ensuring all SNPs have N<5 std dev above mean.
47 SNPs (50.5%) have FRQ values > 0.5. Conventionally the FRQ column is intended to show the minor/effect allele frequency.
The FRQ column was mapped from one of the following from the inputted  summary statistics file:
FRQ, EAF, FREQUENCY, FRQ_U, F_U, MAF, FREQ, FREQ_TESTED_ALLELE, FRQ_TESTED_ALLELE, FREQ_EFFECT_ALLELE, FRQ_EFFECT_ALLELE, EFFECT_ALLELE_FREQUENCY, EFFECT_ALLELE_FREQ, EFFECT_ALLELE_FRQ, A2FREQ, A2FRQ, ALLELE_FREQUENCY, ALLELE_FREQ, ALLELE_FRQ, AF, MINOR_AF, EFFECT_AF, A2_AF, EFF_AF, ALT_AF, ALTERNATIVE_AF, INC_AF, A_2_AF, TESTED_AF, ALLELEFREQ, ALT_FREQ, EAF_HRC, EFFECTALLELEFREQ, FREQ.B, FREQ_EUROPEAN_1000GENOMES, FREQ_HAPMAP, FREQ_TESTED_ALLELE_IN_HRS, FRQ_U_113154, FRQ_U_31358, FRQ_U_344901, FRQ_U_43456, POOLED_ALT_AF, AF_ALT, AF.ALT, AF-ALT, ALT.AF, ALT-AF, A2.AF, A2-AF, AF.EFF, AF_EFF, ALL_AF
As frq_is_maf=TRUE, the FRQ column will not be renamed. If the FRQ values were intended to represent major allele frequency,
set frq_is_maf=FALSE to rename the column as MAJOR_ALLELE_FRQ and differentiate it from minor/effect allele frequency.
Sorting coordinates with "data.table".
Writing in tabular format ==> F:\biocbuild\bbs-3.18-bioc\tmpdir\RtmpAJ6g1k\file1da5c1e1f12ab.tsv.gz
Summary statistics report:
   - 93 rows (100% of original 93 rows)
   - 93 unique variants
   - 70 genome-wide significant variants (P<5e-8)
   - 20 chromosomes
Done munging in 0.042 minutes.
Successfully finished preparing sumstats file, preview:
Reading header.
          SNP   CHR       BP     A1     A2     FRQ   BETA    SE         P
       <char> <int>    <int> <char> <char>   <num>  <num> <num>     <num>
1:   rs301800     1  8490603      T      C 0.17910  0.019 0.003 1.794e-08
2: rs11210860     1 43982527      A      G 0.36940  0.017 0.003 2.359e-10
3: rs34305371     1 72733610      A      G 0.08769  0.035 0.005 3.762e-14
4:  rs2568955     1 72762169      T      C 0.23690 -0.017 0.003 1.797e-08
Returning path to saved data.
Formatted summary statistics will be saved to ==>  F:\biocbuild\bbs-3.18-bioc\tmpdir\RtmpAJ6g1k\file1da5c769c2a29.tsv.gz
Reading header.
Tabular format detected.
Importing tabular file: F:\biocbuild\bbs-3.18-bioc\tmpdir\RtmpAJ6g1k\file1da5c48916c33
Checking for empty columns.
Infer Effect Column
First line of summary statistics file: 
MarkerName	CHR	POS	A1	A2	EAF	Beta	SE	Pval	
Allele columns are ambiguous, attempting to infer direction
Can't infer allele columns from sumstats
Standardising column headers.
First line of summary statistics file: 
MarkerName	CHR	POS	A1	A2	EAF	Beta	SE	Pval	
Summary statistics report:
   - 93 rows
   - 93 unique variants
   - 70 genome-wide significant variants (P<5e-8)
   - 20 chromosomes
Checking for multi-GWAS.
Checking for multiple RSIDs on one row.
Checking SNP RSIDs.
Checking for merged allele column.
Checking A1 is uppercase
Checking A2 is uppercase
Checking for incorrect base-pair positions
Checking for missing data.
Checking for duplicate columns.
Checking for duplicated rows.
INFO column not available. Skipping INFO score filtering step.
Filtering SNPs, ensuring SE>0.
Ensuring all SNPs have N<5 std dev above mean.
47 SNPs (50.5%) have FRQ values > 0.5. Conventionally the FRQ column is intended to show the minor/effect allele frequency.
The FRQ column was mapped from one of the following from the inputted  summary statistics file:
FRQ, EAF, FREQUENCY, FRQ_U, F_U, MAF, FREQ, FREQ_TESTED_ALLELE, FRQ_TESTED_ALLELE, FREQ_EFFECT_ALLELE, FRQ_EFFECT_ALLELE, EFFECT_ALLELE_FREQUENCY, EFFECT_ALLELE_FREQ, EFFECT_ALLELE_FRQ, A2FREQ, A2FRQ, ALLELE_FREQUENCY, ALLELE_FREQ, ALLELE_FRQ, AF, MINOR_AF, EFFECT_AF, A2_AF, EFF_AF, ALT_AF, ALTERNATIVE_AF, INC_AF, A_2_AF, TESTED_AF, ALLELEFREQ, ALT_FREQ, EAF_HRC, EFFECTALLELEFREQ, FREQ.B, FREQ_EUROPEAN_1000GENOMES, FREQ_HAPMAP, FREQ_TESTED_ALLELE_IN_HRS, FRQ_U_113154, FRQ_U_31358, FRQ_U_344901, FRQ_U_43456, POOLED_ALT_AF, AF_ALT, AF.ALT, AF-ALT, ALT.AF, ALT-AF, A2.AF, A2-AF, AF.EFF, AF_EFF, ALL_AF
As frq_is_maf=TRUE, the FRQ column will not be renamed. If the FRQ values were intended to represent major allele frequency,
set frq_is_maf=FALSE to rename the column as MAJOR_ALLELE_FRQ and differentiate it from minor/effect allele frequency.
Sorting coordinates with "data.table".
Writing in tabular format ==> F:\biocbuild\bbs-3.18-bioc\tmpdir\RtmpAJ6g1k\file1da5c769c2a29.tsv.gz
Summary statistics report:
   - 93 rows (100% of original 93 rows)
   - 93 unique variants
   - 70 genome-wide significant variants (P<5e-8)
   - 20 chromosomes
Done munging in 0.042 minutes.
Successfully finished preparing sumstats file, preview:
Reading header.
          SNP   CHR       BP     A1     A2     FRQ   BETA    SE         P
       <char> <int>    <int> <char> <char>   <num>  <num> <num>     <num>
1:   rs301800     1  8490603      T      C 0.17910  0.019 0.003 1.794e-08
2: rs11210860     1 43982527      A      G 0.36940  0.017 0.003 2.359e-10
3: rs34305371     1 72733610      A      G 0.08769  0.035 0.005 3.762e-14
4:  rs2568955     1 72762169      T      C 0.23690 -0.017 0.003 1.797e-08
Returning path to saved data.
Formatted summary statistics will be saved to ==>  F:\biocbuild\bbs-3.18-bioc\tmpdir\RtmpAJ6g1k\file1da5c39db56eb.tsv.gz
Reading header.
Tabular format detected.
Importing tabular file: F:\biocbuild\bbs-3.18-bioc\tmpdir\RtmpAJ6g1k\file1da5c72114b3
Checking for empty columns.
Infer Effect Column
First line of summary statistics file: 
MarkerName	CHR	POS	A1	A2	EAF	Beta	SE	Pval	
Allele columns are ambiguous, attempting to infer direction
Can't infer allele columns from sumstats
Standardising column headers.
First line of summary statistics file: 
MarkerName	CHR	POS	A1	A2	EAF	Beta	SE	Pval	
Summary statistics report:
   - 93 rows
   - 93 unique variants
   - 70 genome-wide significant variants (P<5e-8)
   - 20 chromosomes
Checking for multi-GWAS.
Checking for multiple RSIDs on one row.
Checking SNP RSIDs.
Checking for merged allele column.
Checking A1 is uppercase
Checking A2 is uppercase
Checking for incorrect base-pair positions
Checking for missing data.
Checking for duplicate columns.
Checking for duplicated rows.
INFO column not available. Skipping INFO score filtering step.
Filtering SNPs, ensuring SE>0.
5 SNPs have SE values <= 0 and will be removed
Ensuring all SNPs have N<5 std dev above mean.
44 SNPs (50%) have FRQ values > 0.5. Conventionally the FRQ column is intended to show the minor/effect allele frequency.
The FRQ column was mapped from one of the following from the inputted  summary statistics file:
FRQ, EAF, FREQUENCY, FRQ_U, F_U, MAF, FREQ, FREQ_TESTED_ALLELE, FRQ_TESTED_ALLELE, FREQ_EFFECT_ALLELE, FRQ_EFFECT_ALLELE, EFFECT_ALLELE_FREQUENCY, EFFECT_ALLELE_FREQ, EFFECT_ALLELE_FRQ, A2FREQ, A2FRQ, ALLELE_FREQUENCY, ALLELE_FREQ, ALLELE_FRQ, AF, MINOR_AF, EFFECT_AF, A2_AF, EFF_AF, ALT_AF, ALTERNATIVE_AF, INC_AF, A_2_AF, TESTED_AF, ALLELEFREQ, ALT_FREQ, EAF_HRC, EFFECTALLELEFREQ, FREQ.B, FREQ_EUROPEAN_1000GENOMES, FREQ_HAPMAP, FREQ_TESTED_ALLELE_IN_HRS, FRQ_U_113154, FRQ_U_31358, FRQ_U_344901, FRQ_U_43456, POOLED_ALT_AF, AF_ALT, AF.ALT, AF-ALT, ALT.AF, ALT-AF, A2.AF, A2-AF, AF.EFF, AF_EFF, ALL_AF
As frq_is_maf=TRUE, the FRQ column will not be renamed. If the FRQ values were intended to represent major allele frequency,
set frq_is_maf=FALSE to rename the column as MAJOR_ALLELE_FRQ and differentiate it from minor/effect allele frequency.
Sorting coordinates with "data.table".
Writing in tabular format ==> F:\biocbuild\bbs-3.18-bioc\tmpdir\RtmpAJ6g1k\file1da5c39db56eb.tsv.gz
Summary statistics report:
   - 88 rows (94.6% of original 93 rows)
   - 88 unique variants
   - 65 genome-wide significant variants (P<5e-8)
   - 20 chromosomes
Done munging in 0.036 minutes.
Successfully finished preparing sumstats file, preview:
Reading header.
          SNP   CHR       BP     A1     A2     FRQ   BETA    SE         P
       <char> <int>    <int> <char> <char>   <num>  <num> <num>     <num>
1:   rs301800     1  8490603      T      C 0.17910  0.019 0.003 1.794e-08
2: rs11210860     1 43982527      A      G 0.36940  0.017 0.003 2.359e-10
3: rs34305371     1 72733610      A      G 0.08769  0.035 0.005 3.762e-14
4:  rs2568955     1 72762169      T      C 0.23690 -0.017 0.003 1.797e-08
Returning path to saved data.
Standardising column headers.
First line of summary statistics file: 
MarkerName	CHR	POS	A1	A2	EAF	Beta	SE	Pval	Support	
Returning unmapped column names without making them uppercase.
Standardising column headers.
First line of summary statistics file: 
MarkerName	CHR	POS	A1	A2	EAF	Beta	SE	Pval	Support	
Returning unmapped column names without making them uppercase.
Formatted summary statistics will be saved to ==>  F:\biocbuild\bbs-3.18-bioc\tmpdir\RtmpAJ6g1k\file1da5c71803117.tsv.gz
Formatted summary statistics will be saved to ==>  F:\biocbuild\bbs-3.18-bioc\tmpdir\RtmpAJ6g1k\file1da5c5e3379c4.tsv.gz
Reading header.
Tabular format detected.
Importing tabular file: F:\biocbuild\bbs-3.18-bioc\tmpdir\RtmpAJ6g1k\file1da5c7cf6e95
Checking for empty columns.
Infer Effect Column
First line of summary statistics file: 
MarkerName	CHR	POS	A1	A2	EAF	Beta	SE	Pval	
Allele columns are ambiguous, attempting to infer direction
Can't infer allele columns from sumstats
Standardising column headers.
First line of summary statistics file: 
MarkerName	CHR	POS	A1	A2	EAF	Beta	SE	Pval	
Summary statistics report:
   - 93 rows
   - 93 unique variants
   - 70 genome-wide significant variants (P<5e-8)
   - 20 chromosomes
Checking for multi-GWAS.
Checking for multiple RSIDs on one row.
Checking SNP RSIDs.
Checking for merged allele column.
Checking A1 is uppercase
Checking A2 is uppercase
Checking for incorrect base-pair positions
Checking for missing data.
Checking for duplicate columns.
Checking for duplicated rows.
INFO column not available. Skipping INFO score filtering step.
Filtering SNPs, ensuring SE>0.
Ensuring all SNPs have N<5 std dev above mean.
Sorting coordinates with "data.table".
Writing in tabular format ==> F:\biocbuild\bbs-3.18-bioc\tmpdir\RtmpAJ6g1k\file1da5c5e3379c4.tsv.gz
Summary statistics report:
   - 93 rows (100% of original 93 rows)
   - 93 unique variants
   - 70 genome-wide significant variants (P<5e-8)
   - 20 chromosomes
Done munging in 0.038 minutes.
Successfully finished preparing sumstats file, preview:
Reading header.
          SNP   CHR       BP     A1     A2     EAF   BETA    SE         P
       <char> <int>    <int> <char> <char>   <num>  <num> <num>     <num>
1:   rs301800     1  8490603      T      C 0.17910  0.019 0.003 1.794e-08
2: rs11210860     1 43982527      A      G 0.36940  0.017 0.003 2.359e-10
3: rs34305371     1 72733610      A      G 0.08769  0.035 0.005 3.762e-14
4:  rs2568955     1 72762169      T      C 0.23690 -0.017 0.003 1.797e-08
Returning data directly.
Converting summary statistics to GenomicRanges.
Formatted summary statistics will be saved to ==>  F:\biocbuild\bbs-3.18-bioc\tmpdir\RtmpAJ6g1k\file1da5c1ec31a4.tsv.gz
Formatted summary statistics will be saved to ==>  F:\biocbuild\bbs-3.18-bioc\tmpdir\RtmpAJ6g1k\file1da5ce46e1d.tsv.gz
Formatted summary statistics will be saved to ==>  F:\biocbuild\bbs-3.18-bioc\tmpdir\RtmpAJ6g1k\file1da5c72f82685.tsv.gz
Formatted summary statistics will be saved to ==>  F:\biocbuild\bbs-3.18-bioc\tmpdir\RtmpAJ6g1k\file1da5ce743412.tsv.gz
Formatted summary statistics will be saved to ==>  F:\biocbuild\bbs-3.18-bioc\tmpdir\RtmpAJ6g1k\file1da5c3b6a4b77.tsv.gz
Formatted summary statistics will be saved to ==>  F:\biocbuild\bbs-3.18-bioc\tmpdir\RtmpAJ6g1k\file1da5c3d02777.tsv.gz
Formatted summary statistics will be saved to ==>  F:\biocbuild\bbs-3.18-bioc\tmpdir\RtmpAJ6g1k\file1da5c7e473cfd.tsv.gz
Formatted summary statistics will be saved to ==>  F:\biocbuild\bbs-3.18-bioc\tmpdir\RtmpAJ6g1k\file1da5c6656d0b.tsv.gz
Formatted summary statistics will be saved to ==>  F:\biocbuild\bbs-3.18-bioc\tmpdir\RtmpAJ6g1k\file1da5c771fafa.tsv.gz
Formatted summary statistics will be saved to ==>  F:\biocbuild\bbs-3.18-bioc\tmpdir\RtmpAJ6g1k\file1da5c531841df.tsv.gz
Formatted summary statistics will be saved to ==>  F:\biocbuild\bbs-3.18-bioc\tmpdir\RtmpAJ6g1k\file1da5c698f7a20.tsv.gz
Formatted summary statistics will be saved to ==>  F:\biocbuild\bbs-3.18-bioc\tmpdir\RtmpAJ6g1k\file1da5c4df4100d.tsv.gz
Reading header.
Tabular format detected.
Importing tabular file: F:\biocbuild\bbs-3.18-bioc\tmpdir\RtmpAJ6g1k\file1da5c3ce61a5
Checking for empty columns.
Infer Effect Column
First line of summary statistics file: 
MarkerName	CHR	POS	A1	A2	EAF	Beta	SE	
Allele columns are ambiguous, attempting to infer direction
Can't infer allele columns from sumstats
Standardising column headers.
First line of summary statistics file: 
MarkerName	CHR	POS	A1	A2	EAF	Beta	SE	
Summary statistics report:
   - 93 rows
   - 93 unique variants
   - 20 chromosomes
Checking for multi-GWAS.
Checking for multiple RSIDs on one row.
Checking SNP RSIDs.
Checking for merged allele column.
Checking A1 is uppercase
Checking A2 is uppercase
Checking for incorrect base-pair positions
[ FAIL 0 | WARN 2 | SKIP 1 | PASS 145 ]

══ Skipped tests (1) ═══════════════════════════════════════════════════════════
• empty test (1): 'test-write_sumstats.R:1:1'

[ FAIL 0 | WARN 2 | SKIP 1 | PASS 145 ]
> 
> proc.time()
   user  system elapsed 
 272.12    4.95  282.28 

Example timings

MungeSumstats.Rcheck/MungeSumstats-Ex.timings

nameusersystemelapsed
compute_nsize3.110.103.20
download_vcf000
find_sumstats000
format_sumstats68.33 1.6777.09
formatted_example1.950.062.02
get_genome_builds82.49 2.5093.73
import_sumstats000
index_tabular2.340.022.39
index_vcf2.000.002.02
infer_effect_column2.230.002.23
liftover3.740.045.72
list_sumstats0.010.000.02
load_snp_loc_data000
parse_logs0.020.000.03
read_header0.000.000.01
read_sumstats0.000.000.02
read_vcf2.000.042.03
standardise_header2.370.012.39
vcf2df0.570.030.60
write_sumstats0.000.000.29