Index of /checkResults/release/bioc-LATEST/MungeSumstats/raw-results

[ICO]NameLast modifiedSizeDescription

[DIR]Parent Directory  -  
[   ]info.dcf06-Aug-2022 03:20 284  
[DIR]merida1/06-Aug-2022 03:20 -  
[DIR]nebbiolo1/06-Aug-2022 03:19 -  
[DIR]palomino3/04-Aug-2022 02:21 -  
[DIR]riesling1/19-Mar-2022 00:08 -