Back to Multiple platform build/check report for BioC 3.16
ABCDEFGHIJKL[M]NOPQRSTUVWXYZ

This page was generated on 2023-01-31 11:09:54 -0500 (Tue, 31 Jan 2023).

HostnameOSArch (*)R versionInstalled pkgs
nebbiolo2Linux (Ubuntu 20.04.5 LTS)x86_644.2.2 (2022-10-31) -- "Innocent and Trusting" 4511
palomino4Windows Server 2022 Datacenterx644.2.2 (2022-10-31 ucrt) -- "Innocent and Trusting" 4289
lconwaymacOS 12.5.1 Montereyx86_644.2.2 (2022-10-31) -- "Innocent and Trusting" 4318
Click on any hostname to see more info about the system (e.g. compilers)      (*) as reported by 'uname -p', except on Windows and Mac OS X

BUILD results for MSstatsShiny on lconway


To the developers/maintainers of the MSstatsShiny package:
- Please allow up to 24 hours (and sometimes 48 hours) for your latest push to git@git.bioconductor.org:packages/MSstatsShiny.git to
reflect on this report. See How and When does the builder pull? When will my changes propagate? for more information.
- Make sure to use the following settings in order to reproduce any error or warning you see on this page.

raw results

Package 1291/2183HostnameOS / ArchINSTALLBUILDCHECKBUILD BIN
MSstatsShiny 1.0.7  (landing page)
Devon Kohler
Snapshot Date: 2023-01-30 14:00:05 -0500 (Mon, 30 Jan 2023)
git_url: https://git.bioconductor.org/packages/MSstatsShiny
git_branch: RELEASE_3_16
git_last_commit: adf43d8
git_last_commit_date: 2023-01-17 20:32:16 -0500 (Tue, 17 Jan 2023)
nebbiolo2Linux (Ubuntu 20.04.5 LTS) / x86_64  OK    OK    OK  UNNEEDED, same version is already published
palomino4Windows Server 2022 Datacenter / x64  OK    OK    OK    OK  UNNEEDED, same version is already published
lconwaymacOS 12.5.1 Monterey / x86_64  OK    OK    OK    OK  UNNEEDED, same version is already published

Summary

Package: MSstatsShiny
Version: 1.0.7
Command: /Library/Frameworks/R.framework/Resources/bin/R CMD build --keep-empty-dirs --no-resave-data MSstatsShiny
StartedAt: 2023-01-30 17:18:19 -0500 (Mon, 30 Jan 2023)
EndedAt: 2023-01-30 17:18:58 -0500 (Mon, 30 Jan 2023)
EllapsedTime: 39.6 seconds
RetCode: 0
Status:   OK  
PackageFile: MSstatsShiny_1.0.7.tar.gz
PackageFileSize: 1.099 MiB

Command output

##############################################################################
##############################################################################
###
### Running command:
###
###   /Library/Frameworks/R.framework/Resources/bin/R CMD build --keep-empty-dirs --no-resave-data MSstatsShiny
###
##############################################################################
##############################################################################


* checking for file ‘MSstatsShiny/DESCRIPTION’ ... OK
* preparing ‘MSstatsShiny’:
* checking DESCRIPTION meta-information ... OK
* installing the package to build vignettes
* creating vignettes ... OK
* checking for LF line-endings in source and make files and shell scripts
* checking for empty or unneeded directories
* looking to see if a ‘data/datalist’ file should be added
* building ‘MSstatsShiny_1.0.7.tar.gz’