Back to Multiple platform build/check report for BioC 3.17: simplified long |
|
This page was generated on 2023-09-22 11:37:34 -0400 (Fri, 22 Sep 2023).
Hostname | OS | Arch (*) | R version | Installed pkgs |
---|---|---|---|---|
nebbiolo1 | Linux (Ubuntu 22.04.2 LTS) | x86_64 | 4.3.1 (2023-06-16) -- "Beagle Scouts" | 4625 |
palomino3 | Windows Server 2022 Datacenter | x64 | 4.3.1 (2023-06-16 ucrt) -- "Beagle Scouts" | 4378 |
merida1 | macOS 12.6.4 Monterey | x86_64 | 4.3.1 (2023-06-16) -- "Beagle Scouts" | 4394 |
Click on any hostname to see more info about the system (e.g. compilers) (*) as reported by 'uname -p', except on Windows and Mac OS X |
Package 1314/2230 | Hostname | OS / Arch | INSTALL | BUILD | CHECK | BUILD BIN | ||||||||
MSstats 4.8.7 (landing page) Meena Choi
| nebbiolo1 | Linux (Ubuntu 22.04.2 LTS) / x86_64 | OK | OK | OK | ![]() | ||||||||
palomino3 | Windows Server 2022 Datacenter / x64 | OK | OK | OK | OK | ![]() | ||||||||
merida1 | macOS 12.6.4 Monterey / x86_64 | OK | OK | OK | OK | ![]() | ||||||||
To the developers/maintainers of the MSstats package: - Allow up to 24 hours (and sometimes 48 hours) for your latest push to git@git.bioconductor.org:packages/MSstats.git to reflect on this report. See Troubleshooting Build Report for more information. - Use the following Renviron settings to reproduce errors and warnings. - If 'R CMD check' started to fail recently on the Linux builder(s) over a missing dependency, add the missing dependency to 'Suggests:' in your DESCRIPTION file. See Renviron.bioc for more information. |
Package: MSstats |
Version: 4.8.7 |
Command: /Library/Frameworks/R.framework/Resources/bin/R CMD check --install=check:MSstats.install-out.txt --library=/Library/Frameworks/R.framework/Resources/library --no-vignettes --timings MSstats_4.8.7.tar.gz |
StartedAt: 2023-09-22 04:59:22 -0400 (Fri, 22 Sep 2023) |
EndedAt: 2023-09-22 05:04:00 -0400 (Fri, 22 Sep 2023) |
EllapsedTime: 278.7 seconds |
RetCode: 0 |
Status: OK |
CheckDir: MSstats.Rcheck |
Warnings: 0 |
############################################################################## ############################################################################## ### ### Running command: ### ### /Library/Frameworks/R.framework/Resources/bin/R CMD check --install=check:MSstats.install-out.txt --library=/Library/Frameworks/R.framework/Resources/library --no-vignettes --timings MSstats_4.8.7.tar.gz ### ############################################################################## ############################################################################## * using log directory ‘/Users/biocbuild/bbs-3.17-bioc/meat/MSstats.Rcheck’ * using R version 4.3.1 (2023-06-16) * using platform: x86_64-apple-darwin20 (64-bit) * R was compiled by Apple clang version 14.0.3 (clang-1403.0.22.14.1) GNU Fortran (GCC) 12.2.0 * running under: macOS Monterey 12.6.4 * using session charset: UTF-8 * using option ‘--no-vignettes’ * checking for file ‘MSstats/DESCRIPTION’ ... OK * this is package ‘MSstats’ version ‘4.8.7’ * package encoding: UTF-8 * checking package namespace information ... OK * checking package dependencies ... OK * checking if this is a source package ... OK * checking if there is a namespace ... OK * checking for hidden files and directories ... OK * checking for portable file names ... OK * checking for sufficient/correct file permissions ... OK * checking whether package ‘MSstats’ can be installed ... OK * used C++ compiler: ‘Apple clang version 14.0.0 (clang-1400.0.29.202)’ * used SDK: ‘MacOSX11.3.sdk’ * checking C++ specification ... NOTE Specified C++11: please drop specification unless essential * checking installed package size ... OK * checking package directory ... OK * checking ‘build’ directory ... OK * checking DESCRIPTION meta-information ... OK * checking top-level files ... OK * checking for left-over files ... OK * checking index information ... OK * checking package subdirectories ... OK * checking R files for non-ASCII characters ... OK * checking R files for syntax errors ... OK * checking whether the package can be loaded ... OK * checking whether the package can be loaded with stated dependencies ... OK * checking whether the package can be unloaded cleanly ... OK * checking whether the namespace can be loaded with stated dependencies ... OK * checking whether the namespace can be unloaded cleanly ... OK * checking startup messages can be suppressed ... OK * checking dependencies in R code ... NOTE Namespace in Imports field not imported from: ‘statmod’ All declared Imports should be used. * checking S3 generic/method consistency ... OK * checking replacement functions ... OK * checking foreign function calls ... OK * checking R code for possible problems ... NOTE .setCensoredByThreshold: no visible binding for global variable ‘any_censored’ DIANNtoMSstatsFormat: no visible binding for global variable ‘DetectionQValue’ DIANNtoMSstatsFormat: no visible binding for global variable ‘LibPGQValue’ DIANNtoMSstatsFormat: no visible binding for global variable ‘LibQValue’ DIANNtoMSstatsFormat: no visible binding for global variable ‘GlobalPGQValue’ DIANNtoMSstatsFormat: no visible binding for global variable ‘GlobalQValue’ Undefined global functions or variables: DetectionQValue GlobalPGQValue GlobalQValue LibPGQValue LibQValue any_censored * checking Rd files ... OK * checking Rd metadata ... OK * checking Rd cross-references ... OK * checking for missing documentation entries ... OK * checking for code/documentation mismatches ... OK * checking Rd \usage sections ... OK * checking Rd contents ... OK * checking for unstated dependencies in examples ... OK * checking contents of ‘data’ directory ... OK * checking data for non-ASCII characters ... OK * checking LazyData ... OK * checking data for ASCII and uncompressed saves ... OK * checking line endings in C/C++/Fortran sources/headers ... OK * checking line endings in Makefiles ... OK * checking compilation flags in Makevars ... OK * checking for GNU extensions in Makefiles ... OK * checking for portable use of $(BLAS_LIBS) and $(LAPACK_LIBS) ... OK * checking use of PKG_*FLAGS in Makefiles ... OK * checking compiled code ... NOTE Note: information on .o files is not available * checking files in ‘vignettes’ ... OK * checking examples ... OK Examples with CPU (user + system) or elapsed time > 5s user system elapsed dataProcessPlots 13.097 0.094 16.852 dot-makeQCPlot 12.540 0.082 16.181 groupComparisonPlots 6.658 0.068 8.755 * checking for unstated dependencies in ‘tests’ ... OK * checking tests ... Running ‘tinytest.R’ OK * checking for unstated dependencies in vignettes ... OK * checking package vignettes in ‘inst/doc’ ... OK * checking running R code from vignettes ... SKIPPED * checking re-building of vignette outputs ... SKIPPED * checking PDF version of manual ... OK * DONE Status: 4 NOTEs See ‘/Users/biocbuild/bbs-3.17-bioc/meat/MSstats.Rcheck/00check.log’ for details.
MSstats.Rcheck/00install.out
############################################################################## ############################################################################## ### ### Running command: ### ### /Library/Frameworks/R.framework/Resources/bin/R CMD INSTALL MSstats ### ############################################################################## ############################################################################## * installing to library ‘/Library/Frameworks/R.framework/Versions/4.3-x86_64/Resources/library’ * installing *source* package ‘MSstats’ ... ** using staged installation ** libs using C++ compiler: ‘Apple clang version 14.0.0 (clang-1400.0.29.202)’ using C++11 using SDK: ‘MacOSX11.3.sdk’ clang++ -arch x86_64 -std=gnu++11 -I"/Library/Frameworks/R.framework/Resources/include" -DNDEBUG -I'/Library/Frameworks/R.framework/Versions/4.3-x86_64/Resources/library/Rcpp/include' -I'/Library/Frameworks/R.framework/Versions/4.3-x86_64/Resources/library/RcppArmadillo/include' -I/opt/R/x86_64/include -fPIC -falign-functions=64 -Wall -g -O2 -c RcppExports.cpp -o RcppExports.o clang++ -arch x86_64 -std=gnu++11 -I"/Library/Frameworks/R.framework/Resources/include" -DNDEBUG -I'/Library/Frameworks/R.framework/Versions/4.3-x86_64/Resources/library/Rcpp/include' -I'/Library/Frameworks/R.framework/Versions/4.3-x86_64/Resources/library/RcppArmadillo/include' -I/opt/R/x86_64/include -fPIC -falign-functions=64 -Wall -g -O2 -c common.cpp -o common.o clang++ -arch x86_64 -std=gnu++11 -I"/Library/Frameworks/R.framework/Resources/include" -DNDEBUG -I'/Library/Frameworks/R.framework/Versions/4.3-x86_64/Resources/library/Rcpp/include' -I'/Library/Frameworks/R.framework/Versions/4.3-x86_64/Resources/library/RcppArmadillo/include' -I/opt/R/x86_64/include -fPIC -falign-functions=64 -Wall -g -O2 -c comparison_contrasts.cpp -o comparison_contrasts.o clang++ -arch x86_64 -std=gnu++11 -I"/Library/Frameworks/R.framework/Resources/include" -DNDEBUG -I'/Library/Frameworks/R.framework/Versions/4.3-x86_64/Resources/library/Rcpp/include' -I'/Library/Frameworks/R.framework/Versions/4.3-x86_64/Resources/library/RcppArmadillo/include' -I/opt/R/x86_64/include -fPIC -falign-functions=64 -Wall -g -O2 -c linear_summary.cpp -o linear_summary.o clang++ -arch x86_64 -std=gnu++11 -I"/Library/Frameworks/R.framework/Resources/include" -DNDEBUG -I'/Library/Frameworks/R.framework/Versions/4.3-x86_64/Resources/library/Rcpp/include' -I'/Library/Frameworks/R.framework/Versions/4.3-x86_64/Resources/library/RcppArmadillo/include' -I/opt/R/x86_64/include -fPIC -falign-functions=64 -Wall -g -O2 -c median_polish.cpp -o median_polish.o clang++ -arch x86_64 -std=gnu++11 -dynamiclib -Wl,-headerpad_max_install_names -undefined dynamic_lookup -single_module -multiply_defined suppress -L/Library/Frameworks/R.framework/Resources/lib -L/opt/R/x86_64/lib -o MSstats.so RcppExports.o common.o comparison_contrasts.o linear_summary.o median_polish.o -L/Library/Frameworks/R.framework/Resources/lib -lRlapack -L/Library/Frameworks/R.framework/Resources/lib -lRblas -L/opt/gfortran/lib/gcc/x86_64-apple-darwin20.0/12.2.0 -L/opt/gfortran/lib -lgfortran -lquadmath -F/Library/Frameworks/R.framework/.. -framework R -Wl,-framework -Wl,CoreFoundation installing to /Library/Frameworks/R.framework/Versions/4.3-x86_64/Resources/library/00LOCK-MSstats/00new/MSstats/libs ** R ** data *** moving datasets to lazyload DB ** inst ** byte-compile and prepare package for lazy loading ** help *** installing help indices ** building package indices ** installing vignettes ** testing if installed package can be loaded from temporary location ** checking absolute paths in shared objects and dynamic libraries ** testing if installed package can be loaded from final location ** testing if installed package keeps a record of temporary installation path * DONE (MSstats)
MSstats.Rcheck/tests/tinytest.Rout
R version 4.3.1 (2023-06-16) -- "Beagle Scouts" Copyright (C) 2023 The R Foundation for Statistical Computing Platform: x86_64-apple-darwin20 (64-bit) R is free software and comes with ABSOLUTELY NO WARRANTY. You are welcome to redistribute it under certain conditions. Type 'license()' or 'licence()' for distribution details. R is a collaborative project with many contributors. Type 'contributors()' for more information and 'citation()' on how to cite R or R packages in publications. Type 'demo()' for some demos, 'help()' for on-line help, or 'help.start()' for an HTML browser interface to help. Type 'q()' to quit R. > if ( requireNamespace("tinytest", quietly=TRUE) ){ + tinytest::test_package("MSstats") + } Attaching package: 'MSstats' The following object is masked from 'package:grDevices': savePlot test_MSstatsdev.R............. 1 tests [0;32mOK[0m [0;34m0.1s[0m [0;36m3ms[0m All ok, 1 results (0.1s) > > proc.time() user system elapsed 6.152 0.541 8.607
MSstats.Rcheck/MSstats-Ex.timings
name | user | system | elapsed | |
DDARawData | 0.011 | 0.004 | 0.019 | |
DDARawData.Skyline | 0.010 | 0.004 | 0.017 | |
DIANNtoMSstatsFormat | 0.000 | 0.000 | 0.001 | |
DIARawData | 0.006 | 0.002 | 0.011 | |
DIAUmpiretoMSstatsFormat | 0.268 | 0.054 | 0.429 | |
FragPipetoMSstatsFormat | 0.102 | 0.023 | 0.164 | |
MSstatsGroupComparison | 0.587 | 0.042 | 0.827 | |
MSstatsGroupComparisonOutput | 0.540 | 0.012 | 0.703 | |
MSstatsGroupComparisonSingleProtein | 0.347 | 0.007 | 0.466 | |
MSstatsHandleMissing | 0.116 | 0.007 | 0.181 | |
MSstatsMergeFractions | 0.094 | 0.005 | 0.120 | |
MSstatsNormalize | 0.094 | 0.006 | 0.129 | |
MSstatsPrepareForDataProcess | 0.098 | 0.007 | 0.142 | |
MSstatsPrepareForGroupComparison | 0.253 | 0.005 | 0.340 | |
MSstatsPrepareForSummarization | 0.089 | 0.007 | 0.153 | |
MSstatsSelectFeatures | 0.416 | 0.022 | 0.634 | |
MSstatsSummarizationOutput | 0.493 | 0.014 | 0.693 | |
MSstatsSummarize | 0.475 | 0.011 | 0.675 | |
MSstatsSummarizeSingleLinear | 0.141 | 0.005 | 0.161 | |
MSstatsSummarizeSingleTMP | 0.184 | 0.008 | 0.276 | |
MaxQtoMSstatsFormat | 0.292 | 0.018 | 0.427 | |
OpenMStoMSstatsFormat | 0.108 | 0.005 | 0.198 | |
OpenSWATHtoMSstatsFormat | 0.117 | 0.006 | 0.187 | |
PDtoMSstatsFormat | 0.108 | 0.006 | 0.149 | |
ProgenesistoMSstatsFormat | 0.112 | 0.006 | 0.150 | |
SRMRawData | 0.006 | 0.001 | 0.007 | |
SkylinetoMSstatsFormat | 0.166 | 0.013 | 0.218 | |
SpectronauttoMSstatsFormat | 0.099 | 0.006 | 0.166 | |
checkRepeatedDesign | 0.304 | 0.006 | 0.400 | |
dataProcess | 0.797 | 0.013 | 1.013 | |
dataProcessPlots | 13.097 | 0.094 | 16.852 | |
designSampleSize | 0.498 | 0.021 | 0.698 | |
designSampleSizePlots | 0.538 | 0.015 | 0.710 | |
dot-makeQCPlot | 12.540 | 0.082 | 16.181 | |
getProcessed | 0.116 | 0.010 | 0.153 | |
getSamplesInfo | 0.572 | 0.009 | 0.713 | |
groupComparison | 0.444 | 0.010 | 0.567 | |
groupComparisonPlots | 6.658 | 0.068 | 8.755 | |
makePeptidesDictionary | 0.005 | 0.002 | 0.009 | |
modelBasedQCPlots | 1.724 | 0.020 | 2.230 | |
quantification | 0.335 | 0.010 | 0.445 | |