Back to Multiple platform build/check report for BioC 3.18: simplified long |
|
This page was generated on 2024-03-04 11:37:29 -0500 (Mon, 04 Mar 2024).
Hostname | OS | Arch (*) | R version | Installed pkgs |
---|---|---|---|---|
nebbiolo2 | Linux (Ubuntu 22.04.3 LTS) | x86_64 | 4.3.2 Patched (2023-11-13 r85521) -- "Eye Holes" | 4692 |
palomino4 | Windows Server 2022 Datacenter | x64 | 4.3.2 (2023-10-31 ucrt) -- "Eye Holes" | 4445 |
lconway | macOS 12.7.1 Monterey | x86_64 | 4.3.2 Patched (2023-11-01 r85457) -- "Eye Holes" | 4466 |
Click on any hostname to see more info about the system (e.g. compilers) (*) as reported by 'uname -p', except on Windows and Mac OS X |
Package 1082/2266 | Hostname | OS / Arch | INSTALL | BUILD | CHECK | BUILD BIN | ||||||||
KnowSeq 1.16.0 (landing page) Daniel Castillo-Secilla
| nebbiolo2 | Linux (Ubuntu 22.04.3 LTS) / x86_64 | OK | OK | OK | |||||||||
palomino4 | Windows Server 2022 Datacenter / x64 | OK | OK | OK | OK | |||||||||
lconway | macOS 12.7.1 Monterey / x86_64 | OK | OK | OK | OK | |||||||||
kjohnson1 | macOS 13.6.1 Ventura / arm64 | see weekly results here | ||||||||||||
To the developers/maintainers of the KnowSeq package: - Allow up to 24 hours (and sometimes 48 hours) for your latest push to git@git.bioconductor.org:packages/KnowSeq.git to reflect on this report. See Troubleshooting Build Report for more information. - Use the following Renviron settings to reproduce errors and warnings. - If 'R CMD check' started to fail recently on the Linux builder(s) over a missing dependency, add the missing dependency to 'Suggests:' in your DESCRIPTION file. See Renviron.bioc for more information. |
Package: KnowSeq |
Version: 1.16.0 |
Command: /Library/Frameworks/R.framework/Resources/bin/R CMD check --install=check:KnowSeq.install-out.txt --library=/Library/Frameworks/R.framework/Resources/library --no-vignettes --timings KnowSeq_1.16.0.tar.gz |
StartedAt: 2024-03-03 21:25:54 -0500 (Sun, 03 Mar 2024) |
EndedAt: 2024-03-03 21:31:36 -0500 (Sun, 03 Mar 2024) |
EllapsedTime: 341.7 seconds |
RetCode: 0 |
Status: OK |
CheckDir: KnowSeq.Rcheck |
Warnings: 0 |
############################################################################## ############################################################################## ### ### Running command: ### ### /Library/Frameworks/R.framework/Resources/bin/R CMD check --install=check:KnowSeq.install-out.txt --library=/Library/Frameworks/R.framework/Resources/library --no-vignettes --timings KnowSeq_1.16.0.tar.gz ### ############################################################################## ############################################################################## * using log directory ‘/Users/biocbuild/bbs-3.18-bioc/meat/KnowSeq.Rcheck’ * using R version 4.3.2 Patched (2023-11-01 r85457) * using platform: x86_64-apple-darwin20 (64-bit) * R was compiled by Apple clang version 14.0.3 (clang-1403.0.22.14.1) GNU Fortran (GCC) 12.2.0 * running under: macOS Monterey 12.7.1 * using session charset: UTF-8 * using option ‘--no-vignettes’ * checking for file ‘KnowSeq/DESCRIPTION’ ... OK * checking extension type ... Package * this is package ‘KnowSeq’ version ‘1.16.0’ * package encoding: UTF-8 * checking package namespace information ... OK * checking package dependencies ... OK * checking if this is a source package ... OK * checking if there is a namespace ... OK * checking for hidden files and directories ... OK * checking for portable file names ... OK * checking for sufficient/correct file permissions ... OK * checking whether package ‘KnowSeq’ can be installed ... OK * checking installed package size ... NOTE installed size is 7.2Mb sub-directories of 1Mb or more: extdata 6.9Mb * checking package directory ... OK * checking ‘build’ directory ... OK * checking DESCRIPTION meta-information ... OK * checking top-level files ... OK * checking for left-over files ... OK * checking index information ... OK * checking package subdirectories ... OK * checking R files for non-ASCII characters ... OK * checking R files for syntax errors ... OK * checking whether the package can be loaded ... OK * checking whether the package can be loaded with stated dependencies ... OK * checking whether the package can be unloaded cleanly ... OK * checking whether the namespace can be loaded with stated dependencies ... OK * checking whether the namespace can be unloaded cleanly ... OK * checking dependencies in R code ... OK * checking S3 generic/method consistency ... OK * checking replacement functions ... OK * checking foreign function calls ... OK * checking R code for possible problems ... NOTE DEGsExtraction: warning in topTable(fit, number = number, coef = 2, sort.by = "logFC", p.value = pvalue, adjust = "fdr", lfc = lfc): partial argument match of 'adjust' to 'adjust.method' RNAseqQA : outlierBarPlot: no visible binding for global variable ‘x’ RNAseqQA : outlierBarPlot: no visible binding for global variable ‘y’ RNAseqQA: no visible binding for global variable ‘Var1’ RNAseqQA: no visible binding for global variable ‘Var2’ RNAseqQA: no visible binding for global variable ‘value’ RNAseqQA: no visible binding for global variable ‘Expression’ RNAseqQA: no visible binding for global variable ‘Samples’ dataPlot: no visible binding for global variable ‘Var1’ dataPlot: no visible binding for global variable ‘Var2’ dataPlot: no visible binding for global variable ‘value’ dataPlot: no visible binding for global variable ‘Classes’ dataPlot: no visible binding for global variable ‘Value’ knn_trn: no visible global function definition for ‘knn.cv’ knowseqReport: no visible binding for global variable ‘target’ Undefined global functions or variables: Classes Expression Samples Value Var1 Var2 knn.cv target value x y * checking Rd files ... OK * checking Rd metadata ... OK * checking Rd cross-references ... OK * checking for missing documentation entries ... OK * checking for code/documentation mismatches ... OK * checking Rd \usage sections ... OK * checking Rd contents ... OK * checking for unstated dependencies in examples ... OK * checking files in ‘vignettes’ ... OK * checking examples ... OK Examples with CPU (user + system) or elapsed time > 5s user system elapsed dataPlot 23.288 0.286 23.682 svm_trn 20.110 0.187 20.450 rf_trn 18.151 0.655 18.989 svm_test 17.944 0.203 18.297 downloadPublicSeries 0.932 0.093 17.688 * checking for unstated dependencies in vignettes ... OK * checking package vignettes in ‘inst/doc’ ... OK * checking running R code from vignettes ... SKIPPED * checking re-building of vignette outputs ... SKIPPED * checking PDF version of manual ... OK * DONE Status: 2 NOTEs See ‘/Users/biocbuild/bbs-3.18-bioc/meat/KnowSeq.Rcheck/00check.log’ for details.
KnowSeq.Rcheck/00install.out
############################################################################## ############################################################################## ### ### Running command: ### ### /Library/Frameworks/R.framework/Resources/bin/R CMD INSTALL KnowSeq ### ############################################################################## ############################################################################## * installing to library ‘/Library/Frameworks/R.framework/Versions/4.3-x86_64/Resources/library’ * installing *source* package ‘KnowSeq’ ... ** using staged installation ** R ** inst ** byte-compile and prepare package for lazy loading ** help *** installing help indices ** building package indices ** installing vignettes ** testing if installed package can be loaded from temporary location ** testing if installed package can be loaded from final location ** testing if installed package keeps a record of temporary installation path * DONE (KnowSeq)
KnowSeq.Rcheck/KnowSeq-Ex.timings
name | user | system | elapsed | |
DEGsEvidences | 0.337 | 0.022 | 4.027 | |
DEGsExtraction | 0.993 | 0.044 | 1.053 | |
DEGsToDiseases | 0.300 | 0.011 | 0.486 | |
DEGsToPathways | 0.573 | 0.018 | 0.599 | |
RNAseqQA | 2.882 | 0.111 | 3.012 | |
batchEffectRemoval | 2.962 | 0.031 | 3.014 | |
calculateGeneExpressionValues | 0.777 | 0.031 | 0.825 | |
countsToMatrix | 0.067 | 0.009 | 0.080 | |
dataPlot | 23.288 | 0.286 | 23.682 | |
downloadPublicSeries | 0.932 | 0.093 | 17.688 | |
featureSelection | 0.012 | 0.003 | 0.016 | |
fileMove | 0 | 0 | 0 | |
gdcClientDownload | 0 | 0 | 0 | |
geneOntologyEnrichment | 0 | 0 | 0 | |
getGenesAnnotation | 0.250 | 0.007 | 0.259 | |
hisatAlignment | 0.003 | 0.001 | 0.004 | |
knn_test | 0.054 | 0.002 | 0.056 | |
knn_trn | 1.797 | 0.025 | 1.830 | |
knowseqReport | 0.006 | 0.001 | 0.006 | |
plotConfMatrix | 0.020 | 0.002 | 0.023 | |
rawAlignment | 0.002 | 0.001 | 0.003 | |
rf_test | 4.792 | 0.168 | 4.994 | |
rf_trn | 18.151 | 0.655 | 18.989 | |
sraToFastq | 0.000 | 0.000 | 0.001 | |
svm_test | 17.944 | 0.203 | 18.297 | |
svm_trn | 20.110 | 0.187 | 20.450 | |