Back to Multiple platform build/check report for BioC 3.16:   simplified   long
ABCDEFGHIJ[K]LMNOPQRSTUVWXYZ

This page was generated on 2023-03-24 11:06:40 -0400 (Fri, 24 Mar 2023).

HostnameOSArch (*)R versionInstalled pkgs
nebbiolo2Linux (Ubuntu 20.04.5 LTS)x86_644.2.3 (2023-03-15) -- "Shortstop Beagle" 4286
palomino4Windows Server 2022 Datacenterx644.2.3 (2023-03-15 ucrt) -- "Shortstop Beagle" 4276
lconwaymacOS 12.5.1 Montereyx86_644.2.3 (2023-03-15) -- "Shortstop Beagle" 4303
Click on any hostname to see more info about the system (e.g. compilers)      (*) as reported by 'uname -p', except on Windows and Mac OS X

CHECK results for KEGGlincs on lconway


To the developers/maintainers of the KEGGlincs package:
- Please allow up to 24 hours (and sometimes 48 hours) for your latest push to git@git.bioconductor.org:packages/KEGGlincs.git to
reflect on this report. See How and When does the builder pull? When will my changes propagate? for more information.
- Make sure to use the following settings in order to reproduce any error or warning you see on this page.

raw results

Package 1024/2183HostnameOS / ArchINSTALLBUILDCHECKBUILD BIN
KEGGlincs 1.24.0  (landing page)
Shana White , Mario Medvedovic
Snapshot Date: 2023-03-22 14:00:04 -0400 (Wed, 22 Mar 2023)
git_url: https://git.bioconductor.org/packages/KEGGlincs
git_branch: RELEASE_3_16
git_last_commit: a4333f7
git_last_commit_date: 2022-11-01 11:14:35 -0400 (Tue, 01 Nov 2022)
nebbiolo2Linux (Ubuntu 20.04.5 LTS) / x86_64  OK    OK    OK  UNNEEDED, same version is already published
palomino4Windows Server 2022 Datacenter / x64  OK    OK    OK    OK  UNNEEDED, same version is already published
lconwaymacOS 12.5.1 Monterey / x86_64  OK    OK    OK    OK  UNNEEDED, same version is already published

Summary

Package: KEGGlincs
Version: 1.24.0
Command: /Library/Frameworks/R.framework/Resources/bin/R CMD check --install=check:KEGGlincs.install-out.txt --library=/Library/Frameworks/R.framework/Resources/library --no-vignettes --timings KEGGlincs_1.24.0.tar.gz
StartedAt: 2023-03-22 20:56:33 -0400 (Wed, 22 Mar 2023)
EndedAt: 2023-03-22 20:59:42 -0400 (Wed, 22 Mar 2023)
EllapsedTime: 188.9 seconds
RetCode: 0
Status:   OK  
CheckDir: KEGGlincs.Rcheck
Warnings: 0

Command output

##############################################################################
##############################################################################
###
### Running command:
###
###   /Library/Frameworks/R.framework/Resources/bin/R CMD check --install=check:KEGGlincs.install-out.txt --library=/Library/Frameworks/R.framework/Resources/library --no-vignettes --timings KEGGlincs_1.24.0.tar.gz
###
##############################################################################
##############################################################################


* using log directory ‘/Users/biocbuild/bbs-3.16-bioc/meat/KEGGlincs.Rcheck’
* using R version 4.2.3 (2023-03-15)
* using platform: x86_64-apple-darwin17.0 (64-bit)
* using session charset: UTF-8
* using option ‘--no-vignettes’
* checking for file ‘KEGGlincs/DESCRIPTION’ ... OK
* checking extension type ... Package
* this is package ‘KEGGlincs’ version ‘1.24.0’
* checking package namespace information ... OK
* checking package dependencies ... OK
* checking if this is a source package ... OK
* checking if there is a namespace ... OK
* checking for hidden files and directories ... OK
* checking for portable file names ... OK
* checking for sufficient/correct file permissions ... OK
* checking whether package ‘KEGGlincs’ can be installed ... OK
* checking installed package size ... OK
* checking package directory ... OK
* checking ‘build’ directory ... OK
* checking DESCRIPTION meta-information ... OK
* checking top-level files ... OK
* checking for left-over files ... OK
* checking index information ... OK
* checking package subdirectories ... OK
* checking R files for non-ASCII characters ... OK
* checking R files for syntax errors ... OK
* checking whether the package can be loaded ... OK
* checking whether the package can be loaded with stated dependencies ... OK
* checking whether the package can be unloaded cleanly ... OK
* checking whether the namespace can be loaded with stated dependencies ... OK
* checking whether the namespace can be unloaded cleanly ... OK
* checking dependencies in R code ... NOTE
Namespace in Imports field not imported from: ‘XML’
  All declared Imports should be used.
* checking S3 generic/method consistency ... OK
* checking replacement functions ... OK
* checking foreign function calls ... OK
* checking R code for possible problems ... OK
* checking Rd files ... OK
* checking Rd metadata ... OK
* checking Rd cross-references ... OK
* checking for missing documentation entries ... OK
* checking for code/documentation mismatches ... OK
* checking Rd \usage sections ... OK
* checking Rd contents ... OK
* checking for unstated dependencies in examples ... OK
* checking files in ‘vignettes’ ... OK
* checking examples ... OK
Examples with CPU (user + system) or elapsed time > 5s
                          user system elapsed
add_edge_data           13.391  1.695  16.231
overlap_info            12.701  1.685  14.773
edge_mapping_info        8.167  0.558   9.293
path_genes_by_cell_type  7.972  0.518   8.890
refine_mappings          7.563  0.562   8.348
get_graph_object         6.059  0.255   6.697
* checking for unstated dependencies in vignettes ... OK
* checking package vignettes in ‘inst/doc’ ... OK
* checking running R code from vignettes ... SKIPPED
* checking re-building of vignette outputs ... SKIPPED
* checking PDF version of manual ... OK
* DONE

Status: 1 NOTE
See
  ‘/Users/biocbuild/bbs-3.16-bioc/meat/KEGGlincs.Rcheck/00check.log’
for details.



Installation output

KEGGlincs.Rcheck/00install.out

##############################################################################
##############################################################################
###
### Running command:
###
###   /Library/Frameworks/R.framework/Resources/bin/R CMD INSTALL KEGGlincs
###
##############################################################################
##############################################################################


* installing to library ‘/Library/Frameworks/R.framework/Versions/4.2/Resources/library’
* installing *source* package ‘KEGGlincs’ ...
** using staged installation
** R
** inst
** byte-compile and prepare package for lazy loading
** help
*** installing help indices
** building package indices
** installing vignettes
** testing if installed package can be loaded from temporary location
** testing if installed package can be loaded from final location
** testing if installed package keeps a record of temporary installation path
* DONE (KEGGlincs)

Tests output


Example timings

KEGGlincs.Rcheck/KEGGlincs-Ex.timings

nameusersystemelapsed
KEGG_lincs0.0000.0000.001
KL_compare000
add_edge_data13.391 1.69516.231
cyto_vis0.2600.0050.836
edge_mapping_info8.1670.5589.293
expand_KEGG_edges0.1110.0120.685
expand_KEGG_mappings0.0800.0150.661
generate_mappings0.0000.0010.001
get_KGML0.1960.0501.769
get_fisher_info0.0020.0000.002
get_graph_object6.0590.2556.697
keggerize_edges000
node_mapping_info0.1070.0550.543
overlap_info12.701 1.68514.773
path_genes_by_cell_type7.9720.5188.890
refine_mappings7.5630.5628.348
tidy_edge0.0000.0000.001