Back to Multiple platform build/check report for BioC 3.16:   simplified   long
ABCDEF[G]HIJKLMNOPQRSTUVWXYZ

This page was generated on 2023-02-07 11:06:10 -0500 (Tue, 07 Feb 2023).

HostnameOSArch (*)R versionInstalled pkgs
nebbiolo2Linux (Ubuntu 20.04.5 LTS)x86_644.2.2 (2022-10-31) -- "Innocent and Trusting" 4511
palomino4Windows Server 2022 Datacenterx644.2.2 (2022-10-31 ucrt) -- "Innocent and Trusting" 4289
lconwaymacOS 12.5.1 Montereyx86_644.2.2 (2022-10-31) -- "Innocent and Trusting" 4318
Click on any hostname to see more info about the system (e.g. compilers)      (*) as reported by 'uname -p', except on Windows and Mac OS X

BUILD BIN results for GeneBreak on palomino4


To the developers/maintainers of the GeneBreak package:
- Please allow up to 24 hours (and sometimes 48 hours) for your latest push to git@git.bioconductor.org:packages/GeneBreak.git to
reflect on this report. See How and When does the builder pull? When will my changes propagate? for more information.
- Make sure to use the following settings in order to reproduce any error or warning you see on this page.

raw results

Package 753/2183HostnameOS / ArchINSTALLBUILDCHECKBUILD BIN
GeneBreak 1.28.0  (landing page)
Evert van den Broek
Snapshot Date: 2023-02-06 14:00:04 -0500 (Mon, 06 Feb 2023)
git_url: https://git.bioconductor.org/packages/GeneBreak
git_branch: RELEASE_3_16
git_last_commit: 1cc8091
git_last_commit_date: 2022-11-01 11:12:24 -0500 (Tue, 01 Nov 2022)
nebbiolo2Linux (Ubuntu 20.04.5 LTS) / x86_64  OK    OK    OK  UNNEEDED, same version is already published
palomino4Windows Server 2022 Datacenter / x64  OK    OK    OK    OK  UNNEEDED, same version is already published
lconwaymacOS 12.5.1 Monterey / x86_64  OK    OK    OK    OK  UNNEEDED, same version is already published

Summary

Package: GeneBreak
Version: 1.28.0
Command: rm -rf GeneBreak.buildbin-libdir && mkdir GeneBreak.buildbin-libdir && F:\biocbuild\bbs-3.16-bioc\R\bin\R.exe CMD INSTALL --build --library=GeneBreak.buildbin-libdir GeneBreak_1.28.0.tar.gz
StartedAt: 2023-02-07 07:43:21 -0500 (Tue, 07 Feb 2023)
EndedAt: 2023-02-07 07:43:52 -0500 (Tue, 07 Feb 2023)
EllapsedTime: 30.9 seconds
RetCode: 0
Status:   OK  
PackageFile: GeneBreak_1.28.0.zip
PackageFileSize: 4.44 MiB

Command output

##############################################################################
##############################################################################
###
### Running command:
###
###   rm -rf GeneBreak.buildbin-libdir && mkdir GeneBreak.buildbin-libdir && F:\biocbuild\bbs-3.16-bioc\R\bin\R.exe CMD INSTALL --build --library=GeneBreak.buildbin-libdir GeneBreak_1.28.0.tar.gz
###
##############################################################################
##############################################################################


* installing *source* package 'GeneBreak' ...
** using staged installation
** R
** data
** inst
** byte-compile and prepare package for lazy loading
Creating a new generic function for 'segmentData' in package 'GeneBreak'
** help
*** installing help indices
** building package indices
** installing vignettes
** testing if installed package can be loaded from temporary location
** testing if installed package can be loaded from final location
** testing if installed package keeps a record of temporary installation path
* MD5 sums
packaged installation of 'GeneBreak' as GeneBreak_1.28.0.zip
* DONE (GeneBreak)