Back to Multiple platform build/check report for BioC 3.16:   simplified   long
ABCDEF[G]HIJKLMNOPQRSTUVWXYZ

This page was generated on 2023-03-22 11:06:07 -0400 (Wed, 22 Mar 2023).

HostnameOSArch (*)R versionInstalled pkgs
nebbiolo2Linux (Ubuntu 20.04.5 LTS)x86_644.2.3 (2023-03-15) -- "Shortstop Beagle" 4271
palomino4Windows Server 2022 Datacenterx644.2.3 (2023-03-15 ucrt) -- "Shortstop Beagle" 4214
lconwaymacOS 12.5.1 Montereyx86_644.2.3 (2023-03-15) -- "Shortstop Beagle" 4259
Click on any hostname to see more info about the system (e.g. compilers)      (*) as reported by 'uname -p', except on Windows and Mac OS X

CHECK results for GRaNIE on lconway


To the developers/maintainers of the GRaNIE package:
- Please allow up to 24 hours (and sometimes 48 hours) for your latest push to git@git.bioconductor.org:packages/GRaNIE.git to
reflect on this report. See How and When does the builder pull? When will my changes propagate? for more information.
- Make sure to use the following settings in order to reproduce any error or warning you see on this page.

raw results

Package 852/2183HostnameOS / ArchINSTALLBUILDCHECKBUILD BIN
GRaNIE 1.2.6  (landing page)
Christian Arnold
Snapshot Date: 2023-03-20 14:00:04 -0400 (Mon, 20 Mar 2023)
git_url: https://git.bioconductor.org/packages/GRaNIE
git_branch: RELEASE_3_16
git_last_commit: f4ccb17
git_last_commit_date: 2023-02-15 10:45:58 -0400 (Wed, 15 Feb 2023)
nebbiolo2Linux (Ubuntu 20.04.5 LTS) / x86_64  OK    OK    WARNINGS  UNNEEDED, same version is already published
palomino4Windows Server 2022 Datacenter / x64  OK    OK    WARNINGS    OK  UNNEEDED, same version is already published
lconwaymacOS 12.5.1 Monterey / x86_64  OK    OK    OK    OK  UNNEEDED, same version is already published

Summary

Package: GRaNIE
Version: 1.2.6
Command: /Library/Frameworks/R.framework/Resources/bin/R CMD check --install=check:GRaNIE.install-out.txt --library=/Library/Frameworks/R.framework/Resources/library --no-vignettes --timings GRaNIE_1.2.6.tar.gz
StartedAt: 2023-03-20 20:49:12 -0400 (Mon, 20 Mar 2023)
EndedAt: 2023-03-20 20:55:34 -0400 (Mon, 20 Mar 2023)
EllapsedTime: 382.2 seconds
RetCode: 0
Status:   OK  
CheckDir: GRaNIE.Rcheck
Warnings: 0

Command output

##############################################################################
##############################################################################
###
### Running command:
###
###   /Library/Frameworks/R.framework/Resources/bin/R CMD check --install=check:GRaNIE.install-out.txt --library=/Library/Frameworks/R.framework/Resources/library --no-vignettes --timings GRaNIE_1.2.6.tar.gz
###
##############################################################################
##############################################################################


* using log directory ‘/Users/biocbuild/bbs-3.16-bioc/meat/GRaNIE.Rcheck’
* using R version 4.2.3 (2023-03-15)
* using platform: x86_64-apple-darwin17.0 (64-bit)
* using session charset: UTF-8
* using option ‘--no-vignettes’
* checking for file ‘GRaNIE/DESCRIPTION’ ... OK
* this is package ‘GRaNIE’ version ‘1.2.6’
* package encoding: UTF-8
* checking package namespace information ... OK
* checking package dependencies ... OK
* checking if this is a source package ... OK
* checking if there is a namespace ... OK
* checking for hidden files and directories ... OK
* checking for portable file names ... OK
* checking for sufficient/correct file permissions ... OK
* checking whether package ‘GRaNIE’ can be installed ... OK
* checking installed package size ... OK
* checking package directory ... OK
* checking ‘build’ directory ... OK
* checking DESCRIPTION meta-information ... OK
* checking top-level files ... OK
* checking for left-over files ... OK
* checking index information ... OK
* checking package subdirectories ... OK
* checking R files for non-ASCII characters ... OK
* checking R files for syntax errors ... OK
* checking whether the package can be loaded ... OK
* checking whether the package can be loaded with stated dependencies ... OK
* checking whether the package can be unloaded cleanly ... OK
* checking whether the namespace can be loaded with stated dependencies ... OK
* checking whether the namespace can be unloaded cleanly ... OK
* checking dependencies in R code ... OK
* checking S3 generic/method consistency ... OK
* checking replacement functions ... OK
* checking foreign function calls ... OK
* checking R code for possible problems ... OK
* checking Rd files ... OK
* checking Rd metadata ... OK
* checking Rd cross-references ... OK
* checking for missing documentation entries ... OK
* checking for code/documentation mismatches ... OK
* checking Rd \usage sections ... OK
* checking Rd contents ... OK
* checking for unstated dependencies in examples ... OK
* checking files in ‘vignettes’ ... OK
* checking examples ... OK
Examples with CPU (user + system) or elapsed time > 5s
                                 user system elapsed
generateStatsSummary           16.374  0.590  17.221
getGRNConnections               9.751  0.940  11.133
getCounts                       9.572  0.701  10.652
addConnections_TF_peak          8.990  1.031  17.782
plotGeneralGraphStats           6.316  0.580   7.164
plotDiagnosticPlots_peakGene    6.541  0.307   7.060
plotCommunitiesEnrichment       6.094  0.470   6.756
plotTFEnrichment                5.775  0.536   6.562
plotCommunitiesStats            5.892  0.386   6.481
visualizeGRN                    5.374  0.444   6.051
calculateCommunitiesEnrichment  5.415  0.383   6.014
plot_stats_connectionSummary    5.350  0.319   5.878
plotDiagnosticPlots_TFPeaks     5.224  0.380   5.799
build_eGRN_graph                5.176  0.368   5.759
plotGeneralEnrichment           5.125  0.352   5.732
filterGRNAndConnectGenes        4.969  0.393   5.581
calculateTFEnrichment           5.006  0.326   5.561
calculateCommunitiesStats       4.871  0.427   6.487
getTopNodes                     4.796  0.426   5.412
filterData                      4.807  0.350   5.370
deleteIntermediateData          4.691  0.385   5.314
add_TF_gene_correlation         4.549  0.361   5.120
nGenes                          4.450  0.446   5.096
nTFs                            4.526  0.349   5.074
plotPCA_all                     4.491  0.368   5.088
nPeaks                          4.459  0.384   5.053
overlapPeaksAndTFBS             4.514  0.317   5.040
loadExampleObject               4.488  0.331   5.016
calculateGeneralEnrichment      4.379  0.425   5.063
changeOutputDirectory           4.447  0.328   5.001
* checking for unstated dependencies in vignettes ... OK
* checking package vignettes in ‘inst/doc’ ... OK
* checking running R code from vignettes ... SKIPPED
* checking re-building of vignette outputs ... SKIPPED
* checking PDF version of manual ... OK
* DONE

Status: OK


Installation output

GRaNIE.Rcheck/00install.out

##############################################################################
##############################################################################
###
### Running command:
###
###   /Library/Frameworks/R.framework/Resources/bin/R CMD INSTALL GRaNIE
###
##############################################################################
##############################################################################


* installing to library ‘/Library/Frameworks/R.framework/Versions/4.2/Resources/library’
* installing *source* package ‘GRaNIE’ ...
** using staged installation
** R
** byte-compile and prepare package for lazy loading
** help
*** installing help indices
*** copying figures
** building package indices
** installing vignettes
** testing if installed package can be loaded from temporary location
** testing if installed package can be loaded from final location
** testing if installed package keeps a record of temporary installation path
* DONE (GRaNIE)

Tests output


Example timings

GRaNIE.Rcheck/GRaNIE-Ex.timings

nameusersystemelapsed
AR_classification_wrapper000
addConnections_TF_peak 8.990 1.03117.782
addConnections_peak_gene4.3050.3134.941
addData000
addTFBS0.0000.0010.001
add_TF_gene_correlation4.5490.3615.120
add_featureVariation000
build_eGRN_graph5.1760.3685.759
calculateCommunitiesEnrichment5.4150.3836.014
calculateCommunitiesStats4.8710.4276.487
calculateGeneralEnrichment4.3790.4255.063
calculateTFEnrichment5.0060.3265.561
changeOutputDirectory4.4470.3285.001
deleteIntermediateData4.6910.3855.314
filterData4.8070.3505.370
filterGRNAndConnectGenes4.9690.3935.581
generateStatsSummary16.374 0.59017.221
getCounts 9.572 0.70110.652
getGRNConnections 9.751 0.94011.133
getParameters4.3770.4044.967
getTopNodes4.7960.4265.412
initializeGRN0.0150.0010.016
loadExampleObject4.4880.3315.016
nGenes4.4500.4465.096
nPeaks4.4590.3845.053
nTFs4.5260.3495.074
overlapPeaksAndTFBS4.5140.3175.040
performAllNetworkAnalyses000
plotCommunitiesEnrichment6.0940.4706.756
plotCommunitiesStats5.8920.3866.481
plotDiagnosticPlots_TFPeaks5.2240.3805.799
plotDiagnosticPlots_peakGene6.5410.3077.060
plotGeneralEnrichment5.1250.3525.732
plotGeneralGraphStats6.3160.5807.164
plotPCA_all4.4910.3685.088
plotTFEnrichment5.7750.5366.562
plot_stats_connectionSummary5.3500.3195.878
visualizeGRN5.3740.4446.051