Back to Multiple platform build/check report for BioC 3.18:   simplified   long
ABCD[E]FGHIJKLMNOPQRSTUVWXYZ

This page was generated on 2024-02-22 11:37:42 -0500 (Thu, 22 Feb 2024).

HostnameOSArch (*)R versionInstalled pkgs
nebbiolo2Linux (Ubuntu 22.04.3 LTS)x86_644.3.2 Patched (2023-11-13 r85521) -- "Eye Holes" 4691
palomino4Windows Server 2022 Datacenterx644.3.2 (2023-10-31 ucrt) -- "Eye Holes" 4444
lconwaymacOS 12.7.1 Montereyx86_644.3.2 Patched (2023-11-01 r85457) -- "Eye Holes" 4465
Click on any hostname to see more info about the system (e.g. compilers)      (*) as reported by 'uname -p', except on Windows and Mac OS X

Package 676/2266HostnameOS / ArchINSTALLBUILDCHECKBUILD BIN
ExiMiR 2.44.0  (landing page)
Sylvain Gubian
Snapshot Date: 2024-02-21 14:05:05 -0500 (Wed, 21 Feb 2024)
git_url: https://git.bioconductor.org/packages/ExiMiR
git_branch: RELEASE_3_18
git_last_commit: 45c5a7f
git_last_commit_date: 2023-10-24 09:45:39 -0500 (Tue, 24 Oct 2023)
nebbiolo2Linux (Ubuntu 22.04.3 LTS) / x86_64  OK    OK    OK  UNNEEDED, same version is already published
palomino4Windows Server 2022 Datacenter / x64  OK    OK    OK    OK  UNNEEDED, same version is already published
lconwaymacOS 12.7.1 Monterey / x86_64  OK    OK    OK    OK  UNNEEDED, same version is already published
kjohnson1macOS 13.6.1 Ventura / arm64see weekly results here

BUILD BIN results for ExiMiR on lconway


To the developers/maintainers of the ExiMiR package:
- Allow up to 24 hours (and sometimes 48 hours) for your latest push to git@git.bioconductor.org:packages/ExiMiR.git to reflect on this report. See Troubleshooting Build Report for more information.
- Use the following Renviron settings to reproduce errors and warnings.
- If 'R CMD check' started to fail recently on the Linux builder(s) over a missing dependency, add the missing dependency to 'Suggests:' in your DESCRIPTION file. See Renviron.bioc for more information.

raw results


Summary

Package: ExiMiR
Version: 2.44.0
Command: rm -rf ExiMiR.buildbin-libdir && mkdir ExiMiR.buildbin-libdir && /Users/biocbuild/BBS/utils/build-universal.sh ExiMiR_2.44.0.tar.gz /Library/Frameworks/R.framework/Resources/bin/R ExiMiR.buildbin-libdir
StartedAt: 2024-02-22 00:16:57 -0500 (Thu, 22 Feb 2024)
EndedAt: 2024-02-22 00:17:06 -0500 (Thu, 22 Feb 2024)
EllapsedTime: 9.0 seconds
RetCode: 0
Status:   OK  
PackageFile: ExiMiR_2.44.0.tgz
PackageFileSize: 1.351 MiB

Command output

##############################################################################
##############################################################################
###
### Running command:
###
###   rm -rf ExiMiR.buildbin-libdir && mkdir ExiMiR.buildbin-libdir && /Users/biocbuild/BBS/utils/build-universal.sh ExiMiR_2.44.0.tar.gz /Library/Frameworks/R.framework/Resources/bin/R ExiMiR.buildbin-libdir
###
##############################################################################
##############################################################################


>>>>>>> 
>>>>>>> INSTALLATION WITH 'R CMD INSTALL --preclean --no-multiarch --library=ExiMiR.buildbin-libdir ExiMiR_2.44.0.tar.gz'
>>>>>>> 

* installing *source* package ‘ExiMiR’ ...
** using staged installation
** R
** data
** inst
** byte-compile and prepare package for lazy loading
** help
*** installing help indices
** building package indices
** installing vignettes
** testing if installed package can be loaded from temporary location
** testing if installed package can be loaded from final location
** testing if installed package keeps a record of temporary installation path
* DONE (ExiMiR)