Back to Multiple platform build/check report for BioC 3.16:   simplified   long
AB[C]DEFGHIJKLMNOPQRSTUVWXYZ

This page was generated on 2023-03-29 11:05:27 -0400 (Wed, 29 Mar 2023).

HostnameOSArch (*)R versionInstalled pkgs
nebbiolo2Linux (Ubuntu 20.04.5 LTS)x86_644.2.3 (2023-03-15) -- "Shortstop Beagle" 4482
palomino4Windows Server 2022 Datacenterx644.2.3 (2023-03-15 ucrt) -- "Shortstop Beagle" 4278
lconwaymacOS 12.5.1 Montereyx86_644.2.3 (2023-03-15) -- "Shortstop Beagle" 4306
Click on any hostname to see more info about the system (e.g. compilers)      (*) as reported by 'uname -p', except on Windows and Mac OS X

CHECK results for ChromSCape on palomino4


To the developers/maintainers of the ChromSCape package:
- Please allow up to 24 hours (and sometimes 48 hours) for your latest push to git@git.bioconductor.org:packages/ChromSCape.git to
reflect on this report. See How and When does the builder pull? When will my changes propagate? for more information.
- Make sure to use the following settings in order to reproduce any error or warning you see on this page.

raw results

Package 324/2183HostnameOS / ArchINSTALLBUILDCHECKBUILD BIN
ChromSCape 1.8.0  (landing page)
Pacome Prompsy
Snapshot Date: 2023-03-27 14:00:04 -0400 (Mon, 27 Mar 2023)
git_url: https://git.bioconductor.org/packages/ChromSCape
git_branch: RELEASE_3_16
git_last_commit: d32bd33
git_last_commit_date: 2022-11-01 11:23:01 -0400 (Tue, 01 Nov 2022)
nebbiolo2Linux (Ubuntu 20.04.5 LTS) / x86_64  OK    OK    OK  UNNEEDED, same version is already published
palomino4Windows Server 2022 Datacenter / x64  OK    OK    OK    OK  UNNEEDED, same version is already published
lconwaymacOS 12.5.1 Monterey / x86_64  OK    OK    OK    OK  UNNEEDED, same version is already published

Summary

Package: ChromSCape
Version: 1.8.0
Command: F:\biocbuild\bbs-3.16-bioc\R\bin\R.exe CMD check --no-multiarch --install=check:ChromSCape.install-out.txt --library=F:\biocbuild\bbs-3.16-bioc\R\library --no-vignettes --timings ChromSCape_1.8.0.tar.gz
StartedAt: 2023-03-27 23:54:20 -0400 (Mon, 27 Mar 2023)
EndedAt: 2023-03-28 00:09:18 -0400 (Tue, 28 Mar 2023)
EllapsedTime: 897.8 seconds
RetCode: 0
Status:   OK  
CheckDir: ChromSCape.Rcheck
Warnings: 0

Command output

##############################################################################
##############################################################################
###
### Running command:
###
###   F:\biocbuild\bbs-3.16-bioc\R\bin\R.exe CMD check --no-multiarch --install=check:ChromSCape.install-out.txt --library=F:\biocbuild\bbs-3.16-bioc\R\library --no-vignettes --timings ChromSCape_1.8.0.tar.gz
###
##############################################################################
##############################################################################


* using log directory 'F:/biocbuild/bbs-3.16-bioc/meat/ChromSCape.Rcheck'
* using R version 4.2.3 (2023-03-15 ucrt)
* using platform: x86_64-w64-mingw32 (64-bit)
* using session charset: UTF-8
* using option '--no-vignettes'
* checking for file 'ChromSCape/DESCRIPTION' ... OK
* this is package 'ChromSCape' version '1.8.0'
* package encoding: UTF-8
* checking package namespace information ... OK
* checking package dependencies ... OK
* checking if this is a source package ... OK
* checking if there is a namespace ... OK
* checking for hidden files and directories ... NOTE
Found the following hidden files and directories:
  .BBSoptions
These were most likely included in error. See section 'Package
structure' in the 'Writing R Extensions' manual.
* checking for portable file names ... OK
* checking whether package 'ChromSCape' can be installed ... OK
* checking installed package size ... NOTE
  installed size is  5.5Mb
  sub-directories of 1Mb or more:
    data   1.5Mb
    www    2.1Mb
* checking package directory ... OK
* checking 'build' directory ... OK
* checking DESCRIPTION meta-information ... OK
* checking top-level files ... OK
* checking for left-over files ... OK
* checking index information ... OK
* checking package subdirectories ... OK
* checking R files for non-ASCII characters ... OK
* checking R files for syntax errors ... OK
* checking whether the package can be loaded ... OK
* checking whether the package can be loaded with stated dependencies ... OK
* checking whether the package can be unloaded cleanly ... OK
* checking whether the namespace can be loaded with stated dependencies ... OK
* checking whether the namespace can be unloaded cleanly ... OK
* checking dependencies in R code ... OK
* checking S3 generic/method consistency ... OK
* checking replacement functions ... OK
* checking foreign function calls ... OK
* checking R code for possible problems ... NOTE
bams_to_matrix_indexes: no visible binding for global variable
  'files_dir_list'
enrich_TF_ChEA3_genes: no visible binding for global variable
  'CheA3_TF_nTargets'
filter_correlated_cell_scExp: no visible binding for global variable
  'run_tsne'
generate_analysis: no visible binding for global variable 'k'
generate_analysis: no visible binding for global variable
  'clusterConsensus'
get_most_variable_cyto: no visible binding for global variable
  'cytoBand'
get_most_variable_cyto: no visible binding for global variable
  'Fri_cyto'
num_cell_after_QC_filt_scExp: no visible binding for global variable
  'sample_id'
num_cell_after_QC_filt_scExp: no visible binding for global variable
  'total_counts'
num_cell_scExp: no visible binding for global variable 'sample_id'
num_cell_scExp: no visible binding for global variable 'total_counts'
plot_correlation_PCA_scExp: no visible binding for global variable
  'Component'
plot_coverage_BigWig: no visible binding for global variable 'molecule'
plot_coverage_BigWig: no visible binding for global variable
  'orientation'
plot_coverage_BigWig: no visible binding for global variable 'Gene'
plot_gain_or_loss_barplots: no visible binding for global variable
  'Gain_or_Loss'
plot_gain_or_loss_barplots: no visible binding for global variable
  'ncells'
plot_gain_or_loss_barplots: no visible binding for global variable
  'cytoBand'
plot_most_contributing_features: no visible binding for global variable
  'genes'
plot_percent_active_feature_scExp: no visible binding for global
  variable 'group'
plot_percent_active_feature_scExp: no visible binding for global
  variable 'percent_active'
plot_pie_most_contributing_chr: no visible binding for global variable
  'absolute_value'
plot_reduced_dim_scExp: no visible binding for global variable 'V1'
plot_reduced_dim_scExp: no visible binding for global variable 'V2'
plot_reduced_dim_scExp: no visible binding for global variable
  'cluster'
plot_top_TF_scExp: no visible binding for global variable 'TF'
rebin_matrix: no visible binding for global variable 'new_row'
rebin_matrix: no visible binding for global variable 'origin_value'
subset_bam_call_peaks: no visible binding for global variable
  'merged_bam'
Undefined global functions or variables:
  CheA3_TF_nTargets Component Fri_cyto Gain_or_Loss Gene TF V1 V2
  absolute_value cluster clusterConsensus cytoBand files_dir_list genes
  group k merged_bam molecule ncells new_row orientation origin_value
  percent_active run_tsne sample_id total_counts
* checking Rd files ... NOTE
prepare_Rd: raw_counts_to_sparse_matrix.Rd:6-8: Dropping empty section \source
* checking Rd metadata ... OK
* checking Rd cross-references ... OK
* checking for missing documentation entries ... OK
* checking for code/documentation mismatches ... OK
* checking Rd \usage sections ... OK
* checking Rd contents ... OK
* checking for unstated dependencies in examples ... OK
* checking contents of 'data' directory ... OK
* checking data for non-ASCII characters ... OK
* checking data for ASCII and uncompressed saves ... OK
* checking line endings in C/C++/Fortran sources/headers ... OK
* checking compiled code ... NOTE
Note: information on .o files for x64 is not available
File 'F:/biocbuild/bbs-3.16-bioc/R/library/ChromSCape/libs/x64/ChromSCape.dll':
  Found 'abort', possibly from 'abort' (C), 'runtime' (Fortran)
  Found 'exit', possibly from 'exit' (C), 'stop' (Fortran)

Compiled code should not call entry points which might terminate R nor
write to stdout/stderr instead of to the console, nor use Fortran I/O
nor system RNGs. The detected symbols are linked into the code but
might come from libraries and not actually be called.

See 'Writing portable packages' in the 'Writing R Extensions' manual.
* checking files in 'vignettes' ... OK
* checking examples ... OK
Examples with CPU (user + system) or elapsed time > 5s
                                       user system elapsed
plot_gain_or_loss_barplots            54.53   0.78   55.39
get_pathway_mat_scExp                 39.25   3.19   42.52
plot_reduced_dim_scExp_CNA            26.32   0.30   26.70
calculate_gain_or_loss                24.84   0.53   25.44
get_most_variable_cyto                24.50   0.34   24.89
calculate_CNA                         23.63   1.04   24.67
calculate_logRatio_CNA                23.72   0.64   24.37
calculate_cyto_mat                    23.33   0.53   23.88
get_cyto_features                     22.07   0.33   22.51
num_cell_after_cor_filt_scExp         12.18   0.14   28.43
filter_correlated_cell_scExp          11.59   0.15   27.55
CompareedgeRGLM                       10.47   0.29   10.76
preprocessing_filtering_and_reduction  8.80   0.05    8.87
import_scExp                           7.52   0.10    7.61
create_scDataset_raw                   7.12   0.35    7.47
differential_activation                6.20   0.06    6.30
choose_cluster_scExp                   4.22   1.06    5.30
CompareWilcox                          4.71   0.21   48.30
enrich_TF_ChEA3_scExp                  1.87   0.15    5.18
find_clusters_louvain_scExp            1.43   0.13    5.68
* checking for unstated dependencies in 'tests' ... OK
* checking tests ...
  Running 'testthat.R'
 OK
* checking for unstated dependencies in vignettes ... OK
* checking package vignettes in 'inst/doc' ... OK
* checking running R code from vignettes ... SKIPPED
* checking re-building of vignette outputs ... SKIPPED
* checking PDF version of manual ... OK
* DONE

Status: 5 NOTEs
See
  'F:/biocbuild/bbs-3.16-bioc/meat/ChromSCape.Rcheck/00check.log'
for details.



Installation output

ChromSCape.Rcheck/00install.out

##############################################################################
##############################################################################
###
### Running command:
###
###   F:\biocbuild\bbs-3.16-bioc\R\bin\R.exe CMD INSTALL ChromSCape
###
##############################################################################
##############################################################################


* installing to library 'F:/biocbuild/bbs-3.16-bioc/R/library'
* installing *source* package 'ChromSCape' ...
** using staged installation
** libs
g++ -std=gnu++14  -I"F:/biocbuild/bbs-3.16-bioc/R/include" -DNDEBUG  -I'F:/biocbuild/bbs-3.16-bioc/R/library/Rcpp/include'   -I"C:/rtools42/x86_64-w64-mingw32.static.posix/include"     -O2 -Wall  -mfpmath=sse -msse2 -mstackrealign  -c RcppExports.cpp -o RcppExports.o
g++ -std=gnu++14  -I"F:/biocbuild/bbs-3.16-bioc/R/include" -DNDEBUG  -I'F:/biocbuild/bbs-3.16-bioc/R/library/Rcpp/include'   -I"C:/rtools42/x86_64-w64-mingw32.static.posix/include"     -O2 -Wall  -mfpmath=sse -msse2 -mstackrealign  -c as_dist.cpp -o as_dist.o
g++ -std=gnu++14 -shared -s -static-libgcc -o ChromSCape.dll tmp.def RcppExports.o as_dist.o -LC:/rtools42/x86_64-w64-mingw32.static.posix/lib/x64 -LC:/rtools42/x86_64-w64-mingw32.static.posix/lib -LF:/biocbuild/bbs-3.16-bioc/R/bin/x64 -lR
installing to F:/biocbuild/bbs-3.16-bioc/R/library/00LOCK-ChromSCape/00new/ChromSCape/libs/x64
** R
** data
** inst
** byte-compile and prepare package for lazy loading
** help
*** installing help indices
** building package indices
** installing vignettes
** testing if installed package can be loaded from temporary location
** testing if installed package can be loaded from final location
** testing if installed package keeps a record of temporary installation path
* DONE (ChromSCape)

Tests output

ChromSCape.Rcheck/tests/testthat.Rout


R version 4.2.3 (2023-03-15 ucrt) -- "Shortstop Beagle"
Copyright (C) 2023 The R Foundation for Statistical Computing
Platform: x86_64-w64-mingw32/x64 (64-bit)

R is free software and comes with ABSOLUTELY NO WARRANTY.
You are welcome to redistribute it under certain conditions.
Type 'license()' or 'licence()' for distribution details.

R is a collaborative project with many contributors.
Type 'contributors()' for more information and
'citation()' on how to cite R or R packages in publications.

Type 'demo()' for some demos, 'help()' for on-line help, or
'help.start()' for an HTML browser interface to help.
Type 'q()' to quit R.

> library(testthat)
> library(ChromSCape)
> 
> test_check("ChromSCape")
[ FAIL 0 | WARN 2 | SKIP 0 | PASS 11 ]

[ FAIL 0 | WARN 2 | SKIP 0 | PASS 11 ]
> 
> proc.time()
   user  system elapsed 
  40.50    3.06   74.87 

Example timings

ChromSCape.Rcheck/ChromSCape-Ex.timings

nameusersystemelapsed
CheA3_TF_nTargets0.010.020.03
CompareWilcox 4.71 0.2148.30
CompareedgeRGLM10.47 0.2910.76
annotToCol21.450.211.67
calculate_CNA23.63 1.0424.67
calculate_cyto_mat23.33 0.5323.88
calculate_gain_or_loss24.84 0.5325.44
calculate_logRatio_CNA23.72 0.6424.37
choose_cluster_scExp4.221.065.30
colors_scExp0.450.080.53
consensus_clustering_scExp3.890.734.64
correlation_and_hierarchical_clust_scExp0.350.130.50
create_project_folder0.000.010.02
create_scDataset_raw7.120.357.47
create_scExp0.690.040.73
define_feature0.190.000.19
detect_samples1.060.021.04
differential_activation6.200.066.30
differential_analysis_scExp3.410.103.50
enrich_TF_ChEA3_genes0.690.171.71
enrich_TF_ChEA3_scExp1.870.155.18
exclude_features_scExp0.80.00.8
feature_annotation_scExp2.080.102.20
filter_correlated_cell_scExp11.59 0.1527.55
filter_scExp1.050.001.04
find_clusters_louvain_scExp1.430.135.68
find_top_features0.360.120.48
gene_set_enrichment_analysis_scExp0.320.090.41
generate_analysis000
generate_coverage_tracks000
generate_report000
getExperimentNames0.280.110.39
getMainExperiment0.320.100.42
get_cyto_features22.07 0.3322.51
get_genomic_coordinates0.590.030.63
get_most_variable_cyto24.50 0.3424.89
get_pathway_mat_scExp39.25 3.1942.52
has_genomic_coordinates1.170.011.18
import_scExp7.520.107.61
inter_correlation_scExp0.480.090.58
intra_correlation_scExp0.520.110.63
launchApp000
normalize_scExp0.710.050.75
num_cell_after_QC_filt_scExp0.900.030.95
num_cell_after_cor_filt_scExp12.18 0.1428.43
num_cell_before_cor_filt_scExp0.280.090.37
num_cell_in_cluster_scExp0.680.140.83
num_cell_scExp0.540.000.53
plot_cluster_consensus_scExp1.000.191.18
plot_correlation_PCA_scExp1.140.111.25
plot_coverage_BigWig0.320.090.43
plot_differential_summary_scExp0.270.140.41
plot_differential_volcano_scExp0.450.090.54
plot_distribution_scExp0.480.100.58
plot_gain_or_loss_barplots54.53 0.7855.39
plot_heatmap_scExp0.430.110.53
plot_inter_correlation_scExp0.710.110.83
plot_intra_correlation_scExp0.650.110.75
plot_most_contributing_features0.500.170.67
plot_percent_active_feature_scExp1.780.091.88
plot_pie_most_contributing_chr0.260.140.41
plot_reduced_dim_scExp3.670.143.81
plot_reduced_dim_scExp_CNA26.32 0.3026.70
plot_top_TF_scExp0.590.060.69
plot_violin_feature_scExp1.980.142.14
preprocess_CPM0.630.050.67
preprocess_RPKM0.780.030.81
preprocess_TFIDF0.610.030.64
preprocess_TPM1.780.071.86
preprocess_feature_size_only0.590.010.61
preprocessing_filtering_and_reduction8.800.058.87
read_sparse_matrix000
rebin_matrix3.760.003.77
reduce_dims_scExp2.180.012.19
scExp1.260.161.42
subsample_scExp0.920.000.92
subset_bam_call_peaks000
summary_DA0.270.090.36
swapAltExp_sameColData0.310.130.44
table_enriched_genes_scExp0.200.120.33
wrapper_Signac_FeatureMatrix000