Back to Multiple platform build/check report for BioC 3.16: simplified long |
|
This page was generated on 2023-03-24 11:05:22 -0400 (Fri, 24 Mar 2023).
Hostname | OS | Arch (*) | R version | Installed pkgs |
---|---|---|---|---|
nebbiolo2 | Linux (Ubuntu 20.04.5 LTS) | x86_64 | 4.2.3 (2023-03-15) -- "Shortstop Beagle" | 4286 |
palomino4 | Windows Server 2022 Datacenter | x64 | 4.2.3 (2023-03-15 ucrt) -- "Shortstop Beagle" | 4276 |
lconway | macOS 12.5.1 Monterey | x86_64 | 4.2.3 (2023-03-15) -- "Shortstop Beagle" | 4303 |
Click on any hostname to see more info about the system (e.g. compilers) (*) as reported by 'uname -p', except on Windows and Mac OS X |
To the developers/maintainers of the ChromSCape package: - Please allow up to 24 hours (and sometimes 48 hours) for your latest push to git@git.bioconductor.org:packages/ChromSCape.git to reflect on this report. See How and When does the builder pull? When will my changes propagate? for more information. - Make sure to use the following settings in order to reproduce any error or warning you see on this page. |
Package 324/2183 | Hostname | OS / Arch | INSTALL | BUILD | CHECK | BUILD BIN | ||||||||
ChromSCape 1.8.0 (landing page) Pacome Prompsy
| nebbiolo2 | Linux (Ubuntu 20.04.5 LTS) / x86_64 | OK | OK | OK | ![]() | ||||||||
palomino4 | Windows Server 2022 Datacenter / x64 | OK | OK | OK | OK | ![]() | ||||||||
lconway | macOS 12.5.1 Monterey / x86_64 | OK | OK | OK | OK | ![]() | ||||||||
Package: ChromSCape |
Version: 1.8.0 |
Command: /home/biocbuild/bbs-3.16-bioc/R/bin/R CMD check --install=check:ChromSCape.install-out.txt --library=/home/biocbuild/bbs-3.16-bioc/R/site-library --timings ChromSCape_1.8.0.tar.gz |
StartedAt: 2023-03-22 19:51:43 -0400 (Wed, 22 Mar 2023) |
EndedAt: 2023-03-22 20:04:16 -0400 (Wed, 22 Mar 2023) |
EllapsedTime: 752.4 seconds |
RetCode: 0 |
Status: OK |
CheckDir: ChromSCape.Rcheck |
Warnings: 0 |
############################################################################## ############################################################################## ### ### Running command: ### ### /home/biocbuild/bbs-3.16-bioc/R/bin/R CMD check --install=check:ChromSCape.install-out.txt --library=/home/biocbuild/bbs-3.16-bioc/R/site-library --timings ChromSCape_1.8.0.tar.gz ### ############################################################################## ############################################################################## * using log directory ‘/home/biocbuild/bbs-3.16-bioc/meat/ChromSCape.Rcheck’ * using R version 4.2.3 (2023-03-15) * using platform: x86_64-pc-linux-gnu (64-bit) * using session charset: UTF-8 * checking for file ‘ChromSCape/DESCRIPTION’ ... OK * this is package ‘ChromSCape’ version ‘1.8.0’ * package encoding: UTF-8 * checking package namespace information ... OK * checking package dependencies ... OK * checking if this is a source package ... OK * checking if there is a namespace ... OK * checking for hidden files and directories ... NOTE Found the following hidden files and directories: .BBSoptions These were most likely included in error. See section ‘Package structure’ in the ‘Writing R Extensions’ manual. * checking for portable file names ... OK * checking for sufficient/correct file permissions ... OK * checking whether package ‘ChromSCape’ can be installed ... OK * checking installed package size ... NOTE installed size is 5.6Mb sub-directories of 1Mb or more: data 1.5Mb www 2.1Mb * checking package directory ... OK * checking ‘build’ directory ... OK * checking DESCRIPTION meta-information ... OK * checking top-level files ... OK * checking for left-over files ... OK * checking index information ... OK * checking package subdirectories ... OK * checking R files for non-ASCII characters ... OK * checking R files for syntax errors ... OK * checking whether the package can be loaded ... OK * checking whether the package can be loaded with stated dependencies ... OK * checking whether the package can be unloaded cleanly ... OK * checking whether the namespace can be loaded with stated dependencies ... OK * checking whether the namespace can be unloaded cleanly ... OK * checking loading without being on the library search path ... OK * checking dependencies in R code ... OK * checking S3 generic/method consistency ... OK * checking replacement functions ... OK * checking foreign function calls ... OK * checking R code for possible problems ... NOTE bams_to_matrix_indexes: no visible binding for global variable ‘files_dir_list’ enrich_TF_ChEA3_genes: no visible binding for global variable ‘CheA3_TF_nTargets’ filter_correlated_cell_scExp: no visible binding for global variable ‘run_tsne’ generate_analysis: no visible binding for global variable ‘k’ generate_analysis: no visible binding for global variable ‘clusterConsensus’ get_most_variable_cyto: no visible binding for global variable ‘cytoBand’ get_most_variable_cyto: no visible binding for global variable ‘Fri_cyto’ num_cell_after_QC_filt_scExp: no visible binding for global variable ‘sample_id’ num_cell_after_QC_filt_scExp: no visible binding for global variable ‘total_counts’ num_cell_scExp: no visible binding for global variable ‘sample_id’ num_cell_scExp: no visible binding for global variable ‘total_counts’ plot_correlation_PCA_scExp: no visible binding for global variable ‘Component’ plot_coverage_BigWig: no visible binding for global variable ‘molecule’ plot_coverage_BigWig: no visible binding for global variable ‘orientation’ plot_coverage_BigWig: no visible binding for global variable ‘Gene’ plot_gain_or_loss_barplots: no visible binding for global variable ‘Gain_or_Loss’ plot_gain_or_loss_barplots: no visible binding for global variable ‘ncells’ plot_gain_or_loss_barplots: no visible binding for global variable ‘cytoBand’ plot_most_contributing_features: no visible binding for global variable ‘genes’ plot_percent_active_feature_scExp: no visible binding for global variable ‘group’ plot_percent_active_feature_scExp: no visible binding for global variable ‘percent_active’ plot_pie_most_contributing_chr: no visible binding for global variable ‘absolute_value’ plot_reduced_dim_scExp: no visible binding for global variable ‘V1’ plot_reduced_dim_scExp: no visible binding for global variable ‘V2’ plot_reduced_dim_scExp: no visible binding for global variable ‘cluster’ plot_top_TF_scExp: no visible binding for global variable ‘TF’ rebin_matrix: no visible binding for global variable ‘new_row’ rebin_matrix: no visible binding for global variable ‘origin_value’ subset_bam_call_peaks: no visible binding for global variable ‘merged_bam’ Undefined global functions or variables: CheA3_TF_nTargets Component Fri_cyto Gain_or_Loss Gene TF V1 V2 absolute_value cluster clusterConsensus cytoBand files_dir_list genes group k merged_bam molecule ncells new_row orientation origin_value percent_active run_tsne sample_id total_counts * checking Rd files ... NOTE prepare_Rd: raw_counts_to_sparse_matrix.Rd:6-8: Dropping empty section \source * checking Rd metadata ... OK * checking Rd cross-references ... OK * checking for missing documentation entries ... OK * checking for code/documentation mismatches ... OK * checking Rd \usage sections ... OK * checking Rd contents ... OK * checking for unstated dependencies in examples ... OK * checking contents of ‘data’ directory ... OK * checking data for non-ASCII characters ... OK * checking data for ASCII and uncompressed saves ... OK * checking line endings in C/C++/Fortran sources/headers ... OK * checking compiled code ... NOTE Note: information on .o files is not available * checking files in ‘vignettes’ ... OK * checking examples ... OK Examples with CPU (user + system) or elapsed time > 5s user system elapsed plot_gain_or_loss_barplots 49.465 0.356 49.895 get_pathway_mat_scExp 40.594 1.752 42.706 get_most_variable_cyto 27.112 0.476 27.589 get_cyto_features 25.257 0.656 26.539 plot_reduced_dim_scExp_CNA 24.219 0.104 24.324 calculate_CNA 23.322 0.796 24.118 calculate_logRatio_CNA 23.362 0.244 23.608 calculate_gain_or_loss 23.043 0.384 23.636 calculate_cyto_mat 22.743 0.372 23.115 filter_correlated_cell_scExp 17.759 1.718 19.338 num_cell_after_cor_filt_scExp 16.893 0.563 17.340 import_scExp 10.119 0.192 10.311 preprocessing_filtering_and_reduction 9.359 0.092 9.444 create_scDataset_raw 8.166 0.452 8.710 differential_activation 5.107 0.008 5.115 enrich_TF_ChEA3_scExp 1.208 0.064 5.848 * checking for unstated dependencies in ‘tests’ ... OK * checking tests ... Running ‘testthat.R’ OK * checking for unstated dependencies in vignettes ... OK * checking package vignettes in ‘inst/doc’ ... OK * checking running R code from vignettes ... ‘vignette.Rmd’ using ‘UTF-8’... OK NONE * checking re-building of vignette outputs ... OK * checking PDF version of manual ... OK * DONE Status: 5 NOTEs See ‘/home/biocbuild/bbs-3.16-bioc/meat/ChromSCape.Rcheck/00check.log’ for details.
ChromSCape.Rcheck/00install.out
############################################################################## ############################################################################## ### ### Running command: ### ### /home/biocbuild/bbs-3.16-bioc/R/bin/R CMD INSTALL ChromSCape ### ############################################################################## ############################################################################## * installing to library ‘/home/biocbuild/bbs-3.16-bioc/R/site-library’ * installing *source* package ‘ChromSCape’ ... ** using staged installation ** libs g++ -std=gnu++14 -I"/home/biocbuild/bbs-3.16-bioc/R/include" -DNDEBUG -I'/home/biocbuild/bbs-3.16-bioc/R/site-library/Rcpp/include' -I/usr/local/include -fpic -g -O2 -Wall -c RcppExports.cpp -o RcppExports.o g++ -std=gnu++14 -I"/home/biocbuild/bbs-3.16-bioc/R/include" -DNDEBUG -I'/home/biocbuild/bbs-3.16-bioc/R/site-library/Rcpp/include' -I/usr/local/include -fpic -g -O2 -Wall -c as_dist.cpp -o as_dist.o g++ -std=gnu++14 -shared -L/home/biocbuild/bbs-3.16-bioc/R/lib -L/usr/local/lib -o ChromSCape.so RcppExports.o as_dist.o -L/home/biocbuild/bbs-3.16-bioc/R/lib -lR installing to /home/biocbuild/bbs-3.16-bioc/R/site-library/00LOCK-ChromSCape/00new/ChromSCape/libs ** R ** data ** inst ** byte-compile and prepare package for lazy loading ** help *** installing help indices ** building package indices ** installing vignettes ** testing if installed package can be loaded from temporary location ** checking absolute paths in shared objects and dynamic libraries ** testing if installed package can be loaded from final location ** testing if installed package keeps a record of temporary installation path * DONE (ChromSCape)
ChromSCape.Rcheck/tests/testthat.Rout
R version 4.2.3 (2023-03-15) -- "Shortstop Beagle" Copyright (C) 2023 The R Foundation for Statistical Computing Platform: x86_64-pc-linux-gnu (64-bit) R is free software and comes with ABSOLUTELY NO WARRANTY. You are welcome to redistribute it under certain conditions. Type 'license()' or 'licence()' for distribution details. R is a collaborative project with many contributors. Type 'contributors()' for more information and 'citation()' on how to cite R or R packages in publications. Type 'demo()' for some demos, 'help()' for on-line help, or 'help.start()' for an HTML browser interface to help. Type 'q()' to quit R. > library(testthat) > library(ChromSCape) > > test_check("ChromSCape") [ FAIL 0 | WARN 2 | SKIP 0 | PASS 11 ] [ FAIL 0 | WARN 2 | SKIP 0 | PASS 11 ] > > proc.time() user system elapsed 37.053 1.956 38.772
ChromSCape.Rcheck/ChromSCape-Ex.timings
name | user | system | elapsed | |
CheA3_TF_nTargets | 0.006 | 0.005 | 0.010 | |
CompareWilcox | 4.510 | 0.421 | 4.551 | |
CompareedgeRGLM | 4.455 | 0.132 | 4.581 | |
annotToCol2 | 1.082 | 0.064 | 1.145 | |
calculate_CNA | 23.322 | 0.796 | 24.118 | |
calculate_cyto_mat | 22.743 | 0.372 | 23.115 | |
calculate_gain_or_loss | 23.043 | 0.384 | 23.636 | |
calculate_logRatio_CNA | 23.362 | 0.244 | 23.608 | |
choose_cluster_scExp | 3.426 | 0.156 | 3.569 | |
colors_scExp | 0.311 | 0.000 | 0.311 | |
consensus_clustering_scExp | 3.050 | 0.048 | 3.088 | |
correlation_and_hierarchical_clust_scExp | 0.503 | 0.000 | 0.536 | |
create_project_folder | 0.003 | 0.000 | 0.003 | |
create_scDataset_raw | 8.166 | 0.452 | 8.710 | |
create_scExp | 0.862 | 0.008 | 1.030 | |
define_feature | 0.158 | 0.000 | 0.157 | |
detect_samples | 1.118 | 0.048 | 1.107 | |
differential_activation | 5.107 | 0.008 | 5.115 | |
differential_analysis_scExp | 3.117 | 0.056 | 3.173 | |
enrich_TF_ChEA3_genes | 0.545 | 0.036 | 2.461 | |
enrich_TF_ChEA3_scExp | 1.208 | 0.064 | 5.848 | |
exclude_features_scExp | 0.681 | 0.060 | 0.742 | |
feature_annotation_scExp | 1.824 | 0.188 | 2.012 | |
filter_correlated_cell_scExp | 17.759 | 1.718 | 19.338 | |
filter_scExp | 1.033 | 0.044 | 1.077 | |
find_clusters_louvain_scExp | 0.725 | 0.802 | 0.825 | |
find_top_features | 0.490 | 0.012 | 0.501 | |
gene_set_enrichment_analysis_scExp | 0.261 | 0.000 | 0.261 | |
generate_analysis | 0 | 0 | 0 | |
generate_coverage_tracks | 0 | 0 | 0 | |
generate_report | 0 | 0 | 0 | |
getExperimentNames | 0.287 | 0.004 | 0.291 | |
getMainExperiment | 0.322 | 0.012 | 0.334 | |
get_cyto_features | 25.257 | 0.656 | 26.539 | |
get_genomic_coordinates | 0.660 | 0.024 | 0.683 | |
get_most_variable_cyto | 27.112 | 0.476 | 27.589 | |
get_pathway_mat_scExp | 40.594 | 1.752 | 42.706 | |
has_genomic_coordinates | 1.026 | 0.048 | 1.074 | |
import_scExp | 10.119 | 0.192 | 10.311 | |
inter_correlation_scExp | 0.518 | 0.008 | 0.527 | |
intra_correlation_scExp | 0.409 | 0.000 | 0.409 | |
launchApp | 0 | 0 | 0 | |
normalize_scExp | 0.713 | 0.028 | 0.741 | |
num_cell_after_QC_filt_scExp | 0.822 | 0.004 | 0.826 | |
num_cell_after_cor_filt_scExp | 16.893 | 0.563 | 17.340 | |
num_cell_before_cor_filt_scExp | 0.247 | 0.000 | 0.247 | |
num_cell_in_cluster_scExp | 0.502 | 0.000 | 0.488 | |
num_cell_scExp | 0.494 | 0.008 | 0.501 | |
plot_cluster_consensus_scExp | 0.914 | 0.020 | 0.934 | |
plot_correlation_PCA_scExp | 0.870 | 0.016 | 0.886 | |
plot_coverage_BigWig | 0.222 | 0.000 | 0.222 | |
plot_differential_summary_scExp | 0.239 | 0.000 | 0.239 | |
plot_differential_volcano_scExp | 0.332 | 0.008 | 0.340 | |
plot_distribution_scExp | 0.408 | 0.008 | 0.416 | |
plot_gain_or_loss_barplots | 49.465 | 0.356 | 49.895 | |
plot_heatmap_scExp | 0.367 | 0.000 | 0.367 | |
plot_inter_correlation_scExp | 0.541 | 0.000 | 0.541 | |
plot_intra_correlation_scExp | 0.514 | 0.000 | 0.514 | |
plot_most_contributing_features | 0.424 | 0.004 | 0.429 | |
plot_percent_active_feature_scExp | 1.853 | 0.004 | 1.857 | |
plot_pie_most_contributing_chr | 0.323 | 0.000 | 0.323 | |
plot_reduced_dim_scExp | 2.816 | 0.000 | 2.817 | |
plot_reduced_dim_scExp_CNA | 24.219 | 0.104 | 24.324 | |
plot_top_TF_scExp | 0.472 | 0.000 | 0.472 | |
plot_violin_feature_scExp | 1.875 | 0.000 | 1.875 | |
preprocess_CPM | 0.577 | 0.020 | 0.598 | |
preprocess_RPKM | 0.644 | 0.012 | 0.656 | |
preprocess_TFIDF | 0.554 | 0.016 | 0.570 | |
preprocess_TPM | 0.661 | 0.016 | 0.677 | |
preprocess_feature_size_only | 0.584 | 0.012 | 0.597 | |
preprocessing_filtering_and_reduction | 9.359 | 0.092 | 9.444 | |
read_sparse_matrix | 0 | 0 | 0 | |
rebin_matrix | 3.446 | 0.016 | 3.462 | |
reduce_dims_scExp | 1.600 | 0.028 | 1.629 | |
scExp | 0.997 | 0.004 | 1.002 | |
subsample_scExp | 0.763 | 0.000 | 0.763 | |
subset_bam_call_peaks | 0 | 0 | 0 | |
summary_DA | 0.220 | 0.004 | 0.224 | |
swapAltExp_sameColData | 0.299 | 0.000 | 0.299 | |
table_enriched_genes_scExp | 0.210 | 0.004 | 0.213 | |
wrapper_Signac_FeatureMatrix | 0 | 0 | 0 | |