Back to Multiple platform build/check report for BioC 3.18:   simplified   long
AB[C]DEFGHIJKLMNOPQRSTUVWXYZ

This page was generated on 2024-02-21 11:36:41 -0500 (Wed, 21 Feb 2024).

HostnameOSArch (*)R versionInstalled pkgs
nebbiolo2Linux (Ubuntu 22.04.3 LTS)x86_644.3.2 Patched (2023-11-13 r85521) -- "Eye Holes" 4691
palomino4Windows Server 2022 Datacenterx644.3.2 (2023-10-31 ucrt) -- "Eye Holes" 4444
lconwaymacOS 12.7.1 Montereyx86_644.3.2 Patched (2023-11-01 r85457) -- "Eye Holes" 4465
Click on any hostname to see more info about the system (e.g. compilers)      (*) as reported by 'uname -p', except on Windows and Mac OS X

Package 329/2266HostnameOS / ArchINSTALLBUILDCHECKBUILD BIN
ChIPanalyser 1.24.0  (landing page)
Patrick C.N. Martin
Snapshot Date: 2024-02-20 14:05:06 -0500 (Tue, 20 Feb 2024)
git_url: https://git.bioconductor.org/packages/ChIPanalyser
git_branch: RELEASE_3_18
git_last_commit: c88afcb
git_last_commit_date: 2023-10-24 10:59:22 -0500 (Tue, 24 Oct 2023)
nebbiolo2Linux (Ubuntu 22.04.3 LTS) / x86_64  OK    OK    OK  UNNEEDED, same version is already published
palomino4Windows Server 2022 Datacenter / x64  OK    OK    OK    OK  UNNEEDED, same version is already published
lconwaymacOS 12.7.1 Monterey / x86_64  OK    OK    OK    OK  UNNEEDED, same version is already published
kjohnson1macOS 13.6.1 Ventura / arm64see weekly results here

CHECK results for ChIPanalyser on palomino4


To the developers/maintainers of the ChIPanalyser package:
- Allow up to 24 hours (and sometimes 48 hours) for your latest push to git@git.bioconductor.org:packages/ChIPanalyser.git to reflect on this report. See Troubleshooting Build Report for more information.
- Use the following Renviron settings to reproduce errors and warnings.
- If 'R CMD check' started to fail recently on the Linux builder(s) over a missing dependency, add the missing dependency to 'Suggests:' in your DESCRIPTION file. See Renviron.bioc for more information.

raw results


Summary

Package: ChIPanalyser
Version: 1.24.0
Command: F:\biocbuild\bbs-3.18-bioc\R\bin\R.exe CMD check --no-multiarch --install=check:ChIPanalyser.install-out.txt --library=F:\biocbuild\bbs-3.18-bioc\R\library --no-vignettes --timings ChIPanalyser_1.24.0.tar.gz
StartedAt: 2024-02-21 00:11:42 -0500 (Wed, 21 Feb 2024)
EndedAt: 2024-02-21 00:17:29 -0500 (Wed, 21 Feb 2024)
EllapsedTime: 346.8 seconds
RetCode: 0
Status:   OK  
CheckDir: ChIPanalyser.Rcheck
Warnings: 0

Command output

##############################################################################
##############################################################################
###
### Running command:
###
###   F:\biocbuild\bbs-3.18-bioc\R\bin\R.exe CMD check --no-multiarch --install=check:ChIPanalyser.install-out.txt --library=F:\biocbuild\bbs-3.18-bioc\R\library --no-vignettes --timings ChIPanalyser_1.24.0.tar.gz
###
##############################################################################
##############################################################################


* using log directory 'F:/biocbuild/bbs-3.18-bioc/meat/ChIPanalyser.Rcheck'
* using R version 4.3.2 (2023-10-31 ucrt)
* using platform: x86_64-w64-mingw32 (64-bit)
* R was compiled by
    gcc.exe (GCC) 12.3.0
    GNU Fortran (GCC) 12.3.0
* running under: Windows Server 2022 x64 (build 20348)
* using session charset: UTF-8
* using option '--no-vignettes'
* checking for file 'ChIPanalyser/DESCRIPTION' ... OK
* checking extension type ... Package
* this is package 'ChIPanalyser' version '1.24.0'
* package encoding: UTF-8
* checking package namespace information ... OK
* checking package dependencies ... OK
* checking if this is a source package ... OK
* checking if there is a namespace ... OK
* checking for hidden files and directories ... OK
* checking for portable file names ... OK
* checking whether package 'ChIPanalyser' can be installed ... OK
* checking installed package size ... OK
* checking package directory ... OK
* checking 'build' directory ... OK
* checking DESCRIPTION meta-information ... OK
* checking top-level files ... OK
* checking for left-over files ... OK
* checking index information ... OK
* checking package subdirectories ... OK
* checking R files for non-ASCII characters ... OK
* checking R files for syntax errors ... OK
* checking whether the package can be loaded ... OK
* checking whether the package can be loaded with stated dependencies ... OK
* checking whether the package can be unloaded cleanly ... OK
* checking whether the namespace can be loaded with stated dependencies ... OK
* checking whether the namespace can be unloaded cleanly ... OK
* checking dependencies in R code ... OK
* checking S3 generic/method consistency ... OK
* checking replacement functions ... OK
* checking foreign function calls ... OK
* checking R code for possible problems ... OK
* checking Rd files ... OK
* checking Rd metadata ... OK
* checking Rd cross-references ... OK
* checking for missing documentation entries ... OK
* checking for code/documentation mismatches ... OK
* checking Rd \usage sections ... OK
* checking Rd contents ... OK
* checking for unstated dependencies in examples ... OK
* checking contents of 'data' directory ... OK
* checking data for non-ASCII characters ... OK
* checking LazyData ... OK
* checking data for ASCII and uncompressed saves ... OK
* checking sizes of PDF files under 'inst/doc' ... OK
* checking files in 'vignettes' ... OK
* checking examples ... OK
* checking for unstated dependencies in 'tests' ... OK
* checking tests ...
  Running 'runTests.R'
 OK
* checking for unstated dependencies in vignettes ... OK
* checking package vignettes in 'inst/doc' ... OK
* checking running R code from vignettes ... SKIPPED
* checking re-building of vignette outputs ... SKIPPED
* checking PDF version of manual ... OK
* DONE

Status: OK


Installation output

ChIPanalyser.Rcheck/00install.out

##############################################################################
##############################################################################
###
### Running command:
###
###   F:\biocbuild\bbs-3.18-bioc\R\bin\R.exe CMD INSTALL ChIPanalyser
###
##############################################################################
##############################################################################


* installing to library 'F:/biocbuild/bbs-3.18-bioc/R/library'
* installing *source* package 'ChIPanalyser' ...
** using staged installation
** R
** data
*** moving datasets to lazyload DB
** inst
** byte-compile and prepare package for lazy loading
Creating a new generic function for 'drop' in package 'ChIPanalyser'
** help
*** installing help indices
** building package indices
** installing vignettes
** testing if installed package can be loaded from temporary location
** testing if installed package can be loaded from final location
** testing if installed package keeps a record of temporary installation path
* DONE (ChIPanalyser)

Tests output

ChIPanalyser.Rcheck/tests/runTests.Rout


R version 4.3.2 (2023-10-31 ucrt) -- "Eye Holes"
Copyright (C) 2023 The R Foundation for Statistical Computing
Platform: x86_64-w64-mingw32/x64 (64-bit)

R is free software and comes with ABSOLUTELY NO WARRANTY.
You are welcome to redistribute it under certain conditions.
Type 'license()' or 'licence()' for distribution details.

R is a collaborative project with many contributors.
Type 'contributors()' for more information and
'citation()' on how to cite R or R packages in publications.

Type 'demo()' for some demos, 'help()' for on-line help, or
'help.start()' for an HTML browser interface to help.
Type 'q()' to quit R.

> BiocGenerics:::testPackage("ChIPanalyser")

Attaching package: 'BiocGenerics'

The following objects are masked from 'package:stats':

    IQR, mad, sd, var, xtabs

The following objects are masked from 'package:base':

    Filter, Find, Map, Position, Reduce, anyDuplicated, aperm, append,
    as.data.frame, basename, cbind, colnames, dirname, do.call,
    duplicated, eval, evalq, get, grep, grepl, intersect, is.unsorted,
    lapply, mapply, match, mget, order, paste, pmax, pmax.int, pmin,
    pmin.int, rank, rbind, rownames, sapply, setdiff, sort, table,
    tapply, union, unique, unsplit, which.max, which.min


Attaching package: 'S4Vectors'

The following object is masked from 'package:utils':

    findMatches

The following objects are masked from 'package:base':

    I, expand.grid, unname


Attaching package: 'IRanges'

The following object is masked from 'package:grDevices':

    windows


Attaching package: 'Biostrings'

The following object is masked from 'package:base':

    strsplit


Attaching package: 'rtracklayer'

The following object is masked from 'package:BiocIO':

    FileForFormat


Attaching package: 'ChIPanalyser'

The following object is masked from 'package:IRanges':

    drop

The following object is masked from 'package:base':

    drop

Loading required package: BSgenome.Dmelanogaster.UCSC.dm6


RUNIT TEST PROTOCOL -- Wed Feb 21 00:17:16 2024 
*********************************************** 
Number of test functions: 0 
Number of errors: 0 
Number of failures: 0 

 
1 Test Suite : 
ChIPanalyser RUnit Tests - 0 test functions, 0 errors, 0 failures
Number of test functions: 0 
Number of errors: 0 
Number of failures: 0 
> 
> proc.time()
   user  system elapsed 
  74.15   26.90  101.12 

Example timings

ChIPanalyser.Rcheck/ChIPanalyser-Ex.timings

nameusersystemelapsed
BPFrequency0.120.020.14
BPFrequency_-0.000.020.02
ChIPScore-class000
ChIPanalyser-package000
DNASequenceLength0.010.000.02
GRList-class000
PFMFormat0.130.010.14
PFMFormat_0.000.050.04
PWMThreshold0.000.010.02
PWMThreshold_-0.010.000.02
PWMpseudocount0.020.020.03
PWMpseudocount_-0.010.000.01
PositionFrequencyMatrix0.050.020.07
PositionFrequencyMatrix_-0.030.000.03
PositionWeightMatrix0.050.010.06
PositionWeightMatrix_-0.010.000.01
averageExpPWMScore0.050.020.07
backgroundSignal0.020.000.01
backgroundSignal_-0.010.000.02
boundMolecules0.020.000.01
boundMolecules_-0.000.010.02
chipMean0.000.020.02
chipMean_-000
chipSd0.010.000.01
chipSd_-0.020.000.02
chipSmooth000
chipSmooth_-0.020.000.01
computeChIPProfile0.000.010.02
computeGenomeWideScores000
computeOccupancy0.000.020.01
computeOptimal0.010.000.02
computePWMScore000
data0.000.010.01
drop0.060.000.07
evolve000
generateStartingPopulation0.030.000.03
genomicProfiles-class000
genomicProfiles0.070.000.06
genomicProfilesInternal-class000
getHighestFitnessSolutions000
getTestingData3.660.193.95
getTrainingData1.590.191.81
lambdaPWM0.000.020.02
lambdaPWM_0.020.010.03
loci-class000
loci1.220.171.41
lociWidth0.010.000.01
lociWidth_0.020.000.02
maxPWMScore000
maxSignal0.010.000.01
maxSignal_-000
minPWMScore0.020.000.02
naturalLog0.000.020.01
naturalLog_-0.000.010.02
noOfSites0.000.020.01
noOfSites_-0.000.020.02
noiseFilter0.000.010.02
noiseFilter_0.020.000.01
nos-class000
parameterOptions-class000
parameterOptions0.010.000.02
ploidy0.020.000.01
ploidy_-000
plotOccupancyProfile0.000.020.02
plotOptimalHeatMaps0.010.000.01
processingChIP1.280.071.38
profileAccuracyEstimate000
removeBackground0.020.000.01
removeBackground_-000
scores1.200.161.41
searchSites0.000.010.01
setChromatinStates1.660.021.67
singleRun000
splitData1.220.221.46
stepSize0.010.000.01
stepSize_-000
strandRule0.000.010.02
strandRule_-0.020.000.01
whichstrand0.000.020.02
whichstrand_-0.000.010.02