Back to Multiple platform build/check report for BioC 3.18:   simplified   long
AB[C]DEFGHIJKLMNOPQRSTUVWXYZ

This page was generated on 2024-02-22 11:37:35 -0500 (Thu, 22 Feb 2024).

HostnameOSArch (*)R versionInstalled pkgs
nebbiolo2Linux (Ubuntu 22.04.3 LTS)x86_644.3.2 Patched (2023-11-13 r85521) -- "Eye Holes" 4691
palomino4Windows Server 2022 Datacenterx644.3.2 (2023-10-31 ucrt) -- "Eye Holes" 4444
lconwaymacOS 12.7.1 Montereyx86_644.3.2 Patched (2023-11-01 r85457) -- "Eye Holes" 4465
Click on any hostname to see more info about the system (e.g. compilers)      (*) as reported by 'uname -p', except on Windows and Mac OS X

Package 322/2266HostnameOS / ArchINSTALLBUILDCHECKBUILD BIN
ChAMP 2.32.0  (landing page)
Yuan Tian
Snapshot Date: 2024-02-21 14:05:05 -0500 (Wed, 21 Feb 2024)
git_url: https://git.bioconductor.org/packages/ChAMP
git_branch: RELEASE_3_18
git_last_commit: 95ac946
git_last_commit_date: 2023-10-24 09:56:34 -0500 (Tue, 24 Oct 2023)
nebbiolo2Linux (Ubuntu 22.04.3 LTS) / x86_64  OK    OK    WARNINGS  UNNEEDED, same version is already published
palomino4Windows Server 2022 Datacenter / x64  OK    OK    WARNINGS    OK  UNNEEDED, same version is already published
lconwaymacOS 12.7.1 Monterey / x86_64  OK    OK    WARNINGS    OK  UNNEEDED, same version is already published
kjohnson1macOS 13.6.1 Ventura / arm64see weekly results here

BUILD BIN results for ChAMP on lconway


To the developers/maintainers of the ChAMP package:
- Allow up to 24 hours (and sometimes 48 hours) for your latest push to git@git.bioconductor.org:packages/ChAMP.git to reflect on this report. See Troubleshooting Build Report for more information.
- Use the following Renviron settings to reproduce errors and warnings.
- If 'R CMD check' started to fail recently on the Linux builder(s) over a missing dependency, add the missing dependency to 'Suggests:' in your DESCRIPTION file. See Renviron.bioc for more information.

raw results


Summary

Package: ChAMP
Version: 2.32.0
Command: rm -rf ChAMP.buildbin-libdir && mkdir ChAMP.buildbin-libdir && /Users/biocbuild/BBS/utils/build-universal.sh ChAMP_2.32.0.tar.gz /Library/Frameworks/R.framework/Resources/bin/R ChAMP.buildbin-libdir
StartedAt: 2024-02-22 00:09:55 -0500 (Thu, 22 Feb 2024)
EndedAt: 2024-02-22 00:11:37 -0500 (Thu, 22 Feb 2024)
EllapsedTime: 101.7 seconds
RetCode: 0
Status:   OK  
PackageFile: ChAMP_2.32.0.tgz
PackageFileSize: 4.186 MiB

Command output

##############################################################################
##############################################################################
###
### Running command:
###
###   rm -rf ChAMP.buildbin-libdir && mkdir ChAMP.buildbin-libdir && /Users/biocbuild/BBS/utils/build-universal.sh ChAMP_2.32.0.tar.gz /Library/Frameworks/R.framework/Resources/bin/R ChAMP.buildbin-libdir
###
##############################################################################
##############################################################################


>>>>>>> 
>>>>>>> INSTALLATION WITH 'R CMD INSTALL --preclean --no-multiarch --library=ChAMP.buildbin-libdir ChAMP_2.32.0.tar.gz'
>>>>>>> 

* installing *source* package ‘ChAMP’ ...
** using staged installation
** R
** inst
** byte-compile and prepare package for lazy loading
No methods found in package 'RSQLite' for request: 'dbListFields' when loading 'lumi'
Warning: replacing previous import 'plyr::mutate' by 'plotly::mutate' when loading 'ChAMP'
Warning: replacing previous import 'plyr::rename' by 'plotly::rename' when loading 'ChAMP'
Warning: replacing previous import 'plyr::arrange' by 'plotly::arrange' when loading 'ChAMP'
Warning: replacing previous import 'plyr::summarise' by 'plotly::summarise' when loading 'ChAMP'
Warning: replacing previous import 'plotly::subplot' by 'Hmisc::subplot' when loading 'ChAMP'
Warning: replacing previous import 'plyr::summarize' by 'Hmisc::summarize' when loading 'ChAMP'
Warning: replacing previous import 'plyr::is.discrete' by 'Hmisc::is.discrete' when loading 'ChAMP'
Warning: replacing previous import 'GenomicRanges::sort' by 'globaltest::sort' when loading 'ChAMP'
Warning: replacing previous import 'plotly::last_plot' by 'ggplot2::last_plot' when loading 'ChAMP'
Warning: replacing previous import 'globaltest::model.matrix' by 'stats::model.matrix' when loading 'ChAMP'
Warning: replacing previous import 'globaltest::p.adjust' by 'stats::p.adjust' when loading 'ChAMP'
Note: possible error in 'dmrcate(myannotation, ': unused argument (mc.cores = cores) 
** help
*** installing help indices
** building package indices
** installing vignettes
** testing if installed package can be loaded from temporary location
No methods found in package 'RSQLite' for request: 'dbListFields' when loading 'lumi'
Warning: replacing previous import 'plyr::mutate' by 'plotly::mutate' when loading 'ChAMP'
Warning: replacing previous import 'plyr::rename' by 'plotly::rename' when loading 'ChAMP'
Warning: replacing previous import 'plyr::arrange' by 'plotly::arrange' when loading 'ChAMP'
Warning: replacing previous import 'plyr::summarise' by 'plotly::summarise' when loading 'ChAMP'
Warning: replacing previous import 'plotly::subplot' by 'Hmisc::subplot' when loading 'ChAMP'
Warning: replacing previous import 'plyr::summarize' by 'Hmisc::summarize' when loading 'ChAMP'
Warning: replacing previous import 'plyr::is.discrete' by 'Hmisc::is.discrete' when loading 'ChAMP'
Warning: replacing previous import 'GenomicRanges::sort' by 'globaltest::sort' when loading 'ChAMP'
Warning: replacing previous import 'plotly::last_plot' by 'ggplot2::last_plot' when loading 'ChAMP'
Warning: replacing previous import 'globaltest::model.matrix' by 'stats::model.matrix' when loading 'ChAMP'
Warning: replacing previous import 'globaltest::p.adjust' by 'stats::p.adjust' when loading 'ChAMP'
** testing if installed package can be loaded from final location
No methods found in package 'RSQLite' for request: 'dbListFields' when loading 'lumi'
Warning: replacing previous import 'plyr::mutate' by 'plotly::mutate' when loading 'ChAMP'
Warning: replacing previous import 'plyr::rename' by 'plotly::rename' when loading 'ChAMP'
Warning: replacing previous import 'plyr::arrange' by 'plotly::arrange' when loading 'ChAMP'
Warning: replacing previous import 'plyr::summarise' by 'plotly::summarise' when loading 'ChAMP'
Warning: replacing previous import 'plotly::subplot' by 'Hmisc::subplot' when loading 'ChAMP'
Warning: replacing previous import 'plyr::summarize' by 'Hmisc::summarize' when loading 'ChAMP'
Warning: replacing previous import 'plyr::is.discrete' by 'Hmisc::is.discrete' when loading 'ChAMP'
Warning: replacing previous import 'GenomicRanges::sort' by 'globaltest::sort' when loading 'ChAMP'
Warning: replacing previous import 'plotly::last_plot' by 'ggplot2::last_plot' when loading 'ChAMP'
Warning: replacing previous import 'globaltest::model.matrix' by 'stats::model.matrix' when loading 'ChAMP'
Warning: replacing previous import 'globaltest::p.adjust' by 'stats::p.adjust' when loading 'ChAMP'
** testing if installed package keeps a record of temporary installation path
* DONE (ChAMP)