Back to Multiple platform build/check report for BioC 3.16
AB[C]DEFGHIJKLMNOPQRSTUVWXYZ

This page was generated on 2023-02-01 11:08:12 -0500 (Wed, 01 Feb 2023).

HostnameOSArch (*)R versionInstalled pkgs
nebbiolo2Linux (Ubuntu 20.04.5 LTS)x86_644.2.2 (2022-10-31) -- "Innocent and Trusting" 4511
palomino4Windows Server 2022 Datacenterx644.2.2 (2022-10-31 ucrt) -- "Innocent and Trusting" 4289
lconwaymacOS 12.5.1 Montereyx86_644.2.2 (2022-10-31) -- "Innocent and Trusting" 4318
Click on any hostname to see more info about the system (e.g. compilers)      (*) as reported by 'uname -p', except on Windows and Mac OS X

BUILD BIN results for CGHbase on lconway


To the developers/maintainers of the CGHbase package:
- Please allow up to 24 hours (and sometimes 48 hours) for your latest push to git@git.bioconductor.org:packages/CGHbase.git to
reflect on this report. See How and When does the builder pull? When will my changes propagate? for more information.
- Make sure to use the following settings in order to reproduce any error or warning you see on this page.

raw results

Package 297/2183HostnameOS / ArchINSTALLBUILDCHECKBUILD BIN
CGHbase 1.58.0  (landing page)
Mark van de Wiel
Snapshot Date: 2023-01-31 14:00:04 -0500 (Tue, 31 Jan 2023)
git_url: https://git.bioconductor.org/packages/CGHbase
git_branch: RELEASE_3_16
git_last_commit: fd24024
git_last_commit_date: 2022-11-01 11:03:53 -0500 (Tue, 01 Nov 2022)
nebbiolo2Linux (Ubuntu 20.04.5 LTS) / x86_64  OK    OK    OK  UNNEEDED, same version is already published
palomino4Windows Server 2022 Datacenter / x64  OK    OK    OK    OK  UNNEEDED, same version is already published
lconwaymacOS 12.5.1 Monterey / x86_64  OK    OK    OK    OK  UNNEEDED, same version is already published

Summary

Package: CGHbase
Version: 1.58.0
Command: rm -rf CGHbase.buildbin-libdir && mkdir CGHbase.buildbin-libdir && /Users/biocbuild/BBS/utils/build-universal.sh CGHbase_1.58.0.tar.gz /Library/Frameworks/R.framework/Resources/bin/R CGHbase.buildbin-libdir
StartedAt: 2023-01-31 23:57:14 -0500 (Tue, 31 Jan 2023)
EndedAt: 2023-01-31 23:57:23 -0500 (Tue, 31 Jan 2023)
EllapsedTime: 9.2 seconds
RetCode: 0
Status:   OK  
PackageFile: CGHbase_1.58.0.tgz
PackageFileSize: 1.05 MiB

Command output

##############################################################################
##############################################################################
###
### Running command:
###
###   rm -rf CGHbase.buildbin-libdir && mkdir CGHbase.buildbin-libdir && /Users/biocbuild/BBS/utils/build-universal.sh CGHbase_1.58.0.tar.gz /Library/Frameworks/R.framework/Resources/bin/R CGHbase.buildbin-libdir
###
##############################################################################
##############################################################################


>>>>>>> 
>>>>>>> INSTALLATION WITH 'R CMD INSTALL --preclean --no-multiarch --library=CGHbase.buildbin-libdir CGHbase_1.58.0.tar.gz'
>>>>>>> 

* installing *source* package ‘CGHbase’ ...
** using staged installation
** R
** data
** byte-compile and prepare package for lazy loading
** help
*** installing help indices
** building package indices
** testing if installed package can be loaded from temporary location
** testing if installed package can be loaded from final location
** testing if installed package keeps a record of temporary installation path
* DONE (CGHbase)