Index of /checkResults/release/bioc-LATEST/CAGEr/raw-results
Name
Last modified
Size
Description
Parent Directory
-
info.dcf
31-May-2023 00:06
270
merida1/
31-May-2023 00:06
-
nebbiolo1/
31-May-2023 00:05
-
palomino3/
31-May-2023 00:05
-