Name | Last modified | Size | Description | |
---|---|---|---|---|
Parent Directory | - | |||
buildbin-out.txt | 30-Mar-2024 00:37 | 1.2K | ||
buildbin-summary.dcf | 30-Mar-2024 00:37 | 516 | ||
buildsrc-out.txt | 30-Mar-2024 00:37 | 807 | ||
buildsrc-summary.dcf | 30-Mar-2024 00:37 | 420 | ||
checksrc-out.txt | 30-Mar-2024 00:37 | 4.5K | ||
checksrc-summary.dcf | 30-Mar-2024 00:37 | 435 | ||
install-out.txt | 30-Mar-2024 00:37 | 1.0K | ||
install-summary.dcf | 30-Mar-2024 00:37 | 265 | ||