Back to Multiple platform build/check report for BioC 3.18: simplified long |
|
This page was generated on 2024-03-04 11:37:11 -0500 (Mon, 04 Mar 2024).
Hostname | OS | Arch (*) | R version | Installed pkgs |
---|---|---|---|---|
nebbiolo2 | Linux (Ubuntu 22.04.3 LTS) | x86_64 | 4.3.2 Patched (2023-11-13 r85521) -- "Eye Holes" | 4692 |
palomino4 | Windows Server 2022 Datacenter | x64 | 4.3.2 (2023-10-31 ucrt) -- "Eye Holes" | 4445 |
lconway | macOS 12.7.1 Monterey | x86_64 | 4.3.2 Patched (2023-11-01 r85457) -- "Eye Holes" | 4466 |
Click on any hostname to see more info about the system (e.g. compilers) (*) as reported by 'uname -p', except on Windows and Mac OS X |
Package 259/2266 | Hostname | OS / Arch | INSTALL | BUILD | CHECK | BUILD BIN | ||||||||
CAGEfightR 1.22.0 (landing page) Malte Thodberg
| nebbiolo2 | Linux (Ubuntu 22.04.3 LTS) / x86_64 | OK | OK | OK | |||||||||
palomino4 | Windows Server 2022 Datacenter / x64 | OK | OK | OK | OK | |||||||||
lconway | macOS 12.7.1 Monterey / x86_64 | OK | OK | OK | OK | |||||||||
kjohnson1 | macOS 13.6.1 Ventura / arm64 | see weekly results here | ||||||||||||
To the developers/maintainers of the CAGEfightR package: - Allow up to 24 hours (and sometimes 48 hours) for your latest push to git@git.bioconductor.org:packages/CAGEfightR.git to reflect on this report. See Troubleshooting Build Report for more information. - Use the following Renviron settings to reproduce errors and warnings. - If 'R CMD check' started to fail recently on the Linux builder(s) over a missing dependency, add the missing dependency to 'Suggests:' in your DESCRIPTION file. See Renviron.bioc for more information. |
Package: CAGEfightR |
Version: 1.22.0 |
Command: /Library/Frameworks/R.framework/Resources/bin/R CMD check --install=check:CAGEfightR.install-out.txt --library=/Library/Frameworks/R.framework/Resources/library --no-vignettes --timings CAGEfightR_1.22.0.tar.gz |
StartedAt: 2024-03-03 19:23:55 -0500 (Sun, 03 Mar 2024) |
EndedAt: 2024-03-03 19:31:17 -0500 (Sun, 03 Mar 2024) |
EllapsedTime: 442.6 seconds |
RetCode: 0 |
Status: OK |
CheckDir: CAGEfightR.Rcheck |
Warnings: 0 |
############################################################################## ############################################################################## ### ### Running command: ### ### /Library/Frameworks/R.framework/Resources/bin/R CMD check --install=check:CAGEfightR.install-out.txt --library=/Library/Frameworks/R.framework/Resources/library --no-vignettes --timings CAGEfightR_1.22.0.tar.gz ### ############################################################################## ############################################################################## * using log directory ‘/Users/biocbuild/bbs-3.18-bioc/meat/CAGEfightR.Rcheck’ * using R version 4.3.2 Patched (2023-11-01 r85457) * using platform: x86_64-apple-darwin20 (64-bit) * R was compiled by Apple clang version 14.0.3 (clang-1403.0.22.14.1) GNU Fortran (GCC) 12.2.0 * running under: macOS Monterey 12.7.1 * using session charset: UTF-8 * using option ‘--no-vignettes’ * checking for file ‘CAGEfightR/DESCRIPTION’ ... OK * checking extension type ... Package * this is package ‘CAGEfightR’ version ‘1.22.0’ * package encoding: UTF-8 * checking package namespace information ... OK * checking package dependencies ... OK * checking if this is a source package ... OK * checking if there is a namespace ... OK * checking for hidden files and directories ... OK * checking for portable file names ... OK * checking for sufficient/correct file permissions ... OK * checking whether package ‘CAGEfightR’ can be installed ... OK * checking installed package size ... OK * checking package directory ... OK * checking ‘build’ directory ... OK * checking DESCRIPTION meta-information ... OK * checking top-level files ... OK * checking for left-over files ... OK * checking index information ... OK * checking package subdirectories ... OK * checking R files for non-ASCII characters ... OK * checking R files for syntax errors ... OK * checking whether the package can be loaded ... OK * checking whether the package can be loaded with stated dependencies ... OK * checking whether the package can be unloaded cleanly ... OK * checking whether the namespace can be loaded with stated dependencies ... OK * checking whether the namespace can be unloaded cleanly ... OK * checking startup messages can be suppressed ... OK * checking dependencies in R code ... OK * checking S3 generic/method consistency ... OK * checking replacement functions ... OK * checking foreign function calls ... OK * checking R code for possible problems ... OK * checking Rd files ... OK * checking Rd metadata ... OK * checking Rd cross-references ... OK * checking for missing documentation entries ... OK * checking for code/documentation mismatches ... OK * checking Rd \usage sections ... OK * checking Rd contents ... OK * checking for unstated dependencies in examples ... OK * checking contents of ‘data’ directory ... OK * checking data for non-ASCII characters ... OK * checking LazyData ... OK * checking data for ASCII and uncompressed saves ... OK * checking files in ‘vignettes’ ... OK * checking examples ... OK Examples with CPU (user + system) or elapsed time > 5s user system elapsed findLinks 6.43 0.825 6.87 * checking for unstated dependencies in vignettes ... OK * checking package vignettes in ‘inst/doc’ ... OK * checking running R code from vignettes ... SKIPPED * checking re-building of vignette outputs ... SKIPPED * checking PDF version of manual ... OK * DONE Status: OK
CAGEfightR.Rcheck/00install.out
############################################################################## ############################################################################## ### ### Running command: ### ### /Library/Frameworks/R.framework/Resources/bin/R CMD INSTALL CAGEfightR ### ############################################################################## ############################################################################## * installing to library ‘/Library/Frameworks/R.framework/Versions/4.3-x86_64/Resources/library’ * installing *source* package ‘CAGEfightR’ ... ** using staged installation ** R ** data *** moving datasets to lazyload DB ** inst ** byte-compile and prepare package for lazy loading ** help *** installing help indices ** building package indices ** installing vignettes ** testing if installed package can be loaded from temporary location ** testing if installed package can be loaded from final location ** testing if installed package keeps a record of temporary installation path * DONE (CAGEfightR)
CAGEfightR.Rcheck/CAGEfightR-Ex.timings
name | user | system | elapsed | |
assignGeneID | 4.276 | 0.169 | 4.521 | |
assignMissingID | 1.233 | 0.044 | 1.289 | |
assignTxID | 1.002 | 0.027 | 1.037 | |
assignTxType | 0.000 | 0.000 | 0.001 | |
balanceBC | 0 | 0 | 0 | |
balanceD | 0.000 | 0.001 | 0.001 | |
bwCommonGenome | 0.046 | 0.007 | 0.055 | |
bwGenomeCompatibility | 0.021 | 0.004 | 0.026 | |
bwValid | 0.009 | 0.003 | 0.012 | |
calcBidirectionality | 0.510 | 0.023 | 0.537 | |
calcComposition | 1.498 | 0.049 | 1.558 | |
calcPooled | 0.104 | 0.005 | 0.110 | |
calcShape | 3.669 | 0.167 | 3.872 | |
calcSupport | 0.104 | 0.004 | 0.108 | |
calcTPM | 0.124 | 0.006 | 0.132 | |
calcTotalTags | 0.067 | 0.003 | 0.070 | |
checkCTSSs | 0.237 | 0.006 | 0.246 | |
checkPeaked | 0.069 | 0.003 | 0.072 | |
checkPooled | 0.055 | 0.003 | 0.058 | |
clusterBidirectionally | 0 | 0 | 0 | |
clusterUnidirectionally | 1.375 | 0.031 | 1.413 | |
combineClusters | 0.811 | 0.015 | 0.832 | |
convertBAM2BigWig | 0 | 0 | 0 | |
convertBED2BigWig | 0 | 0 | 0 | |
convertGRanges2GPos | 0.088 | 0.001 | 0.090 | |
exampleDesign | 0.005 | 0.008 | 0.014 | |
findLinks | 6.430 | 0.825 | 6.870 | |
findStretches | 0.537 | 0.235 | 0.778 | |
quantifyCTSSs | 0.000 | 0.001 | 0.002 | |
quantifyCTSSs2 | 0.000 | 0.001 | 0.001 | |
quantifyClusters | 0.557 | 0.273 | 0.748 | |
quantifyGenes | 1.516 | 0.133 | 1.663 | |
quickEnhancers | 0 | 0 | 0 | |
quickGenes | 0 | 0 | 0 | |
quickTSSs | 0 | 0 | 0 | |
shapeEntropy | 0.001 | 0.000 | 0.001 | |
shapeIQR | 0.001 | 0.000 | 0.001 | |
shapeMean | 0.001 | 0.000 | 0.001 | |
shapeMultimodality | 0.000 | 0.000 | 0.001 | |
subsetByBidirectionality | 0.514 | 0.034 | 0.552 | |
subsetByComposition | 1.401 | 0.060 | 1.487 | |
subsetBySupport | 0.087 | 0.007 | 0.095 | |
swapRanges | 0.188 | 0.008 | 0.199 | |
swapScores | 0.108 | 0.005 | 0.113 | |
trackBalance | 0.000 | 0.000 | 0.001 | |
trackCTSS | 3.472 | 0.233 | 3.734 | |
trackClusters | 2.210 | 0.039 | 2.268 | |
trackLinks | 1.108 | 0.418 | 1.321 | |
trimToPeak | 0.879 | 0.108 | 0.997 | |
trimToPercentiles | 2.071 | 0.058 | 2.154 | |
tuneTagClustering | 0 | 0 | 0 | |
utilsAggregateRows | 0.453 | 0.428 | 0.899 | |
utilsDeStrand | 0.151 | 0.004 | 0.157 | |
utilsScoreOverlaps | 0.074 | 0.001 | 0.077 | |
utilsSimplifyTxDb | 0 | 0 | 0 | |