Name | Last modified | Size | Description | |
---|---|---|---|---|
Parent Directory | - | |||
install-out.txt | 30-Mar-2024 00:37 | 2.3K | ||
install-summary.dcf | 30-Mar-2024 00:37 | 279 | ||
buildsrc-out.txt | 30-Mar-2024 00:37 | 866 | ||
buildsrc-summary.dcf | 30-Mar-2024 00:37 | 443 | ||
checksrc-out.txt | 30-Mar-2024 00:37 | 3.5K | ||
checksrc-summary.dcf | 30-Mar-2024 00:37 | 464 | ||
buildbin-out.txt | 30-Mar-2024 00:37 | 4.5K | ||
buildbin-summary.dcf | 30-Mar-2024 00:37 | 560 | ||