Back to Multiple platform build/check report for BioC 3.19:   simplified   long
A[B]CDEFGHIJKLMNOPQRSTUVWXYZ

This page was generated on 2024-07-12 17:40 -0400 (Fri, 12 Jul 2024).

HostnameOSArch (*)R versionInstalled pkgs
nebbiolo1Linux (Ubuntu 22.04.3 LTS)x86_644.4.1 (2024-06-14) -- "Race for Your Life" 4741
palomino7Windows Server 2022 Datacenterx644.4.1 (2024-06-14 ucrt) -- "Race for Your Life" 4483
merida1macOS 12.7.4 Montereyx86_644.4.1 (2024-06-14) -- "Race for Your Life" 4512
kjohnson1macOS 13.6.6 Venturaarm644.4.1 (2024-06-14) -- "Race for Your Life" 4461
Click on any hostname to see more info about the system (e.g. compilers)      (*) as reported by 'uname -p', except on Windows and Mac OS X

Package 132/2300HostnameOS / ArchINSTALLBUILDCHECKBUILD BIN
BASiCStan 1.6.0  (landing page)
Alan O'Callaghan
Snapshot Date: 2024-07-10 14:00 -0400 (Wed, 10 Jul 2024)
git_url: https://git.bioconductor.org/packages/BASiCStan
git_branch: RELEASE_3_19
git_last_commit: 83ee6f9
git_last_commit_date: 2024-04-30 11:44:12 -0400 (Tue, 30 Apr 2024)
nebbiolo1Linux (Ubuntu 22.04.3 LTS) / x86_64  OK    OK    OK  UNNEEDED, same version is already published
palomino7Windows Server 2022 Datacenter / x64  OK    OK    OK    OK  
merida1macOS 12.7.4 Monterey / x86_64  OK    OK    OK    OK  UNNEEDED, same version is already published
kjohnson1macOS 13.6.6 Ventura / arm64  OK    OK    OK    OK  UNNEEDED, same version is already published


CHECK results for BASiCStan on merida1

To the developers/maintainers of the BASiCStan package:
- Allow up to 24 hours (and sometimes 48 hours) for your latest push to git@git.bioconductor.org:packages/BASiCStan.git to reflect on this report. See Troubleshooting Build Report for more information.
- Use the following Renviron settings to reproduce errors and warnings.
- If 'R CMD check' started to fail recently on the Linux builder(s) over a missing dependency, add the missing dependency to 'Suggests:' in your DESCRIPTION file. See Renviron.bioc for more information.

raw results


Summary

Package: BASiCStan
Version: 1.6.0
Command: /Library/Frameworks/R.framework/Resources/bin/R CMD check --install=check:BASiCStan.install-out.txt --library=/Library/Frameworks/R.framework/Resources/library --no-vignettes --timings BASiCStan_1.6.0.tar.gz
StartedAt: 2024-07-11 00:41:13 -0400 (Thu, 11 Jul 2024)
EndedAt: 2024-07-11 00:52:12 -0400 (Thu, 11 Jul 2024)
EllapsedTime: 659.3 seconds
RetCode: 0
Status:   OK  
CheckDir: BASiCStan.Rcheck
Warnings: 0

Command output

##############################################################################
##############################################################################
###
### Running command:
###
###   /Library/Frameworks/R.framework/Resources/bin/R CMD check --install=check:BASiCStan.install-out.txt --library=/Library/Frameworks/R.framework/Resources/library --no-vignettes --timings BASiCStan_1.6.0.tar.gz
###
##############################################################################
##############################################################################


* using log directory ‘/Users/biocbuild/bbs-3.19-bioc/meat/BASiCStan.Rcheck’
* using R version 4.4.1 (2024-06-14)
* using platform: x86_64-apple-darwin20
* R was compiled by
    Apple clang version 14.0.0 (clang-1400.0.29.202)
    GNU Fortran (GCC) 12.2.0
* running under: macOS Monterey 12.7.5
* using session charset: UTF-8
* using option ‘--no-vignettes’
* checking for file ‘BASiCStan/DESCRIPTION’ ... OK
* this is package ‘BASiCStan’ version ‘1.6.0’
* package encoding: UTF-8
* checking package namespace information ... OK
* checking package dependencies ... OK
* checking if this is a source package ... OK
* checking if there is a namespace ... OK
* checking for hidden files and directories ... OK
* checking for portable file names ... OK
* checking for sufficient/correct file permissions ... OK
* checking whether package ‘BASiCStan’ can be installed ... OK
* used C++ compiler: ‘Apple clang version 14.0.0 (clang-1400.0.29.202)’
* used SDK: ‘MacOSX11.3.sdk’
* checking C++ specification ... OK
  Not all R platforms support C++17
* checking installed package size ... OK
* checking package directory ... OK
* checking ‘build’ directory ... OK
* checking DESCRIPTION meta-information ... OK
* checking top-level files ... OK
* checking for left-over files ... OK
* checking index information ... OK
* checking package subdirectories ... OK
* checking code files for non-ASCII characters ... OK
* checking R files for syntax errors ... OK
* checking whether the package can be loaded ... OK
* checking whether the package can be loaded with stated dependencies ... OK
* checking whether the package can be unloaded cleanly ... OK
* checking whether the namespace can be loaded with stated dependencies ... OK
* checking whether the namespace can be unloaded cleanly ... OK
* checking dependencies in R code ... NOTE
Unexported objects imported by ':::' calls:
  ‘BASiCS:::.BASiCS_MCMC_Start’ ‘BASiCS:::.EmpiricalBayesMu’
  ‘BASiCS:::.estimateRBFLocations’
  See the note in ?`:::` about the use of this operator.
* checking S3 generic/method consistency ... OK
* checking replacement functions ... OK
* checking foreign function calls ... OK
* checking R code for possible problems ... OK
* checking Rd files ... OK
* checking Rd metadata ... OK
* checking Rd cross-references ... OK
* checking for missing documentation entries ... OK
* checking for code/documentation mismatches ... OK
* checking Rd \usage sections ... OK
* checking Rd contents ... OK
* checking for unstated dependencies in examples ... OK
* checking line endings in shell scripts ... OK
* checking line endings in C/C++/Fortran sources/headers ... OK
* checking line endings in Makefiles ... OK
* checking compilation flags in Makevars ... OK
* checking for GNU extensions in Makefiles ... NOTE
GNU make is a SystemRequirements.
* checking for portable use of $(BLAS_LIBS) and $(LAPACK_LIBS) ... OK
* checking use of PKG_*FLAGS in Makefiles ... OK
* checking compiled code ... NOTE
Note: information on .o files is not available
* checking files in ‘vignettes’ ... OK
* checking examples ... OK
Examples with CPU (user + system) or elapsed time > 5s
           user system elapsed
BASiCStan 4.226  0.215   6.212
* checking for unstated dependencies in ‘tests’ ... OK
* checking tests ...
  Running ‘testthat.R’
 OK
* checking for unstated dependencies in vignettes ... OK
* checking package vignettes ... OK
* checking running R code from vignettes ... SKIPPED
* checking re-building of vignette outputs ... SKIPPED
* checking PDF version of manual ... OK
* DONE

Status: 3 NOTEs
See
  ‘/Users/biocbuild/bbs-3.19-bioc/meat/BASiCStan.Rcheck/00check.log’
for details.


Installation output

BASiCStan.Rcheck/00install.out

##############################################################################
##############################################################################
###
### Running command:
###
###   /Library/Frameworks/R.framework/Resources/bin/R CMD INSTALL BASiCStan
###
##############################################################################
##############################################################################


* installing to library ‘/Library/Frameworks/R.framework/Versions/4.4-x86_64/Resources/library’
* installing *source* package ‘BASiCStan’ ...
** using staged installation
** libs
using C++ compiler: ‘Apple clang version 14.0.0 (clang-1400.0.29.202)’
using C++17
using SDK: ‘MacOSX11.3.sdk’


clang++ -arch x86_64 -std=gnu++17 -I"/Library/Frameworks/R.framework/Resources/include" -DNDEBUG -I"../inst/include" -I"/Library/Frameworks/R.framework/Versions/4.4-x86_64/Resources/library/StanHeaders/include/src" -DBOOST_DISABLE_ASSERTS -DEIGEN_NO_DEBUG -DBOOST_MATH_OVERFLOW_ERROR_POLICY=errno_on_error -DUSE_STANC3 -D_HAS_AUTO_PTR_ETC=0 -I'/Library/Frameworks/R.framework/Versions/4.4-x86_64/Resources/library/BH/include' -I'/Library/Frameworks/R.framework/Versions/4.4-x86_64/Resources/library/Rcpp/include' -I'/Library/Frameworks/R.framework/Versions/4.4-x86_64/Resources/library/RcppEigen/include' -I'/Library/Frameworks/R.framework/Versions/4.4-x86_64/Resources/library/RcppParallel/include' -I'/Library/Frameworks/R.framework/Versions/4.4-x86_64/Resources/library/rstan/include' -I'/Library/Frameworks/R.framework/Versions/4.4-x86_64/Resources/library/StanHeaders/include' -I/opt/R/x86_64/include    -I'/Library/Frameworks/R.framework/Versions/4.4-x86_64/Resources/library/RcppParallel/include' -D_REENTRANT -DSTAN_THREADS   -fPIC  -falign-functions=64 -Wall -g -O2   -c RcppExports.cpp -o RcppExports.o


clang++ -arch x86_64 -std=gnu++17 -I"/Library/Frameworks/R.framework/Resources/include" -DNDEBUG -I"../inst/include" -I"/Library/Frameworks/R.framework/Versions/4.4-x86_64/Resources/library/StanHeaders/include/src" -DBOOST_DISABLE_ASSERTS -DEIGEN_NO_DEBUG -DBOOST_MATH_OVERFLOW_ERROR_POLICY=errno_on_error -DUSE_STANC3 -D_HAS_AUTO_PTR_ETC=0 -I'/Library/Frameworks/R.framework/Versions/4.4-x86_64/Resources/library/BH/include' -I'/Library/Frameworks/R.framework/Versions/4.4-x86_64/Resources/library/Rcpp/include' -I'/Library/Frameworks/R.framework/Versions/4.4-x86_64/Resources/library/RcppEigen/include' -I'/Library/Frameworks/R.framework/Versions/4.4-x86_64/Resources/library/RcppParallel/include' -I'/Library/Frameworks/R.framework/Versions/4.4-x86_64/Resources/library/rstan/include' -I'/Library/Frameworks/R.framework/Versions/4.4-x86_64/Resources/library/StanHeaders/include' -I/opt/R/x86_64/include    -I'/Library/Frameworks/R.framework/Versions/4.4-x86_64/Resources/library/RcppParallel/include' -D_REENTRANT -DSTAN_THREADS   -fPIC  -falign-functions=64 -Wall -g -O2   -c stanExports_basics_regression.cc -o stanExports_basics_regression.o
In file included from stanExports_basics_regression.cc:5:
In file included from ./stanExports_basics_regression.h:23:
In file included from /Library/Frameworks/R.framework/Versions/4.4-x86_64/Resources/library/rstan/include/rstan/rstaninc.hpp:4:
In file included from /Library/Frameworks/R.framework/Versions/4.4-x86_64/Resources/library/rstan/include/rstan/stan_fit.hpp:21:
/Library/Frameworks/R.framework/Versions/4.4-x86_64/Resources/library/rstan/include/rstan/io/r_ostream.hpp:47:31: warning: 'rstan::io::r_cout_streambuf::xsputn' hides overloaded virtual function [-Woverloaded-virtual]
      virtual std::streamsize xsputn(const char_type* s, int n) {
                              ^
/Library/Developer/CommandLineTools/SDKs/MacOSX11.sdk/usr/include/c++/v1/streambuf:291:24: note: hidden overloaded virtual function 'std::basic_streambuf<char>::xsputn' declared here: type mismatch at 2nd parameter ('std::streamsize' (aka 'long') vs 'int')
    virtual streamsize xsputn(const char_type* __s, streamsize __n);
                       ^
In file included from stanExports_basics_regression.cc:5:
In file included from ./stanExports_basics_regression.h:23:
In file included from /Library/Frameworks/R.framework/Versions/4.4-x86_64/Resources/library/rstan/include/rstan/rstaninc.hpp:4:
In file included from /Library/Frameworks/R.framework/Versions/4.4-x86_64/Resources/library/rstan/include/rstan/stan_fit.hpp:21:
/Library/Frameworks/R.framework/Versions/4.4-x86_64/Resources/library/rstan/include/rstan/io/r_ostream.hpp:70:31: warning: 'rstan::io::r_cerr_streambuf::xsputn' hides overloaded virtual function [-Woverloaded-virtual]
      virtual std::streamsize xsputn(const char_type* s, int n) {
                              ^
/Library/Developer/CommandLineTools/SDKs/MacOSX11.sdk/usr/include/c++/v1/streambuf:291:24: note: hidden overloaded virtual function 'std::basic_streambuf<char>::xsputn' declared here: type mismatch at 2nd parameter ('std::streamsize' (aka 'long') vs 'int')
    virtual streamsize xsputn(const char_type* __s, streamsize __n);
                       ^
In file included from stanExports_basics_regression.cc:5:
In file included from ./stanExports_basics_regression.h:23:
In file included from /Library/Frameworks/R.framework/Versions/4.4-x86_64/Resources/library/rstan/include/rstan/rstaninc.hpp:4:
In file included from /Library/Frameworks/R.framework/Versions/4.4-x86_64/Resources/library/rstan/include/rstan/stan_fit.hpp:43:
In file included from /Library/Frameworks/R.framework/Versions/4.4-x86_64/Resources/library/StanHeaders/include/src/stan/io/dump.hpp:7:
In file included from /Library/Frameworks/R.framework/Versions/4.4-x86_64/Resources/library/StanHeaders/include/stan/math/prim.hpp:14:
In file included from /Library/Frameworks/R.framework/Versions/4.4-x86_64/Resources/library/StanHeaders/include/stan/math/prim/fun.hpp:35:
In file included from /Library/Frameworks/R.framework/Versions/4.4-x86_64/Resources/library/StanHeaders/include/stan/math/prim/fun/binomial_coefficient_log.hpp:13:
In file included from /Library/Frameworks/R.framework/Versions/4.4-x86_64/Resources/library/StanHeaders/include/stan/math/prim/functor/partials_propagator.hpp:8:
/Library/Frameworks/R.framework/Versions/4.4-x86_64/Resources/library/StanHeaders/include/stan/math/prim/functor/operands_and_partials.hpp:57:1: warning: 'ops_partials_edge' defined as a struct template here but previously declared as a class template; this is valid, but may result in linker errors under the Microsoft C++ ABI [-Wmismatched-tags]
struct ops_partials_edge<ViewElt, Op, require_st_arithmetic<Op>> {
^
/Library/Frameworks/R.framework/Versions/4.4-x86_64/Resources/library/StanHeaders/include/stan/math/prim/functor/operands_and_partials.hpp:45:1: note: did you mean struct here?
class ops_partials_edge;
^~~~~
struct
In file included from stanExports_basics_regression.cc:5:
In file included from ./stanExports_basics_regression.h:23:
In file included from /Library/Frameworks/R.framework/Versions/4.4-x86_64/Resources/library/rstan/include/rstan/rstaninc.hpp:4:
/Library/Frameworks/R.framework/Versions/4.4-x86_64/Resources/library/rstan/include/rstan/stan_fit.hpp:1252:9: warning: variable 'ret' set but not used [-Wunused-but-set-variable]
    int ret = stan::services::error_codes::CONFIG;
        ^
In file included from stanExports_basics_regression.cc:5:
./stanExports_basics_regression.h:954:11: warning: variable 'pos__' set but not used [-Wunused-but-set-variable]
      int pos__ = std::numeric_limits<int>::min();
          ^
In file included from stanExports_basics_regression.cc:5:
In file included from ./stanExports_basics_regression.h:23:
In file included from /Library/Frameworks/R.framework/Versions/4.4-x86_64/Resources/library/rstan/include/rstan/rstaninc.hpp:4:
In file included from /Library/Frameworks/R.framework/Versions/4.4-x86_64/Resources/library/rstan/include/rstan/stan_fit.hpp:43:
In file included from /Library/Frameworks/R.framework/Versions/4.4-x86_64/Resources/library/StanHeaders/include/src/stan/io/dump.hpp:7:
In file included from /Library/Frameworks/R.framework/Versions/4.4-x86_64/Resources/library/StanHeaders/include/stan/math/prim.hpp:14:
In file included from /Library/Frameworks/R.framework/Versions/4.4-x86_64/Resources/library/StanHeaders/include/stan/math/prim/fun.hpp:46:
In file included from /Library/Frameworks/R.framework/Versions/4.4-x86_64/Resources/library/StanHeaders/include/stan/math/prim/fun/choose.hpp:7:
In file included from /Library/Frameworks/R.framework/Versions/4.4-x86_64/Resources/library/BH/include/boost/math/special_functions/binomial.hpp:15:
In file included from /Library/Frameworks/R.framework/Versions/4.4-x86_64/Resources/library/BH/include/boost/math/special_functions/beta.hpp:1721:
/Library/Frameworks/R.framework/Versions/4.4-x86_64/Resources/library/BH/include/boost/math/special_functions/detail/ibeta_inverse.hpp:29:15: warning: unused variable 'x_extrema' [-Wunused-variable]
      const T x_extrema = 1 / (1 + a);
              ^
/Library/Frameworks/R.framework/Versions/4.4-x86_64/Resources/library/BH/include/boost/math/special_functions/detail/ibeta_inverse.hpp:304:7: note: in instantiation of member function 'boost::math::detail::temme_root_finder<double>::temme_root_finder' requested here
      temme_root_finder<T>(-lu, alpha), x, lower, upper, policies::digits<T, Policy>() / 2);
      ^
/Library/Frameworks/R.framework/Versions/4.4-x86_64/Resources/library/BH/include/boost/math/special_functions/detail/ibeta_inverse.hpp:615:20: note: in instantiation of function template specialization 'boost::math::detail::temme_method_2_ibeta_inverse<double, boost::math::policies::policy<boost::math::policies::pole_error<boost::math::policies::errno_on_error>, boost::math::policies::promote_float<false>, boost::math::policies::promote_double<false>>>' requested here
               x = temme_method_2_ibeta_inverse(a, b, p, r, theta, pol);
                   ^
/Library/Frameworks/R.framework/Versions/4.4-x86_64/Resources/library/BH/include/boost/math/special_functions/detail/ibeta_inverse.hpp:992:17: note: in instantiation of function template specialization 'boost::math::detail::ibeta_inv_imp<double, boost::math::policies::policy<boost::math::policies::pole_error<boost::math::policies::errno_on_error>, boost::math::policies::promote_float<false>, boost::math::policies::promote_double<false>>>' requested here
   rx = detail::ibeta_inv_imp(
                ^
/Library/Frameworks/R.framework/Versions/4.4-x86_64/Resources/library/BH/include/boost/math/special_functions/detail/ibeta_inverse.hpp:1023:11: note: in instantiation of function template specialization 'boost::math::ibeta_inv<double, double, double, double, boost::math::policies::policy<boost::math::policies::overflow_error<boost::math::policies::errno_on_error>, boost::math::policies::pole_error<boost::math::policies::errno_on_error>, boost::math::policies::promote_double<false>, boost::math::policies::digits2<0>>>' requested here
   return ibeta_inv(a, b, p, static_cast<result_type*>(nullptr), pol);
          ^
/Library/Frameworks/R.framework/Versions/4.4-x86_64/Resources/library/StanHeaders/include/stan/math/prim/fun/inv_inc_beta.hpp:32:23: note: in instantiation of function template specialization 'boost::math::ibeta_inv<double, double, double, boost::math::policies::policy<boost::math::policies::overflow_error<boost::math::policies::errno_on_error>, boost::math::policies::pole_error<boost::math::policies::errno_on_error>, boost::math::policies::promote_double<false>, boost::math::policies::digits2<0>>>' requested here
  return boost::math::ibeta_inv(a, b, p, boost_policy_t<>());
                      ^
6 warnings generated.


clang++ -arch x86_64 -std=gnu++17 -I"/Library/Frameworks/R.framework/Resources/include" -DNDEBUG -I"../inst/include" -I"/Library/Frameworks/R.framework/Versions/4.4-x86_64/Resources/library/StanHeaders/include/src" -DBOOST_DISABLE_ASSERTS -DEIGEN_NO_DEBUG -DBOOST_MATH_OVERFLOW_ERROR_POLICY=errno_on_error -DUSE_STANC3 -D_HAS_AUTO_PTR_ETC=0 -I'/Library/Frameworks/R.framework/Versions/4.4-x86_64/Resources/library/BH/include' -I'/Library/Frameworks/R.framework/Versions/4.4-x86_64/Resources/library/Rcpp/include' -I'/Library/Frameworks/R.framework/Versions/4.4-x86_64/Resources/library/RcppEigen/include' -I'/Library/Frameworks/R.framework/Versions/4.4-x86_64/Resources/library/RcppParallel/include' -I'/Library/Frameworks/R.framework/Versions/4.4-x86_64/Resources/library/rstan/include' -I'/Library/Frameworks/R.framework/Versions/4.4-x86_64/Resources/library/StanHeaders/include' -I/opt/R/x86_64/include    -I'/Library/Frameworks/R.framework/Versions/4.4-x86_64/Resources/library/RcppParallel/include' -D_REENTRANT -DSTAN_THREADS   -fPIC  -falign-functions=64 -Wall -g -O2   -c stanExports_basics_regression_nospikes.cc -o stanExports_basics_regression_nospikes.o
In file included from stanExports_basics_regression_nospikes.cc:5:
In file included from ./stanExports_basics_regression_nospikes.h:23:
In file included from /Library/Frameworks/R.framework/Versions/4.4-x86_64/Resources/library/rstan/include/rstan/rstaninc.hpp:4:
In file included from /Library/Frameworks/R.framework/Versions/4.4-x86_64/Resources/library/rstan/include/rstan/stan_fit.hpp:21:
/Library/Frameworks/R.framework/Versions/4.4-x86_64/Resources/library/rstan/include/rstan/io/r_ostream.hpp:47:31: warning: 'rstan::io::r_cout_streambuf::xsputn' hides overloaded virtual function [-Woverloaded-virtual]
      virtual std::streamsize xsputn(const char_type* s, int n) {
                              ^
/Library/Developer/CommandLineTools/SDKs/MacOSX11.sdk/usr/include/c++/v1/streambuf:291:24: note: hidden overloaded virtual function 'std::basic_streambuf<char>::xsputn' declared here: type mismatch at 2nd parameter ('std::streamsize' (aka 'long') vs 'int')
    virtual streamsize xsputn(const char_type* __s, streamsize __n);
                       ^
In file included from stanExports_basics_regression_nospikes.cc:5:
In file included from ./stanExports_basics_regression_nospikes.h:23:
In file included from /Library/Frameworks/R.framework/Versions/4.4-x86_64/Resources/library/rstan/include/rstan/rstaninc.hpp:4:
In file included from /Library/Frameworks/R.framework/Versions/4.4-x86_64/Resources/library/rstan/include/rstan/stan_fit.hpp:21:
/Library/Frameworks/R.framework/Versions/4.4-x86_64/Resources/library/rstan/include/rstan/io/r_ostream.hpp:70:31: warning: 'rstan::io::r_cerr_streambuf::xsputn' hides overloaded virtual function [-Woverloaded-virtual]
      virtual std::streamsize xsputn(const char_type* s, int n) {
                              ^
/Library/Developer/CommandLineTools/SDKs/MacOSX11.sdk/usr/include/c++/v1/streambuf:291:24: note: hidden overloaded virtual function 'std::basic_streambuf<char>::xsputn' declared here: type mismatch at 2nd parameter ('std::streamsize' (aka 'long') vs 'int')
    virtual streamsize xsputn(const char_type* __s, streamsize __n);
                       ^
In file included from stanExports_basics_regression_nospikes.cc:5:
In file included from ./stanExports_basics_regression_nospikes.h:23:
In file included from /Library/Frameworks/R.framework/Versions/4.4-x86_64/Resources/library/rstan/include/rstan/rstaninc.hpp:4:
In file included from /Library/Frameworks/R.framework/Versions/4.4-x86_64/Resources/library/rstan/include/rstan/stan_fit.hpp:43:
In file included from /Library/Frameworks/R.framework/Versions/4.4-x86_64/Resources/library/StanHeaders/include/src/stan/io/dump.hpp:7:
In file included from /Library/Frameworks/R.framework/Versions/4.4-x86_64/Resources/library/StanHeaders/include/stan/math/prim.hpp:14:
In file included from /Library/Frameworks/R.framework/Versions/4.4-x86_64/Resources/library/StanHeaders/include/stan/math/prim/fun.hpp:35:
In file included from /Library/Frameworks/R.framework/Versions/4.4-x86_64/Resources/library/StanHeaders/include/stan/math/prim/fun/binomial_coefficient_log.hpp:13:
In file included from /Library/Frameworks/R.framework/Versions/4.4-x86_64/Resources/library/StanHeaders/include/stan/math/prim/functor/partials_propagator.hpp:8:
/Library/Frameworks/R.framework/Versions/4.4-x86_64/Resources/library/StanHeaders/include/stan/math/prim/functor/operands_and_partials.hpp:57:1: warning: 'ops_partials_edge' defined as a struct template here but previously declared as a class template; this is valid, but may result in linker errors under the Microsoft C++ ABI [-Wmismatched-tags]
struct ops_partials_edge<ViewElt, Op, require_st_arithmetic<Op>> {
^
/Library/Frameworks/R.framework/Versions/4.4-x86_64/Resources/library/StanHeaders/include/stan/math/prim/functor/operands_and_partials.hpp:45:1: note: did you mean struct here?
class ops_partials_edge;
^~~~~
struct
In file included from stanExports_basics_regression_nospikes.cc:5:
In file included from ./stanExports_basics_regression_nospikes.h:23:
In file included from /Library/Frameworks/R.framework/Versions/4.4-x86_64/Resources/library/rstan/include/rstan/rstaninc.hpp:4:
/Library/Frameworks/R.framework/Versions/4.4-x86_64/Resources/library/rstan/include/rstan/stan_fit.hpp:1252:9: warning: variable 'ret' set but not used [-Wunused-but-set-variable]
    int ret = stan::services::error_codes::CONFIG;
        ^
In file included from stanExports_basics_regression_nospikes.cc:5:
./stanExports_basics_regression_nospikes.h:695:11: warning: variable 'pos__' set but not used [-Wunused-but-set-variable]
      int pos__ = std::numeric_limits<int>::min();
          ^
In file included from stanExports_basics_regression_nospikes.cc:5:
In file included from ./stanExports_basics_regression_nospikes.h:23:
In file included from /Library/Frameworks/R.framework/Versions/4.4-x86_64/Resources/library/rstan/include/rstan/rstaninc.hpp:4:
In file included from /Library/Frameworks/R.framework/Versions/4.4-x86_64/Resources/library/rstan/include/rstan/stan_fit.hpp:43:
In file included from /Library/Frameworks/R.framework/Versions/4.4-x86_64/Resources/library/StanHeaders/include/src/stan/io/dump.hpp:7:
In file included from /Library/Frameworks/R.framework/Versions/4.4-x86_64/Resources/library/StanHeaders/include/stan/math/prim.hpp:14:
In file included from /Library/Frameworks/R.framework/Versions/4.4-x86_64/Resources/library/StanHeaders/include/stan/math/prim/fun.hpp:46:
In file included from /Library/Frameworks/R.framework/Versions/4.4-x86_64/Resources/library/StanHeaders/include/stan/math/prim/fun/choose.hpp:7:
In file included from /Library/Frameworks/R.framework/Versions/4.4-x86_64/Resources/library/BH/include/boost/math/special_functions/binomial.hpp:15:
In file included from /Library/Frameworks/R.framework/Versions/4.4-x86_64/Resources/library/BH/include/boost/math/special_functions/beta.hpp:1721:
/Library/Frameworks/R.framework/Versions/4.4-x86_64/Resources/library/BH/include/boost/math/special_functions/detail/ibeta_inverse.hpp:29:15: warning: unused variable 'x_extrema' [-Wunused-variable]
      const T x_extrema = 1 / (1 + a);
              ^
/Library/Frameworks/R.framework/Versions/4.4-x86_64/Resources/library/BH/include/boost/math/special_functions/detail/ibeta_inverse.hpp:304:7: note: in instantiation of member function 'boost::math::detail::temme_root_finder<double>::temme_root_finder' requested here
      temme_root_finder<T>(-lu, alpha), x, lower, upper, policies::digits<T, Policy>() / 2);
      ^
/Library/Frameworks/R.framework/Versions/4.4-x86_64/Resources/library/BH/include/boost/math/special_functions/detail/ibeta_inverse.hpp:615:20: note: in instantiation of function template specialization 'boost::math::detail::temme_method_2_ibeta_inverse<double, boost::math::policies::policy<boost::math::policies::pole_error<boost::math::policies::errno_on_error>, boost::math::policies::promote_float<false>, boost::math::policies::promote_double<false>>>' requested here
               x = temme_method_2_ibeta_inverse(a, b, p, r, theta, pol);
                   ^
/Library/Frameworks/R.framework/Versions/4.4-x86_64/Resources/library/BH/include/boost/math/special_functions/detail/ibeta_inverse.hpp:992:17: note: in instantiation of function template specialization 'boost::math::detail::ibeta_inv_imp<double, boost::math::policies::policy<boost::math::policies::pole_error<boost::math::policies::errno_on_error>, boost::math::policies::promote_float<false>, boost::math::policies::promote_double<false>>>' requested here
   rx = detail::ibeta_inv_imp(
                ^
/Library/Frameworks/R.framework/Versions/4.4-x86_64/Resources/library/BH/include/boost/math/special_functions/detail/ibeta_inverse.hpp:1023:11: note: in instantiation of function template specialization 'boost::math::ibeta_inv<double, double, double, double, boost::math::policies::policy<boost::math::policies::overflow_error<boost::math::policies::errno_on_error>, boost::math::policies::pole_error<boost::math::policies::errno_on_error>, boost::math::policies::promote_double<false>, boost::math::policies::digits2<0>>>' requested here
   return ibeta_inv(a, b, p, static_cast<result_type*>(nullptr), pol);
          ^
/Library/Frameworks/R.framework/Versions/4.4-x86_64/Resources/library/StanHeaders/include/stan/math/prim/fun/inv_inc_beta.hpp:32:23: note: in instantiation of function template specialization 'boost::math::ibeta_inv<double, double, double, boost::math::policies::policy<boost::math::policies::overflow_error<boost::math::policies::errno_on_error>, boost::math::policies::pole_error<boost::math::policies::errno_on_error>, boost::math::policies::promote_double<false>, boost::math::policies::digits2<0>>>' requested here
  return boost::math::ibeta_inv(a, b, p, boost_policy_t<>());
                      ^
6 warnings generated.
clang++ -arch x86_64 -std=gnu++17 -dynamiclib -Wl,-headerpad_max_install_names -undefined dynamic_lookup -L/Library/Frameworks/R.framework/Resources/lib -L/opt/R/x86_64/lib -o BASiCStan.so RcppExports.o stanExports_basics_regression.o stanExports_basics_regression_nospikes.o -L/Library/Frameworks/R.framework/Versions/4.4-x86_64/Resources/library/RcppParallel/lib -ltbb -ltbbmalloc -L/Library/Frameworks/R.framework/Versions/4.4-x86_64/Resources/library/RcppParallel/lib/ -Wl,-rpath,/Library/Frameworks/R.framework/Versions/4.4-x86_64/Resources/library/RcppParallel/lib/ -ltbb -ltbbmalloc -F/Library/Frameworks/R.framework/.. -framework R -Wl,-framework -Wl,CoreFoundation
installing to /Library/Frameworks/R.framework/Versions/4.4-x86_64/Resources/library/00LOCK-BASiCStan/00new/BASiCStan/libs
** R
** inst
** byte-compile and prepare package for lazy loading
** help
*** installing help indices
** building package indices
** installing vignettes
** testing if installed package can be loaded from temporary location
** checking absolute paths in shared objects and dynamic libraries
** testing if installed package can be loaded from final location
** testing if installed package keeps a record of temporary installation path
* DONE (BASiCStan)

Tests output

BASiCStan.Rcheck/tests/testthat.Rout


R version 4.4.1 (2024-06-14) -- "Race for Your Life"
Copyright (C) 2024 The R Foundation for Statistical Computing
Platform: x86_64-apple-darwin20

R is free software and comes with ABSOLUTELY NO WARRANTY.
You are welcome to redistribute it under certain conditions.
Type 'license()' or 'licence()' for distribution details.

R is a collaborative project with many contributors.
Type 'contributors()' for more information and
'citation()' on how to cite R or R packages in publications.

Type 'demo()' for some demos, 'help()' for on-line help, or
'help.start()' for an HTML browser interface to help.
Type 'q()' to quit R.

> library(testthat)
> library(BASiCStan)
Loading required package: BASiCS
Loading required package: SingleCellExperiment
Loading required package: SummarizedExperiment
Loading required package: MatrixGenerics
Loading required package: matrixStats

Attaching package: 'MatrixGenerics'

The following objects are masked from 'package:matrixStats':

    colAlls, colAnyNAs, colAnys, colAvgsPerRowSet, colCollapse,
    colCounts, colCummaxs, colCummins, colCumprods, colCumsums,
    colDiffs, colIQRDiffs, colIQRs, colLogSumExps, colMadDiffs,
    colMads, colMaxs, colMeans2, colMedians, colMins, colOrderStats,
    colProds, colQuantiles, colRanges, colRanks, colSdDiffs, colSds,
    colSums2, colTabulates, colVarDiffs, colVars, colWeightedMads,
    colWeightedMeans, colWeightedMedians, colWeightedSds,
    colWeightedVars, rowAlls, rowAnyNAs, rowAnys, rowAvgsPerColSet,
    rowCollapse, rowCounts, rowCummaxs, rowCummins, rowCumprods,
    rowCumsums, rowDiffs, rowIQRDiffs, rowIQRs, rowLogSumExps,
    rowMadDiffs, rowMads, rowMaxs, rowMeans2, rowMedians, rowMins,
    rowOrderStats, rowProds, rowQuantiles, rowRanges, rowRanks,
    rowSdDiffs, rowSds, rowSums2, rowTabulates, rowVarDiffs, rowVars,
    rowWeightedMads, rowWeightedMeans, rowWeightedMedians,
    rowWeightedSds, rowWeightedVars

Loading required package: GenomicRanges
Loading required package: stats4
Loading required package: BiocGenerics

Attaching package: 'BiocGenerics'

The following objects are masked from 'package:stats':

    IQR, mad, sd, var, xtabs

The following objects are masked from 'package:base':

    Filter, Find, Map, Position, Reduce, anyDuplicated, aperm, append,
    as.data.frame, basename, cbind, colnames, dirname, do.call,
    duplicated, eval, evalq, get, grep, grepl, intersect, is.unsorted,
    lapply, mapply, match, mget, order, paste, pmax, pmax.int, pmin,
    pmin.int, rank, rbind, rownames, sapply, setdiff, table, tapply,
    union, unique, unsplit, which.max, which.min

Loading required package: S4Vectors

Attaching package: 'S4Vectors'

The following object is masked from 'package:utils':

    findMatches

The following objects are masked from 'package:base':

    I, expand.grid, unname

Loading required package: IRanges
Loading required package: GenomeInfoDb
Loading required package: Biobase
Welcome to Bioconductor

    Vignettes contain introductory material; view with
    'browseVignettes()'. To cite Bioconductor, see
    'citation("Biobase")', and for packages 'citation("pkgname")'.


Attaching package: 'Biobase'

The following object is masked from 'package:MatrixGenerics':

    rowMedians

The following objects are masked from 'package:matrixStats':

    anyMissing, rowMedians

    Welcome to 'BASiCS'. If you used 'BASiCS' before its release in
    Bioconductor, please visit:
    https://github.com/catavallejos/BASiCS/wiki.
Loading required package: rstan
Loading required package: StanHeaders

rstan version 2.32.6 (Stan version 2.32.2)

For execution on a local, multicore CPU with excess RAM we recommend calling
options(mc.cores = parallel::detectCores()).
To avoid recompilation of unchanged Stan programs, we recommend calling
rstan_options(auto_write = TRUE)
For within-chain threading using `reduce_sum()` or `map_rect()` Stan functions,
change `threads_per_chain` option:
rstan_options(threads_per_chain = 1)

> 
> test_check("BASiCStan")
[ FAIL 0 | WARN 0 | SKIP 0 | PASS 12 ]
> 
> proc.time()
   user  system elapsed 
 94.384   3.409 123.037 

Example timings

BASiCStan.Rcheck/BASiCStan-Ex.timings

nameusersystemelapsed
BASiCStan4.2260.2156.212
Stan2BASiCS2.6220.1243.858