Back to Multiple platform build/check report for BioC 3.19:   simplified   long
[A]BCDEFGHIJKLMNOPQRSTUVWXYZ

This page was generated on 2024-05-28 11:35:27 -0400 (Tue, 28 May 2024).

HostnameOSArch (*)R versionInstalled pkgs
nebbiolo1Linux (Ubuntu 22.04.3 LTS)x86_644.4.0 (2024-04-24) -- "Puppy Cup" 4752
lconwaymacOS 12.7.1 Montereyx86_644.4.0 (2024-04-24) -- "Puppy Cup" 4517
Click on any hostname to see more info about the system (e.g. compilers)      (*) as reported by 'uname -p', except on Windows and Mac OS X

Package 100/2300HostnameOS / ArchINSTALLBUILDCHECKBUILD BIN
ASpli 2.14.0  (landing page)
Ariel Chernomoretz
Snapshot Date: 2024-05-27 14:00:08 -0400 (Mon, 27 May 2024)
git_url: https://git.bioconductor.org/packages/ASpli
git_branch: RELEASE_3_19
git_last_commit: 11a1f6e
git_last_commit_date: 2024-04-30 10:52:43 -0400 (Tue, 30 Apr 2024)
nebbiolo1Linux (Ubuntu 22.04.3 LTS) / x86_64  OK    OK    WARNINGS  UNNEEDED, same version is already published
lconwaymacOS 12.7.1 Monterey / x86_64  OK    OK    WARNINGS    OK  UNNEEDED, same version is already published
kjohnson3macOS 13.6.5 Ventura / arm64see weekly results here

INSTALL results for ASpli on lconway


To the developers/maintainers of the ASpli package:
- Allow up to 24 hours (and sometimes 48 hours) for your latest push to git@git.bioconductor.org:packages/ASpli.git to reflect on this report. See Troubleshooting Build Report for more information.
- Use the following Renviron settings to reproduce errors and warnings.
- If 'R CMD check' started to fail recently on the Linux builder(s) over a missing dependency, add the missing dependency to 'Suggests:' in your DESCRIPTION file. See Renviron.bioc for more information.

raw results


Summary

Package: ASpli
Version: 2.14.0
Command: /Library/Frameworks/R.framework/Resources/bin/R CMD INSTALL ASpli
StartedAt: 2024-05-27 15:31:54 -0400 (Mon, 27 May 2024)
EndedAt: 2024-05-27 15:33:21 -0400 (Mon, 27 May 2024)
EllapsedTime: 86.3 seconds
RetCode: 0
Status:   OK  

Command output

##############################################################################
##############################################################################
###
### Running command:
###
###   /Library/Frameworks/R.framework/Resources/bin/R CMD INSTALL ASpli
###
##############################################################################
##############################################################################


* installing to library ‘/Library/Frameworks/R.framework/Versions/4.4-x86_64/Resources/library’
* installing *source* package ‘ASpli’ ...
** using staged installation
** R
** inst
** byte-compile and prepare package for lazy loading
Warning: replacing previous import ‘utils::findMatches’ by ‘S4Vectors::findMatches’ when loading ‘ASpli’
** help
*** installing help indices
** building package indices
** installing vignettes
** testing if installed package can be loaded from temporary location
Warning: replacing previous import ‘utils::findMatches’ by ‘S4Vectors::findMatches’ when loading ‘ASpli’
** testing if installed package can be loaded from final location
Warning: replacing previous import ‘utils::findMatches’ by ‘S4Vectors::findMatches’ when loading ‘ASpli’
** testing if installed package keeps a record of temporary installation path
* DONE (ASpli)