Index of /checkResults/devel/workflows-LATEST/SingscoreAMLMutations/raw-results
Name
Last modified
Size
Description
Parent Directory
-
palomino4/
04-May-2024 03:00
-
nebbiolo2/
04-May-2024 03:00
-
merida1/
04-May-2024 03:00
-
info.dcf
04-May-2024 03:00
296