Index of /checkResults/devel/workflows-LATEST/SingscoreAMLMutations/raw-results/merida1
Name
Last modified
Size
Description
Parent Directory
-
buildsrc-out.txt
04-May-2024 03:00
1.4K
buildsrc-summary.dcf
04-May-2024 03:00
470
install-out.txt
04-May-2024 03:00
1.6K
install-summary.dcf
04-May-2024 03:00
297