Index of /checkResults/devel/data-experiment-LATEST/yeastNagalakshmi/raw-results

[ICO]NameLast modifiedSizeDescription

[DIR]Parent Directory  -  
[   ]info.dcf17-Aug-2022 03:50 309  
[DIR]nebbiolo2/17-Aug-2022 03:50 -