Index of /checkResults/devel/data-experiment-LATEST/restfulSEData/raw-results/nebbiolo1

[ICO]NameLast modifiedSizeDescription

[DIR]Parent Directory  -  
[TXT]buildsrc-out.txt28-Feb-2024 04:51 830  
[   ]buildsrc-summary.dcf28-Feb-2024 04:51 435  
[TXT]checksrc-out.txt28-Feb-2024 04:51 3.6K 
[   ]checksrc-summary.dcf28-Feb-2024 04:51 438  
[TXT]install-out.txt28-Feb-2024 04:51 970  
[   ]install-summary.dcf28-Feb-2024 04:51 271