Index of /checkResults/devel/data-experiment-LATEST/restfulSEData/raw-results/nebbiolo1

[ICO]NameLast modifiedSizeDescription

[DIR]Parent Directory  -  
[   ]install-summary.dcf27-Mar-2024 03:51 271  
[   ]buildsrc-summary.dcf27-Mar-2024 03:51 435  
[   ]checksrc-summary.dcf27-Mar-2024 03:51 438  
[TXT]buildsrc-out.txt27-Mar-2024 03:51 830  
[TXT]install-out.txt27-Mar-2024 03:51 970  
[TXT]checksrc-out.txt27-Mar-2024 03:51 3.6K