Index of /checkResults/devel/data-experiment-LATEST/restfulSEData/raw-results

[ICO]NameLast modifiedSizeDescription

[DIR]Parent Directory  -  
[   ]info.dcf01-Jul-2022 03:50 303  
[DIR]nebbiolo2/01-Jul-2022 03:50 -