Index of /checkResults/devel/data-experiment-LATEST/restfulSEData/raw-results

[ICO]NameLast modifiedSizeDescription

[DIR]Parent Directory  -  
[   ]info.dcf05-Aug-2022 03:50 303  
[DIR]nebbiolo2/05-Aug-2022 03:50 -