Back to Build/check report for BioC 3.17 experimental data
ABCDEFGHIJKLMNOPQ[R]STUVWXYZ

This page was generated on 2023-03-21 14:51:30 -0400 (Tue, 21 Mar 2023).

HostnameOSArch (*)R versionInstalled pkgs
nebbiolo1Linux (Ubuntu 22.04.1 LTS)x86_64R Under development (unstable) (2023-03-16 r83996) -- "Unsuffered Consequences" 4505
Click on any hostname to see more info about the system (e.g. compilers)      (*) as reported by 'uname -p', except on Windows and Mac OS X

All results for package restfulSEData


To the developers/maintainers of the restfulSEData package:
Make sure to use the following settings in order to reproduce any error or warning you see on this page.

raw results

Package 311/417HostnameOS / ArchINSTALLBUILDCHECK
restfulSEData 1.21.0  (landing page)
Bioconductor Package Maintainer
Snapshot Date: 2023-03-21 07:30:02 -0400 (Tue, 21 Mar 2023)
git_url: https://git.bioconductor.org/packages/restfulSEData
git_branch: master
git_last_commit: 3d68811
git_last_commit_date: 2022-11-01 11:16:43 -0400 (Tue, 01 Nov 2022)
nebbiolo1Linux (Ubuntu 22.04.1 LTS) / x86_64  OK    OK    OK  UNNEEDED, same version is already published