Index of /checkResults/devel/data-experiment-LATEST/RnBeads.mm9/raw-results

[ICO]NameLast modifiedSizeDescription

[DIR]Parent Directory  -  
[   ]info.dcf22-May-2024 03:51 286  
[DIR]nebbiolo2/22-May-2024 03:51 -