Index of /checkResults/devel/data-experiment-LATEST/RnBeads.mm9/raw-results
Name
Last modified
Size
Description
Parent Directory
-
nebbiolo1/
27-Mar-2024 03:51
-
info.dcf
27-Mar-2024 03:51
286