Index of /checkResults/devel/data-experiment-LATEST/RNAinteractMAPK/raw-results
Name
Last modified
Size
Description
Parent Directory
-
info.dcf
07-Jun-2023 03:51
276
nebbiolo2/
07-Jun-2023 03:51
-