Index of /checkResults/devel/data-experiment-LATEST/EatonEtAlChIPseq/raw-results

[ICO]NameLast modifiedSizeDescription

[DIR]Parent Directory  -  
[   ]info.dcf25-May-2022 03:50 284  
[DIR]nebbiolo2/25-May-2022 03:50 -