Index of /checkResults/devel/data-experiment-LATEST/ChAMPdata/raw-results

[ICO]NameLast modifiedSizeDescription

[DIR]Parent Directory  -  
[   ]info.dcf21-Jun-2024 03:51 264  
[DIR]nebbiolo2/21-Jun-2024 03:51 -