Index of /checkResults/devel/bioc-LATEST/ternarynet/raw-results/palomino3

[ICO]NameLast modifiedSizeDescription

[DIR]Parent Directory  -  
[TXT]buildbin-out.txt28-Jan-2023 01:08 12K 
[   ]buildbin-summary.dcf28-Jan-2023 01:08 533  
[TXT]buildsrc-out.txt29-Jan-2023 01:08 966  
[   ]buildsrc-summary.dcf29-Jan-2023 01:08 464  
[TXT]checksrc-out.txt29-Jan-2023 01:08 4.4K 
[   ]checksrc-summary.dcf29-Jan-2023 01:08 458  
[TXT]install-out.txt29-Jan-2023 01:08 12K 
[   ]install-summary.dcf29-Jan-2023 01:08 274