![]() | Name | Last modified | Size | Description |
---|---|---|---|---|
![]() | Parent Directory | - | ||
![]() | install-summary.dcf | 29-Mar-2023 00:06 | 274 | |
![]() | checksrc-summary.dcf | 29-Mar-2023 00:06 | 458 | |
![]() | buildsrc-summary.dcf | 29-Mar-2023 00:06 | 464 | |
![]() | buildbin-summary.dcf | 29-Mar-2023 00:06 | 533 | |
![]() | buildsrc-out.txt | 29-Mar-2023 00:06 | 966 | |
![]() | checksrc-out.txt | 29-Mar-2023 00:06 | 4.4K | |
![]() | install-out.txt | 29-Mar-2023 00:06 | 12K | |
![]() | buildbin-out.txt | 29-Mar-2023 00:06 | 12K | |