Index of /checkResults/devel/bioc-LATEST/singleCellTK/raw-results
Name
Last modified
Size
Description
Parent Directory
-
info.dcf
24-Mar-2023 00:07
266
merida1/
24-Mar-2023 00:07
-
nebbiolo1/
24-Mar-2023 00:05
-
palomino3/
24-Mar-2023 00:06
-