Name | Last modified | Size | Description | |
---|---|---|---|---|
Parent Directory | - | |||
buildsrc-out.txt | 30-Apr-2024 00:41 | 900 | ||
buildsrc-summary.dcf | 30-Apr-2024 00:41 | 443 | ||
checksrc-out.txt | 30-Apr-2024 00:41 | 6.4K | ||
checksrc-summary.dcf | 30-Apr-2024 00:41 | 472 | ||
install-out.txt | 30-Apr-2024 00:41 | 1.0K | ||
install-summary.dcf | 30-Apr-2024 00:41 | 280 | ||