Name | Last modified | Size | Description | |
---|---|---|---|---|
Parent Directory | - | |||
buildbin-out.txt | 29-Mar-2024 00:40 | 1.4K | ||
buildbin-summary.dcf | 29-Mar-2024 00:40 | 559 | ||
buildsrc-out.txt | 29-Mar-2024 00:40 | 899 | ||
buildsrc-summary.dcf | 29-Mar-2024 00:40 | 441 | ||
checksrc-out.txt | 29-Mar-2024 00:40 | 6.1K | ||
checksrc-summary.dcf | 29-Mar-2024 00:40 | 468 | ||
install-out.txt | 29-Mar-2024 00:40 | 1.2K | ||
install-summary.dcf | 29-Mar-2024 00:40 | 279 | ||