![]() | Name | Last modified | Size | Description |
---|---|---|---|---|
![]() | Parent Directory | - | ||
![]() | buildsrc-out.txt | 10-Dec-2023 02:25 | 649 | |
![]() | buildsrc-summary.dcf | 10-Dec-2023 02:25 | 347 | |
![]() | checksrc-out.txt | 09-Dec-2023 02:25 | 6.3K | |
![]() | checksrc-summary.dcf | 09-Dec-2023 02:25 | 444 | |
![]() | install-out.txt | 10-Dec-2023 02:25 | 967 | |
![]() | install-summary.dcf | 10-Dec-2023 02:25 | 266 | |