############################################################################## ############################################################################## ### ### Running command: ### ### /home/biocbuild/R/R-4.4-devel-2023.11.02/bin/R CMD build --keep-empty-dirs --no-resave-data scAnnotatR ### ############################################################################## ############################################################################## * checking for file ‘scAnnotatR/DESCRIPTION’ ... OK * preparing ‘scAnnotatR’: * checking DESCRIPTION meta-information ... OK * installing the package to build vignettes ----------------------------------- ERROR: dependency ‘Seurat’ is not available for package ‘scAnnotatR’ * removing ‘/home/biocbuild/tmp/RtmpzBYfhY/Rinst3221671eb6143f/scAnnotatR’ ----------------------------------- ERROR: package installation failed