Index of /checkResults/devel/bioc-LATEST/scAnnotatR/raw-results/kunpeng2

[ICO]NameLast modifiedSizeDescription

[DIR]Parent Directory  -  
[TXT]buildsrc-out.txt03-Dec-2023 01:39 911  
[   ]buildsrc-summary.dcf03-Dec-2023 01:39 346  
[TXT]install-out.txt03-Dec-2023 01:39 670  
[   ]install-summary.dcf03-Dec-2023 01:39 275