Index of /checkResults/devel/bioc-LATEST/rrvgo/raw-results
Name
Last modified
Size
Description
Parent Directory
-
info.dcf
22-May-2022 00:08
265
lconway/
22-May-2022 00:08
-
nebbiolo2/
22-May-2022 00:05
-
palomino4/
22-May-2022 00:07
-