![]() | Name | Last modified | Size | Description |
---|---|---|---|---|
![]() | Parent Directory | - | ||
![]() | buildsrc-out.txt | 24-Sep-2023 00:40 | 792 | |
![]() | buildsrc-summary.dcf | 24-Sep-2023 00:40 | 406 | |
![]() | checksrc-out.txt | 24-Sep-2023 00:40 | 4.2K | |
![]() | checksrc-summary.dcf | 24-Sep-2023 00:40 | 394 | |
![]() | install-out.txt | 24-Sep-2023 00:40 | 934 | |
![]() | install-summary.dcf | 24-Sep-2023 00:40 | 249 | |