![]() | Name | Last modified | Size | Description |
---|---|---|---|---|
![]() | Parent Directory | - | ||
![]() | buildsrc-out.txt | 22-Sep-2023 00:37 | 798 | |
![]() | buildsrc-summary.dcf | 22-Sep-2023 00:37 | 411 | |
![]() | checksrc-out.txt | 22-Sep-2023 00:37 | 4.3K | |
![]() | checksrc-summary.dcf | 22-Sep-2023 00:37 | 406 | |
![]() | install-out.txt | 22-Sep-2023 00:37 | 946 | |
![]() | install-summary.dcf | 22-Sep-2023 00:37 | 255 | |