Index of /checkResults/devel/bioc-LATEST/phenoTest/raw-results/palomino4

[ICO]NameLast modifiedSizeDescription

[DIR]Parent Directory  -  
[TXT]buildbin-out.txt02-Jul-2022 00:06 1.2K 
[   ]buildbin-summary.dcf02-Jul-2022 00:06 545  
[TXT]buildsrc-out.txt02-Jul-2022 00:06 909  
[   ]buildsrc-summary.dcf02-Jul-2022 00:06 460  
[TXT]checksrc-out.txt02-Jul-2022 00:06 25K 
[   ]checksrc-summary.dcf02-Jul-2022 00:06 464  
[TXT]install-out.txt02-Jul-2022 00:06 1.8K 
[   ]install-summary.dcf02-Jul-2022 00:06 646